Workbook
Name \A: #REF!
Name \B: #REF!
Name \C: #REF!
Name \M: #REF!
Name \N: #REF!
Name \P: #REF!
Name \R: #REF!
Name \U: #REF!
Name \V: #REF!
Name ab: #REF!
Name logo1: "Picture 7"
Name TEST: #REF!

Sheet Basic Data
A2: Enter basic data here
A3: [Fill up data only in the relevent open area]
A5: 1 | B5: Name of Package
A7: 2 | B7: Specification No.
A9: 3 | B9: Package Code
A11: 4 | B11: Item Description | C11: ACSR ZEBRA Conductor
A12: 5 | B12: Quantity in km. | C12: 6615
A14: 6 | B14: Type Tests | C14: Tests to be conducted | E14: Nos of tests

Sheet Cover
B1: General guidelines for filling up the Price Schedules, Discount Letter & Bid Form for 2nd Envelope
B2: Construction of 30mtrsx15mtrs x 7mtrs Truss less GIS store at 400/220KV GIS Sub-Station, Navi Mumbai
B3: Specification No.: WR-I/RPC/VRL/NIT-114/I-664-2026/RFX-5002005652
B4: 1 | C4: Fill up only green shaded cells in Sch-1, Sch-2, Sch-3 & Discount.
B5: 2 | C5: All the cells in Sch-5 are auto filled, therefore no cell is required to be filled up there.
B6: 3 | C6: Instructions / error messages, if any, will be displayed automatically after selecting the cell.
B7: 4 | C7: The price quoted in respect of all items shall be excluding GST applicable on transaction between the Employer and the Contractor
B11: पावर ग्रिड कारपोरेशन ऑफ इण्डिया लिमिटेड
B12: (भारत सरकार का उद्यम)
B13: Power Grid Corporation of India Limited
B14: (A Government of India Enterprises)

Sheet Names of Bidder
B1: =Cover!$B$2 -> Construction of 30mtrsx15mtrs x 7mtrs Truss less GIS store at 400/220KV GIS Sub-Station, Navi Mumbai
B2: =Cover!B3 -> Specification No.: WR-I/RPC/VRL/NIT-114/I-664-2026/RFX-5002005652 | AA2: Manufacturer | AB2: 1
AA3: Authorized Dealer/ Sub-dealer of Manufacturer | AB3: 2
B4: Enter following details of the bidder | AA4: Authorized Representative of Manufacturer
B6: Specify type of Bidder [Select from drop down menu] | AA6: =IF(D6= "Sole Bidder", 0,#REF!) -> #REF!
B8: Name of Bidder
B9: Address
B10: Mob No
B11: E mail
B13: =IF(D6="Individual Firm","",IF(D6="Licensee of a Manufacturer","Name of Manufacturer [Licenser]","Name of Manufacturer")) -> Name of Manufacturer
B14: Address
B18: Printed Name
B19: Designation
B20: PhoneNo/ Mobile No.
B21: e-mail ID
B23: Date
B24: Place

Sheet   Sch-1
A1: =Cover!B3 -> Specification No.: WR-I/RPC/VRL/NIT-114/I-664-2026/RFX-5002005652
A3: =Cover!$B$2 -> Construction of 30mtrsx15mtrs x 7mtrs Truss less GIS store at 400/220KV GIS Sub-Station, Navi Mumbai
A4: (SCHEDULE OF RATES AND PRICES : - Scheduled Items ) PART A
A6: Bidder’s Name and Address | F6: To:
A7: ="Bidder as "& 'Names of Bidder'!D6 -> Bidder as | F7: Regional Procurement Centre
A8: Name : | C8: =IF('Names of Bidder'!D8=0, "", 'Names of Bidder'!D8) | F8: Power Grid Corporation of India Ltd.,
A9: Address : | C9: =IF('Names of Bidder'!D9=0, "", 'Names of Bidder'!D9) | F9: Western Region -I Headquarters
C10: =IF('Names of Bidder'!D10=0, "", 'Names of Bidder'!D10) | F10: Sampriti Nagar, Nari Ring Road
C11: =IF('Names of Bidder'!D11=0, "", 'Names of Bidder'!D11) | F11: PO: Uppalwadi, Nagpur (MS) -440026
G13: All values are in Indian Rupees.
A14: SI. No. | B14: Item No. | C14: Item Description | D14: Unit | E14: Qty. | F14: Rate | G14: Amount
A15: 1 | B15: 2 | C15: 3 | D15: 4 | E15: 5 | F15: 6 | G15: 7 = 5 x 6
A17: ITEM DESCRIPTION AS PER DSR'2023(SCHEDULED ITEMS)
C18: Part-A (Schedule Items)
A19: 1 | B19: 2.1 | C19: Earth work in surface excavation not exceeding 30 cm in depth butexceeding 1.5 m in width as well as 10 sqm on plan including gettingout and disposal of excavated earth upto 50 m and lift upto 1.5 m, as directed by Engineer-in- Charge: | G19: =E19*F19 -> 0
B20: 2.1.1 | C20: All kinds of soil | D20: sqm | E20: 50 | G20: =E20*F20 -> 0
A21: 2 | B21: 2.6 | C21: Earth work in excavation by mechanical means (Hydraulic excavator)/manual means over areas (exceeding 30 cm in depth, 1.5 m in width as well as 10 sqm on plan) including getting out and disposal of excavated earth lead upto 50 m and lift upto 1.5 m, as directed by Engineer-in-charge. | G21: =E21*F21 -> 0
B22: 2.6.1 | C22: All kinds of soil | D22: cum | E22: 269 | G22: =E22*F22 -> 0
A23: 3 | B23: 2.8 | C23: Earth work in excavation by mechanical means (Hydraulic excavator) / manual means in foundation trenches or drains (not exceeding 1.5 m in width or 10 sqm on plan), including dressing of sides and ramming of bottoms, lift upto 1.5 m, including getting out the excavated soil and disposal of surplus excavated soil as directed, within a lead of 50 m. | G23: =E23*F23 -> 0
B24: 2.8.1 | C24: All kinds of soil. | D24: cum | E24: 128 | G24: =E24*F24 -> 0
A25: 4 | B25: 2.1 | C25: Excavating trenches of required width for pipes, cables, etc including excavation for sockets, and dressing of sides, ramming of bottoms, depth upto 1.5 m, including getting out the excavated soil, and then returning the soil as required, in layers not exceeding 20 cm in depth, including consolidating each deposited layer by ramming, watering, etc. and disposing of surplus excavated soil as directed, within a lead of 50 m : | G25: =E25*F25 -> 0
B26: 2.10.1 | C26: All kinds of soil | G26: =E26*F26 -> 0
B27: 2.10.1.2 | C27: Pipes, cables etc. exceeding 80 mm dia. but not exceeding 300 mm dia | D27: metre | E27: 100 | G27: =E27*F27 -> 0
A28: 5 | B28: 2.25 | C28: Filling available excavated earth (excluding rock) in trenches, plinth, sides of foundations etc. in layers not exceeding 20cm in depth, consolidating each deposited layer by ramming and watering, lead upto 50 m and lift upto 1.5 m. | D28: cum | E28: 242 | G28: =E28*F28 -> 0
A29: 6 | B29: 2.26 | C29: Extra for every additional lift of 1.5 m or part thereof in excavation / banking excavated or stacked materials. | G29: =E29*F29 -> 0
B30: 2.26.1 | C30: All kinds of Soil | D30: cum | E30: 68 | G30: =E30*F30 -> 0
A31: 7 | B31: 4.1 | C31: Providing and laying in position cement concrete of specified grade excluding the cost of centering and shuttering - All work up to plinth level : | G31: =E31*F31 -> 0
B32: 4.1.3 | C32: 1:2:4 (1 cement : 2 coarse sand (zone-III) : 4 graded stone aggregate 20 mm nominal size) | D32: cum | E32: 9 | G32: =E32*F32 -> 0
A33: 8 | B33: 4.1.8 | C33: 1:4:8 (1 Cement : 4 coarse sand (zone-III) : 8 graded stone aggregate 40 mm nominal size) | D33: cum | E33: 69 | G33: =E33*F33 -> 0
A34: 9 | B34: 4.3 | C34: Centering and shuttering including strutting, propping etc. and removal of form work for : | G34: =E34*F34 -> 0
B35: 4.3.1 | C35: Foundations, footings, bases of columns | D35: sqm | E35: 8 | G35: =E35*F35 -> 0
A36: 10 | B36: 4.12 | C36: Extra for providing and mixing water proofing material in cement concrete work in doses by weight of cement as per manufacturer's specification. | D36: per bag of 50kg cement used | E36: 15 | G36: =E36*F36 -> 0
A37: 11 | B37: 4.17 | C37: Making plinth protection 50mm thick of cement concrete 1:3:6 (1 cement : 3 coarse sand : 6 graded stone aggregate 20 mm nominal size) over 75mm thick bed of dry brick ballast 40 mm nominal size, well rammed and consolidated and grouted with fine sand, including necessary excavation, levelling & dressing & finishing the top smooth. | D37: sqm | E37: 104 | G37: =E37*F37 -> 0
A38: 12 | B38: 5.1 | C38: Providing and laying in position specified grade of reinforced cement concrete, excluding the cost of centering, shuttering, finishing and reinforcement - All work up to plinth level : | G38: =E38*F38 -> 0
B39: 5.1.2 | C39: 1:1.5:3 (1 cement : 1.5 coarse sand (zone-III): 3 graded stone aggregate 20 mm nominal size). | D39: cum | E39: 139 | G39: =E39*F39 -> 0
A40: 13 | B40: 5.2 | C40: Reinforced cement concrete work in walls (any thickness), including attached pilasters, buttresses, plinth and string courses, fillets, columns, pillars, piers, abutments, posts and struts etc. above plinth level up to floor five level, excluding cost of centering, shuttering, finishing and reinforcement : | G40: =E40*F40 -> 0
B41: 5. 2. 2 | C41: 1:1.5:3 (1 cement : 1.5 coarse sand(zone-III) : 3 graded stone aggregate 20 mm nominal size). | D41: cum | E41: 22 | G41: =E41*F41 -> 0
A42: 14 | B42: 5.3 | C42: Reinforced cement concrete work in beams, suspended floors, roofs having slope up to 15° landings, balconies, shelves, chajjas, lintels, bands, plain window sills, staircases and spiral stair cases above plinth level up to floor five level, excluding the cost of centering, shuttering, finishing and reinforcement with 1:1.5:3 (1 cement : 1.5 coarse sand(zone-III) : 3 graded stone aggregate 20 mm nominal size). | D42: cum | E42: 28 | G42: =E42*F42 -> 0
A43: 15 | B43: 5.9 | C43: Centering and shuttering including strutting, propping etc. and removal of form for all heights : | G43: =E43*F43 -> 0
B44: 5.9.1 | C44: Foundations, footings, bases of columns etc. for mass concrete | D44: sqm | E44: 123 | G44: =E44*F44 -> 0
...

Sheet   Sch-2
A1: =Cover!B3 -> Specification No.: WR-I/RPC/VRL/NIT-114/I-664-2026/RFX-5002005652 | G1: Schedule - 2
A3: =Cover!$B$2 -> Construction of 30mtrsx15mtrs x 7mtrs Truss less GIS store at 400/220KV GIS Sub-Station, Navi Mumbai
A4: SCHEDULE OF RATES AND PRICES : PART-B-
A5: Local Transportation, In-transit Insurance, Loading and Unloading
A6: =' Sch-1'!A6 -> Bidder’s Name and Address | F6: To:
A7: =' Sch-1'!A7 -> Bidder as | F7: Regional Procurement Centre
A8: Name : | C8: =IF(' Sch-1'!C8=0, "", ' Sch-1'!C8) | F8: Power Grid Corporation of India Ltd.,
A9: Address : | C9: =IF(' Sch-1'!C9=0, "", ' Sch-1'!C9) | F9: Western Region -I Headquarters
C10: =IF(' Sch-1'!C10=0, "", ' Sch-1'!C10) | F10: Sampriti Nagar, Nari Ring Road
C11: =IF(' Sch-1'!C11=0, "", ' Sch-1'!C11) | F11: PO: Uppalwadi, Nagpur (MS) -440026
G13: All values are in Indian Rupees.
A14: SI. No. | B14: Item no. | C14: Item Description | D14: Unit | E14: Qty. | F14: Rate | G14: Amount
A15: 1 | B15: 2 | C15: 3 | D15: 4 | E15: 5 | F15: 6 | G15: 7 = 5 x 6
C16: NON SCHEDULE
A17: 1 | B17: NS-1 | C17: Supplying and filling of good quality moorum in foundation, plinth & floorsin layers not exceeding 20 cm in depth , breaking clods , watering , ramming & compacting each layer with vibrator condition to give atleast 95% of the maximum dry density. The operation shall include all leads and lifts etc all complete.Compacted volume of moorum shall be measured for payment | D17: cum | E17: 1061 | G17: =E17*F17 -> 0
C18: Note: The tests specified for compaction as per FQP shall deemed to be included in this items. | G18: =E18*F18 -> 0
A19: 2 | B19: NS-2 | C19: Providing and fixing motorised cum mechanical operation rolling shutter made of Glavalume sheet. The laths of curtain shall be made of min 1.00 mm thick single skinned galvalume sheet & with profile height of approx 120mm. The Side Guides shall be min 2.0mm thick galvanised steel with seals fitted to lips of guides to prevent metal to metal contact to ensure smooth & quite operation. The hood shall be made of min. 1mm thk pressed galvalume sheet. Bottom Profile, Locking Arrangements, shaft, support bracket shall be provided as per manufacturer specification. Laths, Side Guides, Hood & Motor Cover, Bottom Profile, Shaft & Brackets etc shall be finished with 02 coats of polyurethane spray paint over one coat of epoxy primer. Rolling shutter shall be provided with direct driven by motor of sufficient capacity with safety mechanism, control switch, push button etc complete. The rolling shutter shall also be provided for manual operation such as mechanical device, chain and crank operation for operating rolling shutters. This items shall be read in conjuction with technical specification. | D19: sqm | E19: 4200 | G19: =E19*F19 -> 0
A20: 3 | B20: NS-3 | C20: Masonry work with Fly ash bricks of minimum compressive strength of 50 Kg- cm2 in foundation and plinth in cement mortar 1:6 ( 1 cement :6 coarse sand.) | D20: cum | E20: 4500 | G20: =E20*F20 -> 0
A21: 4 | B21: NS-4 | C21: Masonry work with Fly ash bricks of minimum compressive strength of 50 Kg- cm2 in superstructure above plinth level upto floor V level in all shapes and sizes in cement mortar 1:6 (1 cement :6 coarse sand.) | D21: cum | E21: 7670 | G21: =E21*F21 -> 0
A22: 5 | B22: NS-5 | C22: Providing and fixing self supported roof of proflex or equivalent of colour coated Galvalume sheet of minimum base material thickness ( BMT) of 0.80mm and APT of 85mm including all fixers and arrangements. | D22: sqm | E22: 1800 | G22: =E22*F22 -> 0
A23: 6 | B23: NS-6 | C23: Providing and fixing 24 inch diameter Aluminium turbo ventilator with 42 vanes of aluminium of 0.50 mm thick top and bottom SS 304 double Z bearings permanently greased with all type of fixtures | D23: each | E23: 16500 | G23: =E23*F23 -> 0
A24: 7 | B24: NS-7 | C24: Supply of hanger/ clamp for fixing lamp and fans as per requirement | D24: each | E24: 500 | G24: =E24*F24 -> 0
A25: 8 | B25: NS-8 | C25: Providing and fixing 2 mm thick polycarbonate transperent sheet coated with 50 micron UV layer at top and bottom (Each sheet shall be of 0.61 m wide and 2.0 long) for natural ventilation of light | D25: each | E25: 2080 | G25: =E25*F25 -> 0
A26: 9 | B26: NS-9 | C26: Finishing the freshly laid RCC floor slab/ surface with screed board vibrator, vacuum dewatering process and finally finished by floating coat of neat cement etc. complete as per CPWD specifications and directions of Engineer-in-charge. No brooming to be done on top surface. RCC & Reinforcement shall be paid in the respctive item of BOQ. | D26: cum | E26: 1800 | G26: =E26*F26 -> 0
C27: Total for PART-B- (Excluding GST) : | G27: =SUM(G17:G26) -> 0
A29: Date : | C29: =IF(' Sch-1'!C102=0,"", ' Sch-1'!C102) | F29: =' Sch-1'!F102 -> Printed Name : | G29: =IF(' Sch-1'!G102=0,"",' Sch-1'!G102)
A30: Place : | C30: =IF(' Sch-1'!C103=0,"", ' Sch-1'!C103) | F30: Designation : | G30: =IF(' Sch-1'!G103=0,"",' Sch-1'!G103)

Sheet  (Part-III) Sch-1
A1: =Cover!B3 -> Specification No.: WR-I/RPC/VRL/NIT-114/I-664-2026/RFX-5002005652
A3: =Cover!$B$2 -> Construction of 30mtrsx15mtrs x 7mtrs Truss less GIS store at 400/220KV GIS Sub-Station, Navi Mumbai
A4: (SCHEDULE OF RATES AND PRICES : PART-III (SEWERAGE SYSTEM), PART-A- SCHEDULED ITEMS AS PER DSR-2014)
A6: Bidder’s Name and Address | F6: To:
A7: ="Bidder as "& 'Names of Bidder'!D6 -> Bidder as | F7: Contract & Material
A8: Name : | C8: =IF('Names of Bidder'!D8=0, "", 'Names of Bidder'!D8) | F8: Power Grid Corporation of India Ltd.,
A9: Address : | C9: =IF('Names of Bidder'!D9=0, "", 'Names of Bidder'!D9) | F9: Western Region -I Headquarters
C10: =IF('Names of Bidder'!D10=0, "", 'Names of Bidder'!D10) | F10: Sampriti Nagar, Nari Ring Road
C11: =IF('Names of Bidder'!D11=0, "", 'Names of Bidder'!D11) | F11: PO: Uppalwadi, Nagpur (MS) -440026
G13: All values are in Indian Rupees.
A14: SI. No. | B14: ITEM NO. | C14: Item Description | D14: Unit | E14: Qty. | F14: Rate | G14: Amount
A15: 1 | C15: 2 | D15: 4 | E15: 5 | F15: 6 | G15: 7 = 5 x 6
A17: PART-III Construction of SEWERAGE SYSTEM for Residential Qtr
A18: PART-A - (SCHEDULE ITEMS AS PER DSR - 2016)
A19: 1 | B19: 2.8 | C19: Earth work in excavation by mechanical means (Hydraulic excavator) / manual means in foundation trenches or drains (not exceeding 1.5 m in width or 10 sqm on plan), including dressing of sides and ramming of bottoms, lift upto 1.5 m, including getting out the excavated soil and disposal of surplus excavated soil as directed, within a lead of 50 m.
B20: 2.8.1 | C20: All kinds of soil | D20: Cu.m. | E20: 60
A21: 2 | B21: 2.1 | C21: Excavating trenches of required width for pipes, cables, etc including excavation for sockets, and dressing of sides, ramming of bottoms, depth upto 1.5 m, including getting out the excavated soil, and then returning the soil as required, in layers not exceeding 20 cm in depth, including consolidating each deposited layer by ramming, watering, etc. and disposing of surplus excavated soil as directed, within a lead of 50 m :
B22: 2.10.1.2 | C22: Pipes, cables etc. exceeding 80mm dia but not exceeding 300mm dia. | D22: Metre | E22: 1000
A23: 3 | B23: 2.11 | C23: Extra for excavating trenches for pipes, cables etc. in all kinds of soil for depth exceeding 1.5 m, but not exceeding 3 m. (Rate is over corresponding basic item for depth upto 1.5 metre). | D23: Metre | E23: 50
A24: 4 | B24: 2.25 | C24: Filling available excavated earth (excluding rock) in trenches, plinth, sides of foundations etc. in layers not exceeding 20cm in depth, consolidating each deposited layer by ramming and watering, lead up to 50 m and lift upto 1.5 m. | D24: Cu. M | E24: 20
A25: 5 | B25: 4.1 | C25: Providing and laying in position cement concrete of specified grade excluding the cost of centering and shuttering - All work up to plinth level :
B26: 4.1.8 | C26: 1:4:8 (1 Cement : 4 coarse sand : 8 graded stone aggregate 40 mm nominal size) | D26: Cu. M | E26: 50
A27: 6 | B27: 4.3 | C27: Centering and shuttering including strutting, propping etc. and removal of form work for :
B28: 4.3.1 | C28: Foundations, footings, bases for columns | D28: Sq.m. | E28: 80
A29: 7 | B29: 17.35 | C29: Providing and fixing soil, waste and vent pipes :
B30: 17.35.1 | C30: 100 mm dia
B31: 17.35.1.1 | C31: Sand cast iron S&S pipe as per IS: 1729 | D31: metre | E31: 10
A32: 8 | B32: 18.27 | C32: Providing and laying S&S centrifugally cast (spun) iron pipes (Class LA) conforming to IS - 1536 :
B33: 18.27.3 | C33: 150 mm dia pipe | D33: metre | E33: 50
A34: 9 | B34: 18.28 | C34: Providing lead caulked joints to spun iron or C.I. pipes and specials, including testing of joints but excluding the cost of pig lead :
B35: 18.28.3 | C35: 150 mm diameter pipe | D35: each | E35: 20
A36: 10 | B36: 19.1 | C36: Providing, laying and jointing glazed stoneware pipes class SP-1 with stiff mixture of cement mortar in the proportion of 1:1 (1 cement : 1 fine sand) including testing of joints etc. complete :
B37: 19.1.2 | C37: 150mm diameter | D37: Metre | E37: 1000
A38: 11 | B38: 19.2 | C38: Providing and laying cement concrete 1:5:10 (1 cement : 5 coarse sand : 10 graded stone aggregate 40 mm nominal size) all-round S.W. pipes including bed concrete as per standard design :
B39: 19.2.2 | C39: 150 mm diameter S.W. pipe | D39: Metre | E39: 1000
A40: 12 | B40: 19.6 | C40: Providing and laying non-pressure NP2 class (light duty) R.C.C. pipes with collars jointed with stiff mixture of cement mortar in the proportion of 1:2 (1 cement : 2 fine sand) including testing of joints etc. complete :
B41: 19.6.4 | C41: 300 mm dia RCC pipes. | D41: metre | E41: 30
A42: 13 | B42: 19.15 | C42: Providing M.S. foot rests including fixing in manholes with 20x20x10 cm cement concrete blocks 1:3:6 (1 cement : 3 coarse sand : 6 graded stone aggregate 20 mm nominal size) as per standard design :
B43: 19.15.1 | C43: With 20x20 mm square bar | D43: Each | E43: 30
C44: Sum of Items as per DSR-2016
...

Sheet  (Part-III) Sch-2
A1: =Cover!B3 -> Specification No.: WR-I/RPC/VRL/NIT-114/I-664-2026/RFX-5002005652 | G1: Schedule - 2
A3: =Cover!$B$2 -> Construction of 30mtrsx15mtrs x 7mtrs Truss less GIS store at 400/220KV GIS Sub-Station, Navi Mumbai
A4: (SCHEDULE OF RATES AND PRICES : PART-III (SEWERAGE SYSTEM), PART-B- NON SCHEDULED ITEMS)
A6: =' Sch-1'!A6 -> Bidder’s Name and Address | F6: To:
A7: =' Sch-1'!A7 -> Bidder as | F7: Contract & Material
A8: Name : | C8: =IF(' Sch-1'!C8=0, "", ' Sch-1'!C8) | F8: Power Grid Corporation of India Ltd.,
A9: Address : | C9: =IF(' Sch-1'!C9=0, "", ' Sch-1'!C9) | F9: Western Region -I Headquarters
C10: =IF(' Sch-1'!C10=0, "", ' Sch-1'!C10) | F10: Sampriti Nagar, Nari Ring Road
C11: =IF(' Sch-1'!C11=0, "", ' Sch-1'!C11) | F11: PO: Uppalwadi, Nagpur (MS) -440026
G13: All values are in Indian Rupees.
A14: SI. No. | B14: Item no. | C14: Item Description | D14: Unit | E14: Qty. | F14: Rate | G14: Amount
A15: 1 | B15: 2 | C15: 3 | D15: 4 | E15: 5 | F15: 6 | G15: 7 = 5 x 6
A16: PART-II Construction of SEWERAGE SYSTEM for Residential Qtr
A17: PART-B | B17: NON-SCHEDULE ITEMS
A18: 1 | B18: NS-1 | C18: Construction brick masonary manholes in cement mortar 1:4 - 1 cement : 4 coarse sand- R.C.C. top slab with 1:2:4 mix -1 cement : 2 coarse sand : 4 approved graded stone aggregate 20mm nominal size- foundation concrete 1:4:8 mix -1 cement : 4 coarse sand :8 graded stone aggregate 40mm nominal size) inside plastring 12mm thick with cement morter 1:3(1 cement:3 Coarse sand) finished with a floating coat of neat cement and making channel in cementconcrete 1:2:4 (1 cement:2 coarse sand:graded stone aggregate 20mm nominal size) finished with a floating coat of neat cement complete as per standard design of CPWD.
C19: Inside size 90X80 cm and 45cm deep including C.I. Cover with frame (light duly) 455x610 mm internal dimensions, total weight of cover and frame to be not less than 38 Kg (weight of cover 23 Kg and and weight of frame 15 Kg)
B20: a | C20: With Fly Ash Bricks | D20: Each | E20: 40
A21: 2 | B21: NS-2 | C21: Extra for depth for manholes
C22: Size 90 x 80cm
C23: With Fly Ash Bricks of average compressive strength of 50 Kg/cm2 | D23: Meter | E23: 35
C24: Total PART-III ( PART-B) - (Non-Schedule Items)
F25: Printed Name : | G25: =IF(' Sch-1'!G102=0,"",' Sch-1'!G102)
A26: Date : | C26: =IF(' Sch-1'!C102=0,"", ' Sch-1'!C102) | F26: Designation : | G26: =IF(' Sch-1'!G103=0,"",' Sch-1'!G103)
A27: Place : | C27: =IF(' Sch-1'!C103=0,"", ' Sch-1'!C103)

Sheet Sch-3
A1: =Cover!B3 -> Specification No.: WR-I/RPC/VRL/NIT-114/I-664-2026/RFX-5002005652 | G1: Schedule - 3
A3: =Cover!$B$2 -> Construction of 30mtrsx15mtrs x 7mtrs Truss less GIS store at 400/220KV GIS Sub-Station, Navi Mumbai | L3: As per Lum-sum
A4: (SCHEDULE OF RATES AND PRICES : PART-C- Installation and Testing and commissioning | L4: AS per Percent
L5: As per lum-sum on Sch-3
A6: =' Sch-1'!A6 -> Bidder’s Name and Address | F6: To: | L6: As per Percent on Sch-3
A7: =' Sch-1'!A7 -> Bidder as | F7: Regional Procurement Centre | L7: Multipackage lum-sum
A8: Name : | B8: =IF(' Sch-1'!C8=0, "", ' Sch-1'!C8) | F8: Power Grid Corporation of India Ltd., | L8: Multipackage on Percent
A9: Address : | B9: =IF(' Sch-1'!C9=0, "", ' Sch-1'!C9) | F9: Western Region -I Headquarters | L9: Total Discount
B10: =IF(' Sch-1'!C10=0, "", ' Sch-1'!C10) | F10: Sampriti Nagar, Nari Ring Road
B11: =IF(' Sch-1'!C11=0, "", ' Sch-1'!C11) | F11: PO: Uppalwadi, Nagpur (MS) -440026
G13: All values are in Indian Rupees.
A14: Item. No | B14: Activity Number | C14: Description of Item | D14: Unit | E14: Qty. | F14: Rate | G14: Amount
A15: 1 | B15: 2 | C15: 4 | D15: 5 | E15: 6 | F15: 7 | G15: 8=6*7
A16: ELECTRICAL ITEMS
G17: =E17*F17 -> 0
B18: A | C18: Power Cable | G18: =E18*F18 -> 0
C19: Supply and Erection of following sizes of 1.1kV grade PVC/XLPE insulated aluminum armoured power cable with glands & lugs conforming to IS : 1554 (part-1)'/ IS :7098 and its latest amendments and as specified in the technical specification and of POWERGRID approved make including applicable tests. | G19: =E19*F19 -> 0
C20: Note :- The cable quantity shown here is tentative only and final quantity of the cable to be submitted by the turnkey agency during detailed engineering and site measurement in line with technical specification and no wastage are allowed | G20: =E20*F20 -> 0
B21: 1 | C21: 4C x 16 sqmm XLPE insulated 1.1KV grade Al. armoured cable | D21: Mtr | E21: 200 | G21: =E21*F21 -> 0
B22: B | C22: Circuit Wiring : MDB to SDB to Switchboard/ Receptacle | G22: =E22*F22 -> 0
C23: Supply, laying, installation towards main circuit wiring from Meter Panel / MDB to SDB and SDB to Switchboard as per the drawing, interior layout, site conditions in concealed / recessed medium gauge PVC conduit (ISI approved) including supply of conduits and its accessories, FR type wires (ISI approved) and other required materials as per technical specification and as per direction of Engg-in-charge (Conduits to be laid in columns, beams, slabs before concreting in walls and before or after the walls are raised as required by structural restraint) complete for the following :- | G23: =E23*F23 -> 0
B24: 1 | C24: Main with 2x4 Sq.mm and earth wire 2.5 sq.mm FR PVC Copper conductor Multistrand wires in PVC Conduit as per the technical specification. | D24: Mtr | E24: 70 | G24: =E24*F24 -> 0
B25: C | C25: Point Wiring :- (From switchboard to individual light points / street light point / ceiling fan point / Ex-fan points):- | G25: =E25*F25 -> 0
B26: 1 | C26: Main with 2x 2.5 Sq.mm and earth wire 1.5 sq.mm FR PVC Copper conductor Multistrand wires in PVC Conduit as per the technical specification. | D26: Mtr | E26: 200 | G26: =E26*F26 -> 0
B27: C | C27: Modular Type Switch, Socket, Box and Cover plate | G27: =E27*F27 -> 0
C28: Supply, installation, testing and commissioning of wiring accessories of approved ISI/CE certified make switches, switch socket outlets, power sockets, etc. for the following with suitable mounting plates & boxes in the required configuration as per the specification, interior layout, drawing, site condition and as per direction of engg-in-charge | G28: =E28*F28 -> 0
B29: 1 | C29: 10A single pole, 1way switch for light and for 6A power points of ISI mark approved make. | D29: Nos. | E29: 10 | G29: =E29*F29 -> 0
B30: 2 | C30: 6A, Multipin 5/6 Socket of ISI mark approved make. | D30: Nos. | E30: 2 | G30: =E30*F30 -> 0
B31: 3 | C31: 16 & 6A ,6 pin heavy duty Socket with independent switch along with indicator of ISI mark approved make. | D31: Nos. | E31: 4 | G31: =E31*F31 -> 0
B32: 5 | C32: Concealed type modular switch box with double mounting plate for 3 module of ISI mark approved make. | D32: Nos. | E32: 5 | G32: =E32*F32 -> 0
B33: 7 | C33: Concealed type modular switch box with double mounting plate for 8 module of ISI mark approved make. | D33: Nos. | E33: 2 | G33: =E33*F33 -> 0
B34: D | C34: Distribution Board - | G34: =E34*F34 -> 0
B35: 1 | C35: Main Distribution Board | G35: =E35*F35 -> 0
C36: Supplying , Erecting of Distribution Board with 4 Pole MCB, 32 A as incomer- 1 no. and outgoings suitable for accommodating the following of 6A,10A, 20A & 32A ,1 pole MCBs, 10 KA short circuit rating capacity, which is to be installed as per direction of engg-in-charge in the phase segregated design with all accessories like fork bus bars, lugs, leads, FLUSH MOUNTED with double door complete, suitable size cable entry jumpers space for incoming / outgoing cables CONCEALED IN WALLS / Erected on suitable angle iron frame (if applicable). Similar to L&T (Hager) make Cat.no. VYT06DD (or) other eqvnt. make model as approved by engg in charge (Note :- 4 pole, 32 Amp MCB is included in the above item & outgoing 1 pole, MCB is as per item no. D.2) | D36: Set | E36: 1 | G36: =E36*F36 -> 0
B37: 2 | C37: Supplying & erecting of 1 Pole MCBs Type-C of following rating,10KA Short circuit rating installed in the outgoing above SDB as per single line / power schematic diagram | D37: Nos | E37: 6 | G37: =E37*F37 -> 0
C38: 1P 6A to 32A of approved make as per the direction of engg-in charge. | G38: =E38*F38 -> 0
B39: E | C39: Supply of light fittings/fixtures, weather proof street light fittings, ceiling fan and erection/ installation works :- | G39: =E39*F39 -> 0
C40: Providing,installation, testing and commissioning of pre wired LED / CFL complete with Tube etc., in all respect on Truses , angle , beams , along with necessary mounting and accessories ,with necessary down rods as required or suitable on wall / pendant mounting as per , layout, as per site condition , as per direction of engg-in-charge and as per specification | G40: =E40*F40 -> 0
B41: 1 | C41: Supply and installation of Indoor High Bay LED luminaire, Aesthetically designed pressure die cast housing and Ingress protection class of IP65. Use of High power LED to offer high system lumen maintenance of 50,000 Br. Hrs. With 70% lumen maintenance at 45º C and Surge protection upto 5KV.The luminaire shall have system output of >9000 lumens with system power in power in the range of <90W having system efficacy of >80 lumens/watt.CRI equal to greater than 70 and CCT equal to greater than 5600 deg K. Similar to Philips Cat BY400V LED72S/BY325 or quivalent model of Bajaj , CGL , Havells, Insta Power or Equivalent make as per direction of Engg-in-charge. (Note :- Respective test certificate and warranty certificate to be submitted) | D41: Nos | E41: 8 | G41: =E41*F41 -> 0
B42: 2 | C42: Supply and installation of 4500 (Min) Lumen output LED Street light fitting having IP 65 protection along with bracket for single fitting made from 40 mm. dia B class G.I. pipe,1.0 m. in length and all required accessories to complete the work. Make should of Philips ,Bajaj , CGL , Wipro or Equivalent make as per direction of Engg-in-charge. (Note :- Respective test certificate and warranty certificate to be submitted) | D42: Nos | E42: 2 | G42: =E42*F42 -> 0
...

Sheet Sch-4
A1: =Cover!B3 -> Specification No.: WR-I/RPC/VRL/NIT-114/I-664-2026/RFX-5002005652 | D1: Schedule - 5
A3: =Cover!$B$2 -> Construction of 30mtrsx15mtrs x 7mtrs Truss less GIS store at 400/220KV GIS Sub-Station, Navi Mumbai
A4: (GRAND SUMMARY)
A6: =' Sch-1'!A6 -> Bidder’s Name and Address | D6: To:
A7: =' Sch-1'!A7 -> Bidder as | D7: Regional Procurement Centre
A8: Name : | B8: =IF(' Sch-1'!C8=0, "", ' Sch-1'!C8) | D8: Power Grid Corporation of India Ltd.,
A9: Address : | B9: =IF(' Sch-1'!C9=0, "", ' Sch-1'!C9) | D9: Western Region -I Headquarters
B10: =IF(' Sch-1'!C10=0, "", ' Sch-1'!C10) | D10: Sampriti Nagar, Nari Ring Road
B11: =IF(' Sch-1'!C11=0, "", ' Sch-1'!C11) | D11: PO: Uppalwadi, Nagpur (MS) -440026
A13: Sl. No. | B13: Description
A15: 1 | B15: PART-A-SCHEDULE ITEMD Excl GST | D15: =' Sch-1'!G101 -> 0
A16: 2 | B16: PART-B- NON SCHEDULE ITEMS Excl GST | D16: =' Sch-2'!G27 -> 0
A18: 3 | B18: PART-C- ELECTRICAL ITEMS Excl GST | D18: ='Sch-3'!G48 -> 0
B19: Total of PART-A + PART-B++ PART-C | D19: =SUM(D15:D18) -> 0
A21: Date : | B21: =IF(' Sch-1'!C102=0,"", ' Sch-1'!C102)
A22: Place : | B22: =IF(' Sch-1'!C103=0,"", ' Sch-1'!C103) | C22: Printed Name : | D22: =IF(' Sch-1'!G102=0,"",' Sch-1'!G102)
C23: Designation : | D23: =IF(' Sch-1'!G103=0,"",' Sch-1'!G103)

Sheet Sch-5 After Discount
A1: =Cover!B3 -> Specification No.: WR-I/RPC/VRL/NIT-114/I-664-2026/RFX-5002005652 | D1: Schedule - 5 After Discount
A3: =Cover!$B$2 -> Construction of 30mtrsx15mtrs x 7mtrs Truss less GIS store at 400/220KV GIS Sub-Station, Navi Mumbai
A4: (GRAND SUMMARY - AFTER DISCOUNT)
A6: =' Sch-1'!A6 -> Bidder’s Name and Address | D6: To:
A7: =' Sch-1'!A7 -> Bidder as | D7: Contract & Material
A8: Name : | B8: =IF(' Sch-1'!C8=0, "", ' Sch-1'!C8) | D8: Power Grid Corporation of India Ltd.,
A9: Address : | B9: =IF(' Sch-1'!C9=0, "", ' Sch-1'!C9) | D9: Western Region -I Headquarters
B10: =IF(' Sch-1'!C10=0, "", ' Sch-1'!C10) | D10: Sampriti Nagar, Nari Ring Road
B11: =IF(' Sch-1'!C11=0, "", ' Sch-1'!C11) | D11: PO: Uppalwadi, Nagpur (MS) -440026
A13: Sl. No. | B13: Description | D13: Total Price (INR) | F13: Total Discount | G13: =Discount!L20 -> 0
A15: 1 | B15: PART-A-SCHEDULE ITEMD Excl GST | D15: =G15 -> 0 | F15: ='Sch-4'!D15 -> 0 | G15: =F15*(1-$G$13) -> 0
A16: 2 | B16: PART-B- NON SCHEDULE ITEMS Excl GST | D16: =G16 -> 0 | F16: =' Sch-2'!G27 -> 0 | G16: =F16*(1-$G$13) -> 0
B17: PART-B- Non Scheduled Items | D17: =G17 -> 0
D18: =G18 -> 0
D19: =G19 -> 0
D20: =G20 -> 0
D21: =G21 -> 0
D22: =G22 -> 0
D23: =G23 -> 0
D24: =G24 -> 0
D25: =G25 -> 0
D26: =G26 -> 0
A27: 2 | B27: PART-C- ELECTRICAL ITEMS Excl GST | D27: =G27 -> 0 | F27: ='Sch-3'!G48 -> 0 | G27: =F27*(1-$G$13) -> 0
B28: Total of PART-A + PART-B + PART-C | D28: =SUM(D15:D27) -> 0 | G28: =SUM(G15:G27) -> 0
A29: A. | B29: GRAND TOTAL after Discount ( Excl GST ) | D29: =D28 -> 0
A30: GST | B30: add GST @ 18% on PARt-A | D30: =18%*D15 -> 0
B31: add GST @ 18% on PARt-B | D31: =18%*D16 -> 0
B32: add GST @ 18% on PART-C | D32: =18%*D27 -> 0
A33: B. | B33: GRAND TOTAL after Discount : Part: A+B+C ( Including GST) | D33: =D29+D30+D32 -> 0
A35: Date : | B35: =IF(' Sch-1'!C102=0,"", ' Sch-1'!C102) | C35: Printed Name :
A36: Place : | B36: =IF(' Sch-1'!C103=0,"", ' Sch-1'!C103) | C36: Designation : | D36: =IF(' Sch-1'!G102=0,"",' Sch-1'!G102)
D37: =IF(' Sch-1'!G103=0,"",' Sch-1'!G103)

Sheet Discount
A1: This letter of discount is optional. Bidder may / may not offer any discount.
A2: =Cover!B3 -> Specification No.: WR-I/RPC/VRL/NIT-114/I-664-2026/RFX-5002005652 | G2: Letter of Discount
A4: LETTER OF DISCOUNT
A5: To:
A6: Contract & Material
A7: Power Grid Corporation of India Ltd.,
A8: Western Region -I Headquarters
A9: Sampriti Nagar, Nari Ring Road
A10: PO: Uppalwadi, Nagpur (MS) -440026
A12: Subject : | C12: =Cover!$B$2 -> Construction of 30mtrsx15mtrs x 7mtrs Truss less GIS store at 400/220KV GIS Sub-Station, Navi Mumbai
A13: 1) All the discounts mentioned below shall be applied separately.
A14: 2) Please verify Schedule-5 (after Discount) after filling this letter of discount.
A15: Dear Sir
A16: With reference to the subject tender, we hereby offer unconditional discount on the prices quoted by us as per details given here below : | J16: Eq Weightage of Rs/ % | L16: Final Discount Factor
B17: 1 | C17: Discount on lum-sum basis on total price quoted by us. [The discount shall be proportionately applicable on all the items of all the Schdules of all the Parts i.e. (PART-A + Part-B+PART-C) In Rs. | I17: ='Sch-4'!D19 -> 0 | J17: =IF(I17=0,0,G17/I17) -> 0
B18: AND
B19: 2 | C19: Discount on percent basis on total price quoted by us. [The discount shall be proportionately applicable on all the items of all the Schdulesof all the Parts i.e. (PART-A + Part-B+PART-C) In Percent (%) | J19: =G19 -> 0
B20: 1) Discount is Optional. 2) Bidder may fill any of the above two Indicated Discounts or both the Discounts. 3) Discount(s) offered at Sl. No. 1 to 2 will automatically simultaneously get accounted for in all the Schedules of all the Parts.. | L20: =J19+J17 -> 0
B21: 5 | C21: We hereby offer Multi-package discount as given below:
I22: =' Sch-1'!#REF!+' Sch-2'!#REF!+#REF! -> #REF! | J22: =G22 -> 0
B23: Multi-Package Discount(s) offered at sl. No. 5 will not get automatically accounted for in the respective items of the Schedules. The same shall be worked out saparately for evaluation.
A24: Please consider this letter of discount as the integral part of our price bid.
A25: Thanking you, we remain,
A26: Note:
A27: 1) All the discounts mentioned above shall be applied separately.
A28: 2) Please verify Schedule-5 after filling the above letter of discount.
G30: Yours faithfully,
G31: ="For and on behalf of " & ' Sch-1'!C8 -> For and on behalf of
A33: Date : | C33: =' Sch-1'!C102 | E33: Printed Name : | F33: =' Sch-1'!G102
A34: Place : | C34: =' Sch-1'!C103 | E34: Designation : | F34: =' Sch-1'!G103

Sheet Bid Form 2nd Envelope
A1: =Cover!B3 -> Specification No.: WR-I/RPC/VRL/NIT-114/I-664-2026/RFX-5002005652 | F1: Bid Form 2nd Envelope | Z1: ='Names of Bidder'!D6 -> 0 | AF1: 1 | AG1: st | AJ1: 1 | AK1: January
Z2: ='Names of Bidder'!AA6 -> #REF! | AF2: 2 | AG2: nd | AJ2: 2 | AK2: February
A3: BID FORM (Second Envelope) | AF3: 3 | AG3: rd | AJ3: 3 | AK3: March
AF4: 4 | AG4: th | AJ4: 4 | AK4: April
A5: Bid Proposal Ref. No. | AF5: 5 | AG5: th | AJ5: 5 | AK5: May
A6: Date : | B6: =' Sch-1'!C102 | AF6: 6 | AG6: th | AH6: =DAY(B6) -> #VALUE! | AJ6: 6 | AK6: June
AF7: 7 | AG7: th | AH7: =MONTH(B6) -> #VALUE! | AJ7: 7 | AK7: July
A8: =' Sch-1'!F6 -> To: | AF8: 8 | AG8: th | AH8: =LOOKUP(AH7,AJ1:AJ12,AK1:AK12) -> #VALUE! | AJ8: 8 | AK8: August
A9: =' Sch-1'!F7 -> Regional Procurement Centre | AF9: 9 | AG9: th | AH9: =YEAR(B6) -> #VALUE! | AJ9: 9 | AK9: September
A10: =' Sch-1'!F8 -> Power Grid Corporation of India Ltd., | AF10: 10 | AG10: th | AJ10: 10 | AK10: October
A11: =' Sch-1'!F9 -> Western Region -I Headquarters | AF11: 11 | AG11: th | AJ11: 11 | AK11: November
A12: =' Sch-1'!F10 -> Sampriti Nagar, Nari Ring Road | AF12: 12 | AG12: th | AJ12: 12 | AK12: December
A13: =' Sch-1'!F11 -> PO: Uppalwadi, Nagpur (MS) -440026 | AF13: 13 | AG13: th
AF14: 14 | AG14: th
A15: Name of Contract : | C15: =Cover!B2 -> Construction of 30mtrsx15mtrs x 7mtrs Truss less GIS store at 400/220KV GIS Sub-Station, Navi Mumbai | AF15: 15 | AG15: th
A16: Dear Ladies and/or Gentlemen, | AF16: 16 | AG16: th
A17: 1 | B17: =Z17&C15&" "&AA17&AC17&AD17&AB17 -> In continuation of First Envelope of our Bid, we hereby submit the Second Envelope of the Bid, both of which shall be read together and in conjunction with each other, and shall be construed as an integral part of our Bid. Accordingly, we the undersigned, offer to execute the work of Construction of 30mtrsx15mtrs x 7mtrs Truss less GIS store at 400/220KV GIS Sub-Station, Navi Mumbai under the above-named package in full conformity with the said Bidding Documents for the sum of Rs. 0 (Rupees only) or such other sums as may be determined in accordance with the terms and conditions of the Bidding Documents. | Z17: In continuation of First Envelope of our Bid, we hereby submit the Second Envelope of the Bid, both of which shall be read together and in conjunction with each other, and shall be construed as an integral part of our Bid. Accordingly, we the undersigned, offer to execute the work of | AA17: under the above-named package in full conformity with the said Bidding Documents for the sum of Rs. | AB17: or such other sums as may be determined in accordance with the terms and conditions of the Bidding Documents. | AC17: =ROUND('Sch-5 After Discount'!D29,0) -> 0 | AD17: =" (" & 'N-W'!A8 & ")" -> (Rupees only) | AF17: 17 | AG17: th
B18: The above amounts are in accordance with the price schedules attached herewith and are made part of this bid. | AF18: 18 | AG18: th
A19: 2 | B19: Price Schedules | AF19: 19 | AG19: th
A20: 2.1 | B20: In line with the requirements of the Bidding documents, we enclose herewith the following Price Schedules, duly filled - in as per your proforma: | AF20: 20 | AG20: th
B21: Sch-1 | D21: PART-A-Ex-Works Supply | AF21: 21 | AG21: st
B22: Sch-2 | D22: PART-B-F&I
B23: Sch-3 | D23: PART-C-Installation including Civil Works
B24: Sch-4 | D24: GRAND SUMMARY
B25: Sch-5 After Discount | D25: GRAND SUMMARY after DISCOUNT
A27: 2.2 | B27: We are aware that the Price Schedules do not generally give a full description of the Work to be performed under each item and we shall be deemed to have read the Technical Specifications and other sections of the Bidding Documents and Drawings to ascertain the full scope of Work included in each item while filling-in the rates and prices. We agree that the entered rates and prices shall be deemed to include for the full scope as aforesaid, including overheads and profit. | AF27: 28 | AG27: th
A28: 2.3 | B28: We declare that as specified in Clause 11.5, Section –II:ITB, Vol.-I of the Bidding Documents, prices quoted by us in the Price Schedules in Second Envelope shall be subject to Price Adjustment during the execution of Contract in accordance with Appendix-2 (Price Adjustment) to the Contract Agreement. | AF28: 29 | AG28: th
A29: 2.4 | B29: We understand that in the price schedules, where there are errors between the total of the amounts given under the column for the price Breakdown and the amount given under the Total Price, the former shall prevail and the latter will be corrected accordingly. We further understand that where there are discrepancies between amounts stated in figures and amounts stated in words, the amount stated in words shall prevail. Similarly, any discrepancy in the total bid price and that of the summation of Schedule price (price indicated in a Schedule indicating the total of that schedule), the total bid price shall be corrected to reflect the actual summation of the Schedule prices. | AF29: 30 | AG29: th
A30: 2.5 | B30: We declare that items left blank in the Schedules will be deemed to have been included in other items. The TOTAL for each Schedule and the TOTAL of Grand Summary shall be deemed to be the total price for executing the Facilities and sections thereof in complete accordance with the Contract, whether or not each individual item has been priced. | AF30: 31 | AG30: st
A31: 3 | B31: We, hereby, declare that only the persons or firms interested in this proposal as principals are named here and that no other persons or firms other than those mentioned herein have any interest in this proposal or in the Contract to be entered into, if the award is made on us, that this proposal is made without any connection with any other person, firm or party likewise submitting a proposal is in all respects for and in good faith, without collusion or fraud.
B33: Thanking you, we remain,
F34: Yours faithfully,
F35: ="For and on behalf of " & ' Sch-1'!C8 -> For and on behalf of
A37: Date : | B37: =' Sch-1'!C102 | E37: Printed Name : | F37: =' Sch-1'!G102
A38: Place : | B38: =' Sch-1'!C103 | E38: Designation : | F38: =' Sch-1'!G103
A40: Please provide additional information of the Bidder
A41: Business Address :
A44: Country of Incorporation :
A45: State/Province to be indicated :
A46: Name of Principal Officer :
...

Sheet N-W
A1: =ROUND('Sch-5 After Discount'!D29,0) -> 0
A2: =ROUNDDOWN(A1/100,0) -> 0
A3: =ROUNDDOWN(A2/10,0) -> 0
A4: =ROUNDDOWN(A3/100,0) -> 0
A5: =ROUNDDOWN(A4/100,0) -> 0
A8: =I15&" "&I14&" "&I13&" "&I12&" "&I11 -> Rupees only
A11: =A1-ROUNDDOWN(A1/100,0)*100 -> 0 | B11: =VLOOKUP(A11,$A$18:$B$117,2,TRUE) -> zero | F11: =IF(A11=0, "", B11) | I11: =F11&" only" -> only
A12: =A2-ROUNDDOWN(A2/10,0)*10 -> 0 | B12: =VLOOKUP(A12,$A$18:$B$117,2,TRUE) -> zero | C12: hundred | F12: =IF(A12=0, "", B12) | G12: =IF(A12=0, "", C12) | I12: =F12&" "&G12
A13: =A3-ROUNDDOWN(A3/100,0)*100 -> 0 | B13: =VLOOKUP(A13,$A$18:$B$117,2,TRUE) -> zero | C13: thousand | F13: =IF(A13=0, "", B13) | G13: =IF(A13=0, "", C13) | I13: =F13&" "&G13
A14: =A4-ROUNDDOWN(A4/100,0)*100 -> 0 | B14: =VLOOKUP(A14,$A$18:$B$117,2,TRUE) -> zero | C14: lakh | F14: =IF(A14=0, "", B14) | G14: =IF(A14=0, "", C14) | I14: =F14&" "&G14
A15: =A5-ROUNDDOWN(A5/100,0)*100 -> 0 | B15: =VLOOKUP(A15,$A$18:$B$117,2,TRUE) -> zero | C15: crore | F15: =IF(A15=0, "", B15) | G15: =IF(A15=0, "", C15) | I15: ="Rupees"&" " &F15&" "&G15 -> Rupees
A18: 0 | B18: zero
A19: 1 | B19: one
A20: 2 | B20: two
A21: 3 | B21: three
A22: 4 | B22: four
A23: 5 | B23: five
A24: 6 | B24: six
A25: 7 | B25: seven
A26: 8 | B26: eight
A27: 9 | B27: nine
A28: 10 | B28: ten
A29: 11 | B29: eleven
... A117: 99 | B117: ninety nine
