Workbook
Name \A: #REF!
Name \B: #REF!
Name \C: #REF!
Name \M: #REF!
Name \N: #REF!
Name \P: #REF!
Name \R: #REF!
Name \U: #REF!
Name \V: #REF!
Name ab: #REF!
Name logo1: "Picture 7"
Name TEST: #REF!

Sheet Basic
A1: Package | B1: PACKAGE-G :: Demolition & Re-construction of Residential buildings at Misa substations in NER under O&M Add Cap 2019-24.
A3: Package Code | B3: Package-H
A5: Specification No. | B5: Specification No.: NESH/CSM/PRANIT/G1/1500-1316/Pkg-H/NIT

Sheet Cover
G1: ORIGINAL
A2: Price Schedules | B2: =Basic!B1 -> PACKAGE-G :: Demolition & Re-construction of Residential buildings at Misa substations in NER under O&M Add Cap 2019-24. | F2: Package-II
B3: =Basic!B5 -> Specification No.: NESH/CSM/PRANIT/G1/1500-1316/Pkg-H/NIT
B4: 1 | C4: Fill up only green shaded cells in Sch-1 and Bid Form 2nd Envelope.
B5: 2 | C5: All the cells in Sch-2 and Sch-3 are auto filled, therefore no cell is required to be filled up there.
B6: 3 | C6: Instructions / error messages, if any, will be displayed automatically after selecting the cell.
B7: 4 | C7: After filling up all the schedues, save the file, take print out of all the schedules and Bid form and sign & stamp and submit them as hard copy of the 2nd envelope (Price part) of the bid. Also ensure to submit the soft copy of the the same file on CD/ DVD.

Sheet Instructions
A1: ="General Instruction to the Bidders for filling up this workbook of Price Schedules for Package " & Basic!B3 -> General Instruction to the Bidders for filling up this workbook of Price Schedules for Package Package-H
A3: I | B3: While filling up the worksheets following may please be observed :
B4: (i) | C4: Fill up only green shaded cells.
B5: (ii) | C5: Certain data type entries have been restricted, such as Numeric values or limits of numeric values.
B6: (iii) | C6: Select only the options provided in pull down menus.
B7: (iv) | C7: Do not link any cell of this work book with any other work book.
B8: (v) | C8: Do not use copy & paste or cut & paste options for filling up the data.
B9: (vi) | C9: Do not reformat any of the cell of the work book.
A11: II | B11: This Workbook consists of following worksheets :
B12: Cover :
C13: Opening page of the workbook.
B14: Names of Bidder :
B15: ● | C15: Select Sole Bidder or JV (Joint Venture) from the pull down menu. Do not leave this cell blank.
B16: ● | C16: Select nos. of the JV Partners other than the Lead Partner from drop down menu.
B17: ● | C17: In case of JV partners more than 2, enter details of 3rd & more partners along with details of 2nd partner.
B18: ● | C18: Fill up names and address of the Sole Bidder and /or Joint Venture.
B19: ● | C19: Fill up date in dd-mm-yyyy format from drop down menu.
B20: ● | C20: Click for Sch-1 given at the right top of the worksheet to go to Sch-1.
B21: Sch-1 (Price Components (Price Break-up) ) :
B22: ● | C22: Fill up unit rates for all the items in numeric values greater than 0 (zero). If unit rate is left blank, the corresponding item shall be deemed to be included in the total price.
B23: ● | C23: Total amount shall get calculated automatically.
B24: Sch -2(Taxes and Duties) :
B25: ● | C25: Taxes and duties shall be displayed automatically.
B26: ● | C26: No cell is required to be filled in by the bidder in this worksheet.
B28: Sch -3(Grand Summary) :
B29: ● | C29: Summary of the Schedule-1 without considering discount (mentioned in the work sheet discount) shall be displayed automatically.
B30: ● | C30: No cell is required to be filled in by the bidder in this worksheet.
B31: Bid form 2nd Envelope :
B32: ● | C32: Fill up ref. no. as bidder's ref no. of this letter.
B33: ● | C33: This letter shall consider the net price as per Sch-3 (After Discount).
B34: ● | C34: Fill up names & Designation of the representatives of other JV partner(s) if the bidder is JV (Joint Venture) .
B35: ● | C35: Fill up additional information as required.
A38: * * *
A39: Happy Bidding !

Sheet Names of Bidder
B1: =Cover!$B$2 -> PACKAGE-G :: Demolition & Re-construction of Residential buildings at Misa substations in NER under O&M Add Cap 2019-24.
B2: =Cover!B3 -> Specification No.: NESH/CSM/PRANIT/G1/1500-1316/Pkg-H/NIT | AA2: Sole Bidder | AB2: 1
AB3: 2 or More
B4: Enter following details of the bidder
B6: Specify type of Bidder [Select from drop down menu] | D6: Sole Bidder | AA6: =IF(D6= "Sole Bidder", 0, D7) -> 0
B7: =IF(D6= "JV (Joint Venture)", "Total Nos. of Partners in the JV [excluding the Lead Partner]", "") | D7: 2 or More
L8: =IF(AND(D6="JV (Joint Venture)",D7=1),1,0) -> 0
B9: =IF(D6= "Sole Bidder", "Name of Sole Bidder", "Name of Lead Partner") -> Name of Sole Bidder
B10: =IF(D6= "Sole Bidder", "Address of Sole Bidder", "Address of Lead Partner") -> Address of Sole Bidder
B14: =IF(D7=1, "Name of other Partner","Name of other Partner - 1") -> Name of other Partner - 1
B15: =IF(D7=1, "Address of other Partner","Address of other Partner - 1") -> Address of other Partner - 1
B19: Name of other Partner - 2 (more, if any)
B20: Address of other Partner - 2 (more, if any)
B24: Printed Name
B25: Designation
B27: Date | G27: =IF(D27>H27, "Invalid Date !", "") | H27: =IF(E27="Feb",29,IF(OR(E27="Apr", E27="Jun", E27="Sep", E27="Nov"),30,31)) -> 31
B28: Place

Sheet Sch-1(A)
A1: =Cover!B3 -> Specification No.: NESH/CSM/PRANIT/G1/1500-1316/Pkg-H/NIT | Q1: Schedule-1(A) | R1: Schedule - 1 | AE1: Direct Total | AF1: =SUMIF(#REF!, "Direct",R33:R145) -> #REF! | AK1: ='Names of Bidder'!D6 -> Sole Bidder | AL1: `
AE2: BO Total | AF2: =#REF!-AF1 -> #REF! | AK2: ='Names of Bidder'!AA6 -> 0
A3: =Cover!$B$2 -> PACKAGE-G :: Demolition & Re-construction of Residential buildings at Misa substations in NER under O&M Add Cap 2019-24.
A4: (SCHEDULE OF RATES AND PRICES)
A6: ="Bidder’s Name and Address (" & MID('Names of Bidder'!B9,9, 20) & ") :" -> Bidder’s Name and Address (Sole Bidder) : | O6: To:
A7: =IF('Names of Bidder'!D9="", "", IF('Names of Bidder'!D6= "JV (Joint Venture)", "JV of " & AK8, "")) | O7: Contracts and Material
A8: Name : | F8: =IF('Names of Bidder'!D9=0, "", 'Names of Bidder'!D9) | O8: Power Grid Corporation of India Ltd., | AK8: =IF('Names of Bidder'!D7=1,'Names of Bidder'!D9&" & "&'Names of Bidder'!D14,IF('Names of Bidder'!D7="2 or More",'Names of Bidder'!D9&" , "&'Names of Bidder'!D14&" & "&'Names of Bidder'!D19,"")) -> , &
A9: Address : | F9: =IF('Names of Bidder'!D10=0, "", 'Names of Bidder'!D10) | O9: North Eastern Region Transmission System
F10: =IF('Names of Bidder'!D11=0, "", 'Names of Bidder'!D11) | O10: Dongtieh, Lower Nongrah,
F11: =IF('Names of Bidder'!D12=0, "", 'Names of Bidder'!D12) | O11: Lapalang, Shillong – 793 006 (Meghalaya)
A13: PRICE COMPONENTS (PRICE BREAK-UP) | AF13: Direct
AF14: Bought-Out
N16: All Prices are in Indian Rupees.
A17: SI. No. | B17: DSR Item Ref | C17: PR Line Item No | D17: Activity Header | E17: PR Activity No | F17: Activity Description | H17: SAC (Service Accounting Codes) | I17: Whether SAC in column '8’ is confirmed. If not indicate applicable the SAC # | J17: Rate of GST applicable ( in %) | K17: Whether rate of GST in column ‘ 10 ’ is confirmed. If not indicate applicable rate of GST # | L17: Description | M17: Unit | N17: Qty | O17: Unit Rate [Before] | P17: Unit Rate | Q17: Total Price | R17: Total Price
A18: 1 | B18: 2 | C18: 3 | D18: 4 | E18: 5 | F18: 6 | G18: 7 | H18: 8 | I18: 9 | J18: 10 | K18: 11 | L18: 12 | M18: 13 | N18: 14 | O18: 15 | R18: 16 = 14 x 15
A19: PART-A | B19: Dismantling 20 Nos B-type buildings at 400kV Misa Substation
A20: 1 | B20: 14.82 | H20: 995431 | I20: Confirmed | J20: 0.18 | K20: Confirmed | L20: 14.82 Dismantling W.C. Pan of all sizes including disposal of dismantled materials i/c malba all complete as per directions of Engineer-in- Charge. | M20: Each | N20: 20 | O20: 123.55 | P20: =O20+O20*$O$273 -> 123.55 | Q20: =IF(P20=0, "Included",IF(ISERROR(N20*P20),P20, N20*P20)) -> 2471 | R20: =O20*N20 -> 2471
A21: 2 | B21: 15.52 | H21: 995419 | I21: Confirmed | J21: 0.18 | K21: Confirmed | L21: 15.52 Dismantling of flushing cistern of all types (C.I./PVC/Vitrious China) including stacking of useful materials near the site and disposal of unserviceable materials within 50 metres lead. | M21: Each | N21: 20 | O21: 831.03 | P21: =O21+O21*$O$273 -> 831.03 | Q21: =IF(P21=0, "Included",IF(ISERROR(N21*P21),P21, N21*P21)) -> 16620.6 | R21: =O21*N21 -> 16620.6
A22: 3 | B22: 15.2.1 | H22: 995429 | I22: Confirmed | J22: 0.18 | K22: Confirmed | L22: Demolishing cement concrete manually/ by mechanical means including disposal of material within 50 metres lead as per direction of Engineer - in - charge. 15.2.1 Nominal concrete 1:3:6 or richer mix (i/c equivalent design mix) | M22: Cum | N22: 61.9935 | O22: 2240.06 | P22: =O22+O22*$O$273 -> 2240.06 | Q22: =IF(P22=0, "Included",IF(ISERROR(N22*P22),P22, N22*P22)) -> 138869.16 | R22: =O22*N22 -> 138869.16
A23: 4 | B23: 15.3 | H23: 995429 | I23: Confirmed | J23: 0.18 | K23: Confirmed | L23: 15.3 Demolishing R.C.C. work manually/ by mechanical means including stacking of steel bars and disposal of unserviceable material within 50 metres lead as per direction of Engineer - in- charge | M23: Cum | N23: 261 | O23: 3267.98 | P23: =O23+O23*$O$273 -> 3267.98 | Q23: =IF(P23=0, "Included",IF(ISERROR(N23*P23),P23, N23*P23)) -> 852942.78 | R23: =O23*N23 -> 852942.78
A24: 5 | B24: 15.7.4 | H24: 995429 | I24: Confirmed | J24: 0.18 | K24: Confirmed | L24: Demolishing brick work manually/ by mechanical means including stacking of serviceable material and disposal of unserviceable material within 50 metres lead as per direction of Engineer-in-charge. 15.7.4 In cement mortar | M24: Cum | N24: 155.58638 | O24: 1895.59 | P24: =O24+O24*$O$273 -> 1895.59 | Q24: =IF(P24=0, "Included",IF(ISERROR(N24*P24),P24, N24*P24)) -> 294927.98 | R24: =O24*N24 -> 294927.98
A25: 6 | B25: 15.12.1 | H25: 995419 | I25: Confirmed | J25: 0.18 | K25: Confirmed | L25: Dismantling doors, windows and clerestory windows (steel or wood) shutter including chowkhats, architrave, holdfasts etc. complete and stacking within 50 metres lead : 15.12.1 Of area 3 sq. metres and below | M25: Each | N25: 168 | O25: 337.84 | P25: =O25+O25*$O$273 -> 337.84 | Q25: =IF(P25=0, "Included",IF(ISERROR(N25*P25),P25, N25*P25)) -> 56757.12 | R25: =O25*N25 -> 56757.12
A26: 7 | B26: 15.14.1 | H26: 995419 | I26: Confirmed | J26: 0.18 | K26: Confirmed | L26: 15.14.1 Of sectional area 40 square centimetres and above | M26: Cum | N26: 13.311375 | O26: 4101 | P26: =O26+O26*$O$273 -> 4101 | Q26: =IF(P26=0, "Included",IF(ISERROR(N26*P26),P26, N26*P26)) -> 54589.949 | R26: =O26*N26 -> 54589.949
A27: 8 | B27: 15.28.1 | H27: 995419 | I27: Confirmed | J27: 0.18 | K27: Confirmed | L27: Dismantling roofing including ridges, hips, valleys and gutters etc., and stacking the material within 50 metres lead of: 15.28.1 G.S. Sheet | M27: Sqm | N27: 1108.275 | O27: 151.79 | P27: =O27+O27*$O$273 -> 151.79 | Q27: =IF(P27=0, "Included",IF(ISERROR(N27*P27),P27, N27*P27)) -> 168225.06 | R27: =O27*N27 -> 168225.06
A28: 9 | B28: 15.44.1 | H28: 995419 | I28: Confirmed | J28: 0.18 | K28: Confirmed | L28: Dismantling G.I. pipes (external work) including excavation and refilling trenches after taking out the pipes, manually/ by mechanical means including stacking of pipes within 50 metres lead as per direction of Engineer-in-charge : 15.44.1 15 mm to 40 mm nominal bore | M28: Mtr | N28: 187 | O28: 138.5 | P28: =O28+O28*$O$273 -> 138.5 | Q28: =IF(P28=0, "Included",IF(ISERROR(N28*P28),P28, N28*P28)) -> 25899.5 | R28: =O28*N28 -> 25899.5
A29: 10 | B29: 15.45.1 | H29: 995419 | I29: Confirmed | J29: 0.18 | K29: Confirmed | L29: Dismantling C.I. pipes including excavation and refilling trenches after taking out the pipes, manually/ by mechanical means breaking lead caulked joints, melting of lead and making into blocks including stacking of pipes & lead at site within 50 metre lead as per direction of Engineer-in-charge: 15.45.1 Up to 150 mm diameter | M29: Mtr | N29: 184 | O29: 380.25 | P29: =O29+O29*$O$273 -> 380.25 | Q29: =IF(P29=0, "Included",IF(ISERROR(N29*P29),P29, N29*P29)) -> 69966 | R29: =O29*N29 -> 69966
A30: 11 | B30: 15.6 | H30: 995419 | I30: Confirmed | J30: 0.18 | K30: Confirmed | L30: 15.60 Disposal of building rubbish / malba / similar unserviceable, dismantled or waste materials by mechanical means, including loading, transporting, unloading to approved municipal dumping ground or as approved by Engineer-in-charge, beyond 50 m initial lead, for all leads including all lifts involved. | M30: Cum | N30: 2000 | O30: 244.81 | P30: =O30+O30*$O$273 -> 244.81 | Q30: =IF(P30=0, "Included",IF(ISERROR(N30*P30),P30, N30*P30)) -> 489620 | R30: =O30*N30 -> 489620
L31: Sub-Total | Q31: =SUBTOTAL(9,Q20:Q30) -> 2170889.1 | R31: =O31*N31 -> 0
A32: PART-B:Construction of 01Nos. B1 (2 units) Type building, 02 Nos B-2 (10 units) Type building, 01 Nos B3 (4 units) Type Building, 01 C (2 units) type building and dismantling of existing building at 400 kV Misa Sub-station under ADD CAP 2019-24. | R32: =O32*N32 -> 0
A33: 1 | B33: 2.6.1 | H33: 995433 | I33: Confirmed | J33: 0.18 | K33: Confirmed | L33: Earth work in excavation by mechanical means (Hydraulic excavator)/ manual means over areas (exceeding 30 cm in depth, 1.5 m in width as well as 10 sqm on plan) including getting out and disposal of excavated earth lead upto 50 m and lift upto 1.5 m, as directed by Engineer-incharge. All kinds of soil. | M33: cum | N33: 3491.14 | O33: 229.3 | P33: =O33+O33*$O$273 -> 229.3 | Q33: =IF(P33=0, "Included",IF(ISERROR(ROUND(N33*P33,2)),P33, ROUND(N33*P33,2))) -> 800518.4 | R33: =O33*N33 -> 800518.4 | S33: =O33*N33 -> 800518.4
A34: 2 | B34: 2.8.1 | H34: 995433 | I34: Confirmed | J34: 0.18 | K34: Confirmed | L34: Earth work in excavation by mechanical means (Hydraulic excavator) / manual means in foundation trenches or drains (not exceeding 1.5 m in width or 10 sqm on plan), including dressing of sides and ramming of bottoms, lift upto 1.5 m, including getting out the excavated soil and disposal of surplus excavated soil as directed, within a lead of 50 m. 2.8.1 All kinds of soil. | M34: cum | N34: 250 | O34: 320.15 | P34: =O34+O34*$O$273 -> 320.15 | Q34: =IF(P34=0, "Included",IF(ISERROR(ROUND(N34*P34,2)),P34, ROUND(N34*P34,2))) -> 80037.5 | R34: =O34*N34 -> 80037.5
A35: 3 | B35: 2.10.1.1 | H35: 995433 | I35: Confirmed | J35: 0.18 | K35: Confirmed | L35: Excavating trenches of required width for pipes, cables, etc including excavation for sockets, and dressing of sides, ramming of bottoms, depth upto 1.5 m, including getting out the excavated soil, and then returning the soil as required, in layers not exceeding 20 cm in depth, including consolidating each deposited layer by ramming, watering, etc. and disposing of urplus excavated soil as directed, within a lead of 50 m : 2.10.1 All kinds of soil. 2.10.1.1 Pipes, cables etc, not exceeding 80 mm dia. | M35: Metre | N35: 200 | O35: 285.21 | P35: =O35+O35*$O$273 -> 285.21 | Q35: =IF(P35=0, "Included",IF(ISERROR(ROUND(N35*P35,2)),P35, ROUND(N35*P35,2))) -> 57042 | R35: =O35*N35 -> 57042
A36: 4 | B36: 2.25 | H36: 995433 | I36: Confirmed | J36: 0.18 | K36: Confirmed | L36: Filling available excavated earth (excluding rock) in trenches, plinth, sides of foundations etc. in layers not exceeding 20cm in depth, consolidating each deposited layer by ramming and watering, lead up to 50 m and lift upto 1.5 m. | M36: cum | N36: 1980.95 | O36: 283.43 | P36: =O36+O36*$O$273 -> 283.43 | Q36: =IF(P36=0, "Included",IF(ISERROR(ROUND(N36*P36,2)),P36, ROUND(N36*P36,2))) -> 561460.66 | R36: =O36*N36 -> 561460.66
A37: 5 | B37: 2.25A | H37: 995443 | I37: Confirmed | J37: 0.18 | K37: Confirmed | L37: Excavating, supplying and filling of local earth (including royalty) by mechanical transport upto a lead of 5km also including ramming and watering of the earth in layers not exceeding 20 cm in trenches, plinth, sides of foundation etc. complete. | M37: cum | N37: 75 | O37: 411.44 | P37: =O37+O37*$O$273 -> 411.44 | Q37: =IF(P37=0, "Included",IF(ISERROR(ROUND(N37*P37,2)),P37, ROUND(N37*P37,2))) -> 30858 | R37: =O37*N37 -> 30858
A38: 6 | B38: 2.26.1 | H38: 995433 | I38: Confirmed | J38: 0.18 | K38: Confirmed | L38: Extra for every additional lift of 1.5 m or part thereof in excavation / banking excavated or stacked materials. All kinds of soil. | M38: cum | N38: 1282.47 | O38: 116.63 | P38: =O38+O38*$O$273 -> 116.63 | Q38: =IF(P38=0, "Included",IF(ISERROR(ROUND(N38*P38,2)),P38, ROUND(N38*P38,2))) -> 149574.48 | R38: =O38*N38 -> 149574.48
A39: 7 | B39: 2.27 | H39: 995433 | I39: Confirmed | J39: 0.18 | K39: Confirmed | L39: Supplying and filling in plinth with sand under floors, including watering, ramming, consolidating and dressing complete. | M39: cum | N39: 106.12 | O39: 2412.05 | P39: =O39+O39*$O$273 -> 2412.05 | Q39: =IF(P39=0, "Included",IF(ISERROR(ROUND(N39*P39,2)),P39, ROUND(N39*P39,2))) -> 255966.75 | R39: =O39*N39 -> 255966.75
A40: 8 | B40: 2.28 | H40: 995433 | I40: Confirmed | J40: 0.18 | K40: Confirmed | L40: Surface dressing of the ground including removing vegetation and inequalities not exceeding 15 cm deep and disposal of rubbish, lead up to 50 m and lift up to 1.5 m. 2.28.1 All kinds of soil | M40: sqm | N40: 1500 | O40: 31.42 | P40: =O40+O40*$O$273 -> 31.42 | Q40: =IF(P40=0, "Included",IF(ISERROR(ROUND(N40*P40,2)),P40, ROUND(N40*P40,2))) -> 47130 | R40: =O40*N40 -> 47130
A41: 9 | I41: Confirmed | J41: 0.18 | K41: Confirmed | L41: Concrete Work | N41: 0 | O41: 0 | P41: =O41+O41*$O$273 -> 0 | Q41: =IF(P41=0, "Included",IF(ISERROR(ROUND(N41*P41,2)),P41, ROUND(N41*P41,2))) -> Included | R41: =O41*N41 -> 0
A42: 10 | B42: 2.35.1.1 | H42: 995433 | I42: Confirmed | J42: 0.18 | K42: Confirmed | L42: Diluting and injecting chemical emulsion for POST-CONSTRUCTIONAL anti-termite treatment : Along external wall where the apron is not provided using chemical emulsion @ 7.5 litres / sqm of the vertical surface of the substructure to a depth of 300mm including excavation channel along the wall & rodding etc. complete: With Chlorpyriphos/ Lindane E.C. 20% with 1% concentration | M42: Metre | N42: 351.22 | O42: 36.05 | P42: =O42+O42*$O$273 -> 36.05 | Q42: =IF(P42=0, "Included",IF(ISERROR(ROUND(N42*P42,2)),P42, ROUND(N42*P42,2))) -> 12661.48 | R42: =O42*N42 -> 12661.481
A43: 11 | B43: 4.1.3 | H43: 995454 | I43: Confirmed | J43: 0.18 | K43: Confirmed | L43: Providing and laying in position cement concrete of specified grade excluding the cost of centring and shuttering - All work upto plinth leve 4.1.3 1:2:4 (1 cement : 2 coarse sand : 4 graded stone aggregate 20 mm nominal size) | M43: Cum | N43: 48.47 | O43: 8220.03 | P43: =O43+O43*$O$273 -> 8220.03 | Q43: =IF(P43=0, "Included",IF(ISERROR(ROUND(N43*P43,2)),P43, ROUND(N43*P43,2))) -> 398424.85 | R43: =O43*N43 -> 398424.85
...

Sheet Sch-1(Disc)
A1: =Cover!B3 -> Specification No.: NESH/CSM/PRANIT/G1/1500-1316/Pkg-H/NIT | F1: Schedule - 1 | Q1: Direct Total | R1: =SUMIF(#REF!, "Direct",F20:F91) -> #REF! | W1: ='Names of Bidder'!D6 -> Sole Bidder | X1: `
Q2: BO Total | R2: =#REF!-R1 -> #REF! | W2: ='Names of Bidder'!AA6 -> 0
A3: =Cover!$B$2 -> PACKAGE-G :: Demolition & Re-construction of Residential buildings at Misa substations in NER under O&M Add Cap 2019-24.
A4: (SCHEDULE OF RATES AND PRICES)
A6: ="Bidder’s Name and Address (" & MID('Names of Bidder'!B9,9, 20) & ") :" -> Bidder’s Name and Address (Sole Bidder) : | E6: To:
A7: =IF('Names of Bidder'!D9="", "", IF('Names of Bidder'!D6= "JV (Joint Venture)", "JV of " & W8, "")) | E7: Contract Services
A8: Name : | B8: =IF('Names of Bidder'!D9=0, "", 'Names of Bidder'!D9) | E8: Power Grid Corporation of India Ltd., | W8: =IF('Names of Bidder'!D7=1,'Names of Bidder'!D9&" & "&'Names of Bidder'!D14,IF('Names of Bidder'!D7="2 or More",'Names of Bidder'!D9&" , "&'Names of Bidder'!D14&" & "&'Names of Bidder'!D19,"")) -> , &
A9: Address : | B9: =IF('Names of Bidder'!D10=0, "", 'Names of Bidder'!D10) | E9: "Saudamini", Plot No.-2
B10: =IF('Names of Bidder'!D11=0, "", 'Names of Bidder'!D11) | E10: Sector-29,
B11: =IF('Names of Bidder'!D12=0, "", 'Names of Bidder'!D12) | E11: Gurgaon (Haryana) - 122001
A13: Price Break-up for individual items | R13: Direct
E14: All Prices are in Indian Rupees. | R14: Bought-Out
A15: SI. No. | B15: Item Description | C15: Unit | D15: Qty. (for all locations) | E15: Unit Rate | F15: Total Price | I15: =Discount!N15 -> #REF!
A16: 1 | B16: 2 | C16: 3 | D16: 4 | E16: 5 | F16: 6 = 4 x 5
A19: 1 | B19: ='Sch-1(A)'!B19 -> Dismantling 20 Nos B-type buildings at 400kV Misa Substation | C19: Nos. | D19: ='Sch-1(A)'!N19 -> 0
A20: 1.1 | B20: ='Sch-1(A)'!#REF! -> #REF!
A21: a) | B21: ='Sch-1(A)'!L33 -> Earth work in excavation by mechanical means (Hydraulic excavator)/ manual means over areas (exceeding 30 cm in depth, 1.5 m in width as well as 10 sqm on plan) including getting out and disposal of excavated earth lead upto 50 m and lift upto 1.5 m, as directed by Engineer-incharge. All kinds of soil. | C21: Meter | D21: ='Sch-1(A)'!N33 -> 3491.14 | E21: ='Sch-1(A)'!V33 -> 0 | F21: =IF(E21=0, "Included",IF(ISERROR(D21*E21), E21, D21*E21)) -> Included | I21: =E21*(1-$N$15) -> 0
I22: =E22*(1-$N$15) -> 0
A23: 1.2 | B23: ='Sch-1(A)'!L104 -> 11.47.2 Size of Tile 600x600 mm | C23: Meter | D23: ='Sch-1(A)'!N104 -> 224.65 | E23: ='Sch-1(A)'!V104 -> 0 | F23: =IF(E23=0, "Included",IF(ISERROR(D23*E23), E23, D23*E23)) -> Included | I23: =E23*(1-$N$15) -> 0
I24: =E24*(1-$N$15) -> 0
A25: 1.3 | B25: ='Sch-1(A)'!L115 -> 12.44 Providing and fixing to the inlet mouth of rain water pipe cast iron grating 15 cm diameter and weighing not less than 440 grams. | C25: Cu.M | D25: ='Sch-1(A)'!N115 -> 22 | E25: ='Sch-1(A)'!V115 -> 0 | F25: =IF(E25=0, "Included",IF(ISERROR(D25*E25), E25, D25*E25)) -> Included | I25: =E25*(1-$N$15) -> 0
I26: =E26*(1-$N$15) -> 0
A27: 1.4 | B27: ='Sch-1(A)'!L116 -> 12.50 Providing and fixing precoated galvanised iron profile sheets (size, shape and pitch of corrugation as approved by Engineer-in-charge) 0.50 mm (+ 0.05 %) total coated thickness with zinc coating 120 grams per sqm as per IS: 277, in 240 mpa steel grade, 5-7 microns epoxy primer on both side of the sheet and polyester top coat 15-18 microns. Sheet should have protective guard film of 25 microns minimum to avoid scratches during transportation and should be supplied in single length upto 12 metre or as desired by Engineerin-charge. The sheet shall be fixed using self drilling /self tapping screws of size (5.5x 55 mm) with EPDM seal, complete upto any pitch in horizontal/ vertical or curved surfaces, excluding the cost of purlins, rafters and trusses and including cutting to size and shape wherever required. | C27: Cu.M | D27: ='Sch-1(A)'!N116 -> 320 | E27: ='Sch-1(A)'!V116 -> 0 | F27: =IF(E27=0, "Included",IF(ISERROR(D27*E27), E27, D27*E27)) -> Included | I27: =E27*(1-$N$15) -> 0
I28: =E28*(1-$N$15) -> 0
A29: 1.5 | B29: ='Sch-1(A)'!L117 -> 12.55 Providing and fixing Heat Resistant Terrace Tiles (300 mm x 300 mm x 20 mm) with SRI (solar refractive index) > 78, solar reflection > 0.70 and initial emittance > 0.75 on waterproof and sloped surface of terrace, laid on 20 mm thick cement sand mortar in the ratio of 1:4 (1 cement : 4 coarse sand) and grouting the joints with mix of white cement & marble powder in ratio of 1:1, including rubbing and polishing of the surface upto 3 cuts complete, including providing skirting upto 150 mm height along the parapet walls in the same manner. | C29: Sq.M. | D29: ='Sch-1(A)'!N117 -> 1312.8 | E29: ='Sch-1(A)'!V117 -> 0 | F29: =IF(E29=0, "Included",IF(ISERROR(D29*E29), E29, D29*E29)) -> Included | I29: =E29*(1-$N$15) -> 0
I30: =E30*(1-$N$15) -> 0
A31: 1.6 | B31: ='Sch-1(A)'!L118 -> 12 mm cement plaster of mix : 1:4 (1 cement: 4 coarse sand) | C31: MT | D31: ='Sch-1(A)'!N118 -> 2517.48 | E31: ='Sch-1(A)'!V118 -> 0 | F31: =IF(E31=0, "Included",IF(ISERROR(D31*E31), E31, D31*E31)) -> Included | I31: =E31*(1-$N$15) -> 0
I32: =E32*(1-$N$15) -> 0
A33: 1.7 | B33: ='Sch-1(A)'!L119 -> 15 mm cement plaster on rough side of single or half brick wall of mix:1:4 (1 cement: 4 coarse sand) | C33: Cu.M. | D33: ='Sch-1(A)'!N119 -> 2729.84 | E33: ='Sch-1(A)'!V119 -> 0 | F33: =IF(E33=0, "Included",IF(ISERROR(D33*E33), E33, D33*E33)) -> Included | I33: =E33*(1-$N$15) -> 0
I34: =E34*(1-$N$15) -> 0
A35: 1.8 | B35: ='Sch-1(A)'!L120 -> 18 mm cement plaster in two coats under layer 12 mm thick cement plaster 1:5 finished with a top layer 6mm thick cement plaster 1:6. | C35: Cu.M. | D35: ='Sch-1(A)'!N120 -> 1950 | E35: ='Sch-1(A)'!V120 -> 0 | F35: =IF(E35=0, "Included",IF(ISERROR(D35*E35), E35, D35*E35)) -> Included | I35: =E35*(1-$N$15) -> 0
I36: =E36*(1-$N$15) -> 0
A37: 1.9 | B37: ='Sch-1(A)'!L121 -> 13.16 6 mm cement plaster of mix : 13.16.1 1:3 (1 cement : 3 fine sand) | C37: Nos. | D37: ='Sch-1(A)'!N121 -> 900 | E37: ='Sch-1(A)'!V121 -> 0 | F37: =IF(E37=0, "Included",IF(ISERROR(D37*E37), E37, D37*E37)) -> Included | I37: =E37*(1-$N$15) -> 0
I38: =E38*(1-$N$15) -> 0
A39: 1.1 | B39: ='Sch-1(A)'!L122 -> Neat cement punning. | C39: MT | D39: ='Sch-1(A)'!N122 -> 320 | E39: ='Sch-1(A)'!V122 -> 0 | F39: =IF(E39=0, "Included",IF(ISERROR(D39*E39), E39, D39*E39)) -> Included | I39: =E39*(1-$N$15) -> 0
I40: =E40*(1-$N$15) -> 0
A41: 1.11 | B41: ='Sch-1(A)'!#REF! -> #REF! | C41: No. | D41: ='Sch-1(A)'!#REF! -> #REF! | E41: ='Sch-1(A)'!#REF! -> #REF! | F41: =IF(E41=0, "Included",IF(ISERROR(D41*E41), E41, D41*E41)) -> #REF! | I41: =E41*(1-$N$15) -> #REF!
I42: =E42*(1-$N$15) -> 0
I43: =E43*(1-$N$15) -> 0
A44: 2 | B44: ='Sch-1(A)'!#REF! -> #REF! | C44: Nos. | D44: ='Sch-1(A)'!#REF! -> #REF! | E44: ='Sch-1(A)'!#REF! -> #REF! | I44: =E44*(1-$N$15) -> #REF!
...

Sheet Sch-1(B)
A1: =Cover!B3 -> Specification No.: NESH/CSM/PRANIT/G1/1500-1316/Pkg-H/NIT | P1: Schedule - 1(B) | AC1: Direct Total | AD1: =SUMIF(#REF!, "Direct",P20:P41) -> #REF! | AI1: ='Names of Bidder'!D6 -> Sole Bidder | AJ1: `
AC2: BO Total | AD2: =#REF!-AD1 -> #REF! | AI2: ='Names of Bidder'!AA6 -> 0
A3: =Cover!$B$2 -> PACKAGE-G :: Demolition & Re-construction of Residential buildings at Misa substations in NER under O&M Add Cap 2019-24.
A4: (NON-SCHEDULE OF RATES AND PRICES)
A6: ="Bidder’s Name and Address (" & MID('Names of Bidder'!B9,9, 20) & ") :" -> Bidder’s Name and Address (Sole Bidder) : | O6: To:
A7: =IF('Names of Bidder'!D9="", "", IF('Names of Bidder'!D6= "JV (Joint Venture)", "JV of " & AI8, "")) | O7: Contracts and Material
A8: Name : | F8: =IF('Names of Bidder'!D9=0, "", 'Names of Bidder'!D9) | O8: Power Grid Corporation of India Ltd., | AI8: =IF('Names of Bidder'!D7=1,'Names of Bidder'!D9&" & "&'Names of Bidder'!D14,IF('Names of Bidder'!D7="2 or More",'Names of Bidder'!D9&" , "&'Names of Bidder'!D14&" & "&'Names of Bidder'!D19,"")) -> , &
A9: Address : | F9: =IF('Names of Bidder'!D10=0, "", 'Names of Bidder'!D10) | O9: North Eastern Region Transmission System
F10: =IF('Names of Bidder'!D11=0, "", 'Names of Bidder'!D11) | O10: Dongtieh, Lower Nongrah,
F11: =IF('Names of Bidder'!D12=0, "", 'Names of Bidder'!D12) | O11: Lapalang, Shillong – 793 006 (Meghalaya)
A13: PRICE COMPONENTS (PRICE BREAK-UP) | AD13: Direct
AD14: Bought-Out
T15: =Discount!N15 -> #REF!
N16: All Prices are in Indian Rupees.
A17: SI. No. | B17: DSR Item Ref | C17: PR Line Item No | D17: Activity Header | E17: PR Activity No | F17: Activity Description | H17: SAC (Service Accounting Codes) | I17: Whether SAC in column '8’ is confirmed. If not indicate applicable the SAC # | J17: Rate of GST applicable ( in %) | K17: Whether rate of GST in column ‘ 10 ’ is confirmed. If not indicate applicable rate of GST # | L17: Description | M17: Unit | N17: Qty | O17: Unit Rate | P17: Total Price
A18: 1 | B18: 2 | C18: 3 | D18: 4 | E18: 5 | F18: 6 | G18: 7 | H18: 8 | I18: 9 | J18: 10 | K18: 11 | L18: 12 | M18: 13 | N18: 14 | O18: 15 | P18: 16 = 14 x 15
A19: PART-B:Construction of 01Nos. B1 (4 units) Type building, 02 Nos B-2 (8 units) Type building, 01 Nos B3 (4 units) Type Building, 01 C (2 units) type building and dismantling of existing building at 220 kV Dimapur Sub-station under ADD CAP 2019-24.
A20: 1 | B20: NS | H20: 995454 | I20: Confirmed | J20: 0.18 | K20: Confirmed | L20: Construction of drains 300mm wide with 300mm depth by providing base PCC 1:4:8 and full brick wall of mortar 1:6 and plastering with a coat of neat cement of mortar 1:4 (1 cement:4 fine sand) all complete including back filling. | M20: Mtr | N20: 200 | P20: =IF(O20=0, "Included",IF(ISERROR(N20*O20), O20, N20*O20)) -> Included
A21: 2 | B21: NS | H21: 995462 | I21: Confirmed | J21: 0.18 | K21: Confirmed | L21: Supplying, installing, testing and commissioning approved make 15mm CP health faucet with CP flexible tube 1.2 m long and wall hook (Jaquar or equvalent), CP crutch, nozzle & 2 way Bib Cock (Jaquar or equivalent) with wall flange etc.,complete. The water flow rate is 6 ltrs/Min | M21: each | N21: 36 | P21: =IF(O21=0, "Included",IF(ISERROR(N21*O21), O21, N21*O21)) -> Included
A22: 3 | B22: NS | H22: 995421 | I22: Confirmed | J22: 0.18 | K22: Confirmed | L22: Providing and fixing Braided hose with Two 15mm Nuts & Rubber washers with both side Nipple of Jaquar or equivalent make -450 mm length. | M22: each | N22: 28 | P22: =IF(O22=0, "Included",IF(ISERROR(N22*O22), O22, N22*O22)) -> Included
A23: 4 | B23: NS | H23: 995411 | I23: Confirmed | J23: 0.18 | K23: Confirmed | L23: Supply and fixing of SS Shield coupler 50mmx 40mm dia | M23: each | N23: 30 | P23: =IF(O23=0, "Included",IF(ISERROR(N23*O23), O23, N23*O23)) -> Included
A24: 5 | B24: NS | H24: 995411 | I24: Confirmed | J24: 0.18 | K24: Confirmed | L24: Providing and Fixing Stainless steel 304 grade bracket with necessary screws | M24: Kg | N24: 37.5 | P24: =IF(O24=0, "Included",IF(ISERROR(N24*O24), O24, N24*O24)) -> Included
A25: 6 | B25: NS | H25: 995476 | I25: Confirmed | J25: 0.18 | K25: Confirmed | L25: Providing brass cupboard locks with six levers of approved quality including necessary screws etc. complete. Size 40mm (in cupboards) | M25: each | N25: 54 | P25: =IF(O25=0, "Included",IF(ISERROR(N25*O25), O25, N25*O25)) -> Included
A26: 7 | B26: NS | H26: 995411 | I26: Confirmed | J26: 0.18 | K26: Confirmed | L26: Supply and fixing of SS Handles 100mm | M26: Nos | N26: 54 | P26: =IF(O26=0, "Included",IF(ISERROR(N26*O26), O26, N26*O26)) -> Included
A27: 8 | B27: NS | H27: 995411 | I27: Confirmed | J27: 0.18 | K27: Confirmed | L27: Supply and fixing of SS Handles 125mm | M27: Nos | N27: 54 | P27: =IF(O27=0, "Included",IF(ISERROR(N27*O27), O27, N27*O27)) -> Included
A28: 9 | B28: NS | H28: 995424 | I28: Confirmed | J28: 0.18 | K28: Confirmed | L28: Supply and appication of Silicon Sealent around UPVC windows and doors of quarters. | M28: Mtr | N28: 500 | P28: =IF(O28=0, "Included",IF(ISERROR(N28*O28), O28, N28*O28)) -> Included
A29: 10 | B29: NS | H29: 995461 | I29: Confirmed | J29: 0.18 | K29: Confirmed | L29: Providing and Fixing CPVC ball valves 20 mm | M29: each | N29: 16 | P29: =IF(O29=0, "Included",IF(ISERROR(N29*O29), O29, N29*O29)) -> Included
A30: 11 | B30: NS | H30: 995411 | I30: Confirmed | J30: 0.18 | K30: Confirmed | L30: Providing and fixing High Grade AISI 304 Stainless Steel Ball Bearing Drawer Slides Soft Closing channels 500mm long with necessary Stainless Steel screws etc. complete as per directions of Engineer in-charge.Make, Kich or equivqlent | M30: Pair | N30: 64 | P30: =IF(O30=0, "Included",IF(ISERROR(N30*O30), O30, N30*O30)) -> Included
A31: 12 | B31: NS | H31: 995411 | I31: Confirmed | J31: 0.18 | K31: Confirmed | L31: Providing and fixing Cabinet & Drawer Handle(304 Grade)with necessary SS screws of Kich Make or equivalent. complete as per direction of Engineer in charge Tubular shape 10mm x 224mm of approved make. | M31: each | N31: 54 | P31: =IF(O31=0, "Included",IF(ISERROR(N31*O31), O31, N31*O31)) -> Included
... A41: 22 | B41: NS | H41: 995476 | I41: Confirmed | J41: 0.18 | K41: Confirmed | L41: Supply and installation of kitchen chimney Signia 60 cm autoclean function and a chimney with 60 cm autoclean technology with 1200 suction capacity of Kutchina or equivalent all complete as per instruction of EIC. | M41: each | N41: 18 | P41: =IF(O41=0, "Included",IF(ISERROR(N41*O41), O41, N41*O41)) -> Included
L42: Sub-Total | P42: =SUBTOTAL(9,P20:P41) -> 0 | Q42: =O42*N42 -> 0 | R42: =IF(K42="", J42*Q42/100,K42*Q42/100) -> 0 | T42: =O42*(1-$T$15) -> #REF! | U42: =T42*N42 -> #REF! | V42: =IF(K42="", J42*U42/100,K42*U42/100) -> #REF!
A43: PART-C ELECTRICAL ITEMS
L44: SUB HEAD -I: WIRING
A45: 1 | B45: NS | H45: 85176260 | I45: Confirmed | J45: 0.18 | K45: Confirmed | L45: Fabrication, supply, erection and commissioning of distribution panel duly painted with apprved shade (approx. dimensions: 1500 mm wide x 2.10 mm ht x 300 mm deep) fabricated out of 2 mm thick CRCA sheet with cover, hinges on one side, locking arrangement on the other side with following MCBs energy meters etc alongwith 0-500 voltmeter(96x96 mm), indicating lamps, toggle swith, slide lock fuse etc including interconnections as required. (1) Incoming 100 A - 4 pole RCCB with 300 mA current sensitivity - 1 no (2) DP 32 A MCB - 7 nos (3) 10-40 A, 1 - ph static Energy Meter - 5 nos (4) 4 strips 100 A tinned Copper Bus bar(50mm x 5mm x 500 mm) - I Set | M45: Each | N45: 9 | P45: =IF(O45=0, "Included",IF(ISERROR(N45*O45), O45, N45*O45)) -> Included
L46: POWER CABLES
A47: 2 | B47: NS | H47: 998736 | I47: Confirmed | J47: 0.18 | K47: Confirmed | L47: Providing and laying 1.1kV Grade PVC insulated Power Cable 3½ X 35 sq. mm | M47: MTR | N47: 1500 | P47: =IF(O47=0, "Included",IF(ISERROR(N47*O47), O47, N47*O47)) -> Included
A48: 3 | B48: NS | H48: 998739 | I48: Confirmed | J48: 0.18 | K48: Confirmed | L48: Providing and laying 1.1kV Grade PVC insulated Power Cable 3½ X 50 sq. mm | M48: MTR | N48: 1250 | P48: =IF(O48=0, "Included",IF(ISERROR(N48*O48), O48, N48*O48)) -> Included
L49: HEAD -2: Supply
A50: 4 | B50: NS | H50: 84145120 | I50: Confirmed | J50: 0.18 | K50: Confirmed | L50: Ceiling Fan (1200 mm sweep) of reputed brand. | M50: Nos | N50: 96 | P50: =IF(O50=0, "Included",IF(ISERROR(N50*O50), O50, N50*O50)) -> Included
A51: 5 | B51: NS | H51: 84145930 | I51: Confirmed | J51: 0.18 | K51: Confirmed | L51: Exhaust fan (450 mm sweep for kitchen) of reputed brand. | M51: Nos | N51: 20 | P51: =IF(O51=0, "Included",IF(ISERROR(N51*O51), O51, N51*O51)) -> Included
...

Sheet Sch-2
A1: =Cover!B3 -> Specification No.: NESH/CSM/PRANIT/G1/1500-1316/Pkg-H/NIT | E1: Schedule - 2
A3: =Cover!$B$2 -> PACKAGE-G :: Demolition & Re-construction of Residential buildings at Misa substations in NER under O&M Add Cap 2019-24.
A4: (SUMMARY OF TAXES & DUTIES)
A6: ='Sch-1(A)'!A6 -> Bidder’s Name and Address (Sole Bidder) : | D6: To:
A7: ='Sch-1(A)'!A7 | D7: ='Sch-1(A)'!O7 -> Contracts and Material
A8: Name : | B8: =IF('Sch-1(A)'!F8=0, "", 'Sch-1(A)'!F8) | D8: ='Sch-1(A)'!O8 -> Power Grid Corporation of India Ltd.,
A9: Address : | B9: =IF('Sch-1(A)'!F9=0, "", 'Sch-1(A)'!F9) | D9: ='Sch-1(A)'!O9 -> North Eastern Region Transmission System
B10: =IF('Sch-1(A)'!F10=0, "", 'Sch-1(A)'!F10) | D10: ='Sch-1(A)'!O10 -> Dongtieh, Lower Nongrah,
B11: =IF('Sch-1(A)'!F11=0, "", 'Sch-1(A)'!F11) | D11: ='Sch-1(A)'!O11 -> Lapalang, Shillong – 793 006 (Meghalaya)
A13: Sl. No. | B13: Item Nos. | D13: Total Price (INR) | I13: After Discount | M13: After MPDiscount
A14: 1 | B14: TOTAL GST ON SERVICES | I14: Excise Duty | K14: =ROUND('Sch-1(A)'!AF3*#REF!,0) -> #REF! | M14: Excise Duty | O14: =ROUND('Sch-1(A)'!AF5*#REF!,0) -> #REF!
B15: Total GST on Services (indentified in Schedule-1) which are not included in the prices as per the provision of the Bidding Documents, as applicable
B16: GRAND TOTAL
A18: Date : | B18: =IF('Sch-1(A)'!D279=0,"", 'Sch-1(A)'!D279) -> -- | C18: Printed Name : | D18: =IF('Sch-1(A)'!O280=0,"",'Sch-1(A)'!O280)
A19: Place : | B19: =IF('Sch-1(A)'!D280=0,"", 'Sch-1(A)'!D280) | C19: Designation : | D19: =IF('Sch-1(A)'!O281=0,"",'Sch-1(A)'!O281)

Sheet Sch-5 Dis
A1: =Cover!B3 -> Specification No.: NESH/CSM/PRANIT/G1/1500-1316/Pkg-H/NIT | E1: Schedule - 5
A3: =Cover!$B$2 -> PACKAGE-G :: Demolition & Re-construction of Residential buildings at Misa substations in NER under O&M Add Cap 2019-24.
A4: SUMMARY OF TAXES & DUTIES APPLICABLE ON GOODS
A6: ='Sch-1(A)'!A6 -> Bidder’s Name and Address (Sole Bidder) : | D6: To:
A7: ='Sch-1(A)'!A7 | D7: ='Sch-1(A)'!O7 -> Contracts and Material
A8: Name : | B8: =IF('Sch-1(A)'!F8=0, "", 'Sch-1(A)'!F8) | D8: ='Sch-1(A)'!O8 -> Power Grid Corporation of India Ltd.,
A9: Address : | B9: =IF('Sch-1(A)'!F9=0, "", 'Sch-1(A)'!F9) | D9: ='Sch-1(A)'!O9 -> North Eastern Region Transmission System
B10: =IF('Sch-1(A)'!F10=0, "", 'Sch-1(A)'!F10) | D10: ='Sch-1(A)'!O10 -> Dongtieh, Lower Nongrah,
B11: =IF('Sch-1(A)'!F11=0, "", 'Sch-1(A)'!F11) | D11: ='Sch-1(A)'!O11 -> Lapalang, Shillong – 793 006 (Meghalaya)
A13: Sl. No. | B13: Item Nos. | D13: Total Price (INR) | I13: After Discount | M13: After MPDiscount
A14: 1 | B14: TOTAL EXCISE DUTY | D14: =#REF!*C16 -> #REF! | I14: Excise Duty | K14: =ROUND('Sch-1(A)'!AF3*C16,0) -> #REF! | M14: Excise Duty | O14: =ROUND('Sch-1(A)'!AF5*C16,0) -> #REF!
B15: Total Excise Duty for direct transaction between the Contractor and the Employer (identified in Schedule 1 as 'Direct') which are not included in the Ex-works price as per the provision of the Bidding Documents, as applicable.
B16: Rate of Excise Duty for Direct items indicated in Sch-1 | C16: ='Sch-2'!#REF! -> #REF!
A17: 2 | B17: TOTAL SALES TAX | D17: =ROUND((C19+C20)*C21,0) -> #REF! | I17: Sales Tax | K17: =IF(ISERROR(ROUND((J19+J20)*C21,0)),0, ROUND((J19+J20)*C21,0)) -> 0 | M17: Sales Tax | O17: =IF(ISERROR(ROUND((N19+N20)*C21,0)),0, ROUND((N19+N20)*C21,0)) -> 0
B18: Total Sales Tax for direct transaction between the Contractor and the Employer (identified in Schedule 1 as 'Direct') which are not included in the Ex-works price as per the provision of the Bidding Documents, as applicable. | I18: =C19/'Sch-1(A)'!AF1 -> #REF! | K18: ='Sch-1(A)'!AF3 -> 0 | M18: =I18 -> #REF! | O18: ='Sch-1(A)'!AF5 -> 0
B19: Amount on which Sales Tax is applicable [only ex-w price] | C19: ='Sch-2'!#REF!*(1-'Sch-1(A)'!V15) -> #REF! | I19: Amount | J19: =I18*K18 -> #REF! | M19: Amount | N19: =M18*O18 -> #REF!
B20: ="Excise duty on this amount @ " & C16*100 & "%" -> #REF! | C20: =C16*C19 -> #REF! | I20: ED | J20: =J19*C16 -> #REF! | M20: ED | N20: =N19*C16 -> #REF!
B21: Rate of Sales Tax | C21: ='Sch-2'!#REF! -> #REF!
A22: 3 | B22: TOTAL VAT | D22: =ROUND((C24+C25)*C26,0) -> #REF! | I22: Vat | K22: =IF(ISERROR(ROUND((J24+J25)*C26,0)),0, ROUND((J24+J25)*C26,0)) -> 0 | M22: Vat | O22: =IF(ISERROR(ROUND((N24+N25)*C26,0)),0, ROUND((N24+N25)*C26,0)) -> 0
B23: Total VAT for direct transaction between the Contractor and the Employer (identified in Schedule 1 as 'Direct') which are not included in the Ex-works price as per the provision of the Bidding Documents, as applicable | I23: =C24/'Sch-1(A)'!AF1 -> #REF! | K23: =K18 -> 0 | M23: =I23 -> #REF! | O23: =O18 -> 0
B24: Amount on which VAT is applicable [only ex-w price] | C24: =#REF!-C19 -> #REF! | I24: Amount | J24: =I23*K23 -> #REF! | M24: Amount | N24: =M23*O23 -> #REF!
B25: ="Excise duty on this amount @ " & C16*100 & "%" -> #REF! | C25: =C24*C16 -> #REF! | I25: ED | J25: =J24*C16 -> #REF! | M25: ED | N25: =N24*C16 -> #REF!
B26: Rate of VAT | C26: ='Sch-2'!#REF! -> #REF!
A27: 4 | B27: TOTAL OCTROI | D27: ='Sch-2'!#REF! -> #REF!
B28: Total Octroi as applicable for destination site/state on all items of supply, as per the provisions of the Bidding Documents, on all items of Schedule 1.
B29: Amount on which Octroi is applicable | C29: Click here for details of Octroi
A30: 5 | B30: TOTAL ENTRY TAX | D30: ='Sch-2'!#REF! -> #REF!
B31: Total Entry Tax as applicable for destination site/state on all items of supply, as per the provisions of the Bidding Documents, on all items of Schedule 1.
B32: Amount on which Entry Tax is applicable | C32: Click here for details of Entry Taxes
A33: 6 | B33: TOTAL OTHER TAXES & DUTIES | D33: ='Sch-2'!#REF! -> #REF!
B34: Total Others levies payable in India (please specify) as applicable for destination site/state on all items of supply, as per the provisions of the Bidding Documents, on all items of Schedule 1.
B35: Amount on which Other Taxes & Duties are applicable | C35: Click here for details of Other Taxes & Duties
B36: GRAND TOTAL [1+2+3] | D36: =SUM(D14,D17,D22) -> #REF! | I36: Grand Total after Discount | K36: =K14+K17+K22 -> #REF! | M36: Grand Total after MPD | O36: =O14+O17+O22 -> #REF!
B37: Above Grand Total does not include Octroi, Entry Tax , Other Taxes & Duties quoted by bidder at Sl. No. 4,5 & 6 above | D37: Plus Octroi, Entry Tax , Other Taxes & Duties quoted by bidder at Sl. No. 4,5 & 6 above
A39: Note : | B39: The reimbursement of Excise Duty, Sales Tax/VAT and other levies as per Sl. No. 1, 2 & 3 above subject to provision of ITB Clause 11.4 shall be only against those items for which the Mode of Transaction indicated in Schedule - 1 is 'Direct'. In case of those items in the said Sechedule-1 against which the mode of transaction has been left blank, the same shall be deemed to be 'Bought-out' for the purpose of Evaluation and award of Contract and the price indicated in Schedule 1 against such items shall be deemed to be inclusive of all such taxes, duties and levies.
A42: Date : | B42: =IF('Sch-1(A)'!D279=0,"", 'Sch-1(A)'!D279) -> -- | C42: Printed Name : | D42: =IF('Sch-1(A)'!O280=0,"",'Sch-1(A)'!O280)
A43: Place : | B43: =IF('Sch-1(A)'!D280=0,"", 'Sch-1(A)'!D280) | C43: Designation : | D43: =IF('Sch-1(A)'!O281=0,"",'Sch-1(A)'!O281)

Sheet Sch-3 After Discount
A1: =Cover!B3 -> Specification No.: NESH/CSM/PRANIT/G1/1500-1316/Pkg-H/NIT | D1: Schedule - 3 After Discount
A3: =Cover!$B$2 -> PACKAGE-G :: Demolition & Re-construction of Residential buildings at Misa substations in NER under O&M Add Cap 2019-24.
A4: (GRAND SUMMARY : AFTER DISCOUNT)
A6: ='Sch-1(A)'!A6 -> Bidder’s Name and Address (Sole Bidder) : | D6: To:
A7: ='Sch-1(A)'!A7 | D7: ='Sch-1(A)'!O7 -> Contracts and Material
A8: Name : | B8: =IF('Sch-1(A)'!F8=0, "", 'Sch-1(A)'!F8) | D8: ='Sch-1(A)'!O8 -> Power Grid Corporation of India Ltd.,
A9: Address : | B9: =IF('Sch-1(A)'!F9=0, "", 'Sch-1(A)'!F9) | D9: ='Sch-1(A)'!O9 -> North Eastern Region Transmission System
B10: =IF('Sch-1(A)'!F10=0, "", 'Sch-1(A)'!F10) | D10: ='Sch-1(A)'!O10 -> Dongtieh, Lower Nongrah,
B11: =IF('Sch-1(A)'!F11=0, "", 'Sch-1(A)'!F11) | D11: ='Sch-1(A)'!O11 -> Lapalang, Shillong – 793 006 (Meghalaya)
A13: Sl. No. | B13: Description | D13: Total Price (INR)
A14: 1 | B14: TOTAL SCHEDULE NO. 1 | D14: ='Sch-1(A)'!O275+'Sch-1(B)'!P61 -> 80615382
A15: 2 | B15: TOTAL SCHEDULE NO. 2 | C15: (Taxes and Duties) | D15: ='Sch-1(A)'!#REF! -> #REF!
B16: Total Price [1+2] | D16: =D14+D15 -> #REF!
A17: 2 | B17: TOTAL SCHEDULE NO. 2 | D17: =#REF! -> #REF!
B18: Local Transportation, Insurance and other Incidental Services
A19: 3 | B19: TOTAL SCHEDULE NO. 3 | D19: =#REF! -> #REF!
B20: Installation Charges
A21: 4 | B21: TOTAL SCHEDULE NO. 4 | D21: Not Applicable
B22: Training Charges
A23: 5 | B23: TOTAL SCHEDULE NO. 5 | D23: ='Sch-5 Dis'!D36:E36 -> #REF!
B24: Taxes and Duties | D24: Plus Octroi, Entry Tax , Other Taxes & Duties quoted by bidder at Sl. No. 4,5 & 6 of Sch-5
A25: 6 | B25: TOTAL SCHEDULE NO. 7 | D25: =#REF! -> #REF!
B26: Type Test Charges [Total of this Schedule is included in Schedule - 1 above.]
B27: GRAND TOTAL [1+2+3+4+5] | D27: =SUM(D14,D17,D19,D21,D23) -> #REF!
D28: =D24 -> Plus Octroi, Entry Tax , Other Taxes & Duties quoted by bidder at Sl. No. 4,5 & 6 of Sch-5
A31: Date : | B31: =IF('Sch-1(A)'!D279=0,"", 'Sch-1(A)'!D279) -> -- | C31: Printed Name : | D31: =IF('Sch-1(A)'!O280=0,"",'Sch-1(A)'!O280)
A32: Place : | B32: =IF('Sch-1(A)'!D280=0,"", 'Sch-1(A)'!D280) | C32: Designation : | D32: =IF('Sch-1(A)'!O281=0,"",'Sch-1(A)'!O281)

Sheet Discount
A1: This letter of discount is optional. Bidder may / may not offer any discount.
A2: =Cover!B3 -> Specification No.: NESH/CSM/PRANIT/G1/1500-1316/Pkg-H/NIT | G2: Letter of Discount
A4: LETTER OF DISCOUNT
A5: To:
A6: Contract Services
A7: Power Grid Corporation of India Ltd.,
A8: "Saudamini", Plot No.-2
A9: Sector-29, (near IFFCO Chowk)
A10: Gurugram (Haryana) - 122001
A12: Subject : | C12: =Cover!$B$2 -> PACKAGE-G :: Demolition & Re-construction of Residential buildings at Misa substations in NER under O&M Add Cap 2019-24.
A13: Dear Sir
A14: With reference to the subject tender, we hereby offer unconditional discount on the prices quoted by us as per details given here below : | J14: Eq Weightage of Rs/ % | N14: Final Discount Factor
B15: 1 | C15: Discount on lum-sum basis on total price quoted by us. In Rs. | I15: ='Sch-1(A)'!#REF! -> #REF! | J15: =IF(I15=0,0,G15/I15) -> #REF! | N15: =J15+J16 -> #REF!
B16: 2 | C16: Discount on percent basis on total price quoted by us . In Percent (%) | I16: ='Sch-1(A)'!#REF! -> #REF! | J16: =G16 -> 0
B17: 3 | C17: Discount on lum-sum basis on the Schedules as given below : [The discount shall be proportionately applicable on all the relevent items of the respective Schdules.] In Rs.
C18: Schedule-1 : Ex works prices (Direct Only) | F18: In Rs. | I18: ='Sch-1(A)'!#REF! -> #REF! | J18: =IF(I18=0,0,G18/I18) -> #REF! | N18: Schedule-1 : (Direct Only) | O18: =J15+J16+J18+J24+J29+J30 -> #REF!
C19: Schedule-1 : Ex works prices (Bought Out Only) | F19: In Rs. | I19: ='Sch-1(A)'!#REF! -> #REF! | J19: =IF(I19=0,0,G19/I19) -> #REF! | N19: Schedule-1 : (Bought Out Only) | O19: =J15+J16+J19+J25+J29+J30 -> #REF!
C20: Schedule-2 : Freight & Insurance | F20: In Rs. | I20: =#REF! -> #REF! | J20: =IF(I20=0,0,G20/I20) -> #REF! | N20: Schedule-2 : Freight & Insurance | O20: =J15+J16+J20+J26+J29+J30 -> #REF!
C21: Schedule-3 : Erection Charges | F21: In Rs. | I21: =#REF! -> #REF! | J21: =IF(I21=0,0,G21/I21) -> #REF! | N21: Schedule-3 : Erection Charges | O21: =J15+J16+J21+J27+J29+J30 -> #REF!
C22: Schedule-7 : Type Test Charges | F22: In Rs. | I22: =#REF! -> #REF! | J22: =IF(I22=0,0,G22/I22) -> #REF! | N22: Schedule-6 : Type Test Charges | O22: =J15+J16+J22+J28+J29+J30 -> #REF!
B23: 4 | C23: Discount on percent basis on the Schedules as given below : [The discount shall be proportionately applicable on all the relevent items of the respective Schdules.] In Percent (%)
C24: Schedule-1 : Ex works prices (Direct Only) | F24: In Percent (%) | I24: ='Sch-1(A)'!#REF! -> #REF! | J24: =G24 -> 0
C25: Schedule-1 : Ex works prices (Bought Out Only) | F25: In Percent (%) | I25: ='Sch-1(A)'!#REF! -> #REF! | J25: =G25 -> 0
C26: Schedule-2 : Freight & Insurance | F26: In Percent (%) | I26: =#REF! -> #REF! | J26: =G26 -> 0
C27: Schedule-3 : Erection Charges | F27: In Percent (%) | I27: =#REF! -> #REF! | J27: =G27 -> 0
C28: Schedule-7 : Type Test Charges | F28: In Percent (%) | I28: =#REF! -> #REF! | J28: =G28 -> 0
B29: 5 | C29: Multipackage discount applicable on this package (TW04) only if other packages covered under the same bidding document is also awarded to us. Discount on lum-sum basis on total price quoted by us without Taxes & Duties. [This discount shall be proportionately applicable on all the items of all the Schdules i.e. Sch-1 (without type test charges), Sch-2, Sch-3 & Sch-7] IN Rs. | I29: ='Sch-1(A)'!#REF!+#REF!+#REF!+#REF! -> #REF! | J29: =IF(I29=0,0,G29/I29) -> #REF!
B30: 3 | C30: Multipackage discount applicable on this package (TW04) only if other packages covered under the same bidding document is also awarded to us. Discount on percent basis on total price quoted by us without Taxes & Duties. [This discount shall be proportionately applicable on all the items of all the Schdules i.e. Sch-1 (without type test charges), Sch-2, Sch-3 & Sch-7] In Percent (%) | I30: ='Sch-1(A)'!#REF!+#REF!+#REF!+#REF! -> #REF! | J30: =G30 -> 0
C31: Discount(s) offered at sl. No. 1 to 2 will automatically get displayed and accounted for in the respective items of the Schedules.
A34: Please consider this letter of discount as the integral part of our price bid.
A35: Thanking you, we remain,
G37: Yours faithfully,
G38: ="For and on behalf of " & 'Sch-1(A)'!F8 -> For and on behalf of
A40: Date : | C40: =IF('Sch-1(A)'!D279=0,"", 'Sch-1(A)'!D279) -> -- | E40: Printed Name : | F40: ='Sch-1(A)'!O280
A41: Place : | C41: =IF('Sch-1(A)'!D280=0,"", 'Sch-1(A)'!D280) | E41: Designation : | F41: ='Sch-1(A)'!O281

Sheet Octroi
A2: Details of Octroi
A4: Sl No. | B4: Description of Items | C4: Amount on which Octroi is applicable | D4: Rate of Octroi | E4: Octroi
A5: (1) | B5: (2) | C5: (3) | D5: (4) | E5: (5) =(3) x (4)
A6: 1 | E6: =C6*D6 -> 0
A7: 2 | E7: =C7*D7 -> 0
A8: 3 | E8: =C8*D8 -> 0
A9: 4 | E9: =C9*D9 -> 0
A10: 5 | E10: =C10*D10 -> 0
A11: 6 | E11: =C11*D11 -> 0
A12: 7 | E12: =C12*D12 -> 0
A13: 8 | E13: =C13*D13 -> 0
A14: 9 | E14: =C14*D14 -> 0
A15: 10 | E15: =C15*D15 -> 0
B16: Total | E16: =SUM(E6:E15) -> 0

Sheet Entry Tax
A2: Details of Entry Tax
A4: Sl No. | B4: Description of Items | C4: Amount on which Entry Tax is applicable | D4: Rate of Entry Tax | E4: Entry Tax
A5: (1) | B5: (2) | C5: (3) | D5: (4) | E5: (5) =(3) x (4)
A6: 1 | E6: =C6*D6 -> 0
A7: 2 | E7: =C7*D7 -> 0
A8: 3 | E8: =C8*D8 -> 0
A9: 4 | E9: =C9*D9 -> 0
A10: 5 | E10: =C10*D10 -> 0
A11: 6 | E11: =C11*D11 -> 0
A12: 7 | E12: =C12*D12 -> 0
A13: 8 | E13: =C13*D13 -> 0
A14: 9 | E14: =C14*D14 -> 0
A15: 10 | E15: =C15*D15 -> 0
B16: Total | E16: =SUM(E6:E15) -> 0

Sheet Other Taxes & Duties
A2: Details of Other Taxes & Duties
A4: Sl No. | B4: Description of Items | C4: Amount on which Other Taxes & Duties are applicable | D4: Description of Taxes & Duties | E4: Rate of Taxes & Duties | F4: Amount of Taxes & Duties
A5: (1) | B5: (2) | C5: (3) | D5: (4) | E5: (5) | F5: (6) =(3) x (5)
A6: 1 | F6: =C6*E6 -> 0
A7: 2 | F7: =C7*E7 -> 0
A8: 3 | F8: =C8*E8 -> 0
A9: 4 | F9: =C9*E9 -> 0
A10: 5 | F10: =C10*E10 -> 0
A11: 6 | F11: =C11*E11 -> 0
A12: 7 | F12: =C12*E12 -> 0
A13: 8 | F13: =C13*E13 -> 0
A14: 9 | F14: =C14*E14 -> 0
A15: 10 | F15: =C15*E15 -> 0
B16: Total | F16: =SUM(F6:F15) -> 0

Sheet Sch-3
A1: =Cover!B3 -> Specification No.: NESH/CSM/PRANIT/G1/1500-1316/Pkg-H/NIT | D1: Schedule -3
A3: =Cover!$B$2 -> PACKAGE-G :: Demolition & Re-construction of Residential buildings at Misa substations in NER under O&M Add Cap 2019-24.
A4: (GRAND SUMMARY )
A6: ='Sch-1(A)'!A6 -> Bidder’s Name and Address (Sole Bidder) : | D6: To:
A7: ='Sch-1(A)'!A7 | D7: ='Sch-1(A)'!O7 -> Contracts and Material
A8: Name : | B8: =IF('Sch-1(A)'!F8=0, "", 'Sch-1(A)'!F8) | D8: ='Sch-1(A)'!O8 -> Power Grid Corporation of India Ltd.,
A9: Address : | B9: =IF('Sch-1(A)'!F9=0, "", 'Sch-1(A)'!F9) | D9: ='Sch-1(A)'!O9 -> North Eastern Region Transmission System
B10: =IF('Sch-1(A)'!F10=0, "", 'Sch-1(A)'!F10) | D10: ='Sch-1(A)'!O10 -> Dongtieh, Lower Nongrah,
B11: =IF('Sch-1(A)'!F11=0, "", 'Sch-1(A)'!F11) | D11: ='Sch-1(A)'!O11 -> Lapalang, Shillong – 793 006 (Meghalaya)
A13: Sl. No. | B13: Description | D13: Total Price (INR)
A14: 1 | B14: TOTAL SCHEDULE NO. 1 | D14: ='Sch-1(B)'!P61+'Sch-1(A)'!O275 -> 80615382
B15: Total QUOTED Price Exclusive of GST | D15: =D14 -> 80615382
A16: 2 | B16: TOTAL SCHEDULE NO. 2 | D16: =#REF! -> #REF!
B17: Local Transportation, Insurance and other Incidental Services
A18: 3 | B18: TOTAL SCHEDULE NO. 3 | D18: =#REF! -> #REF!
B19: Installation Charges
A20: 4 | B20: TOTAL SCHEDULE NO. 4 | D20: Not Applicable
B21: Training Charges
A22: 5 | B22: TOTAL SCHEDULE NO. 5 | D22: ='Sch-2'!#REF! -> #REF!
B23: Taxes and Duties | D23: Plus Octroi, Entry Tax , Other Taxes & Duties quoted by bidder at Sl. No. 4,5 & 6 of Sch-5
A24: 6 | B24: TOTAL SCHEDULE NO. 7 | D24: =#REF! -> #REF!
B25: Type Test Charges [Total of this Schedule is included in Schedule - 1 above.]
B26: GRAND TOTAL [1+2+3+4+5] | D26: =D14 -> 80615382
D27: =D23 -> Plus Octroi, Entry Tax , Other Taxes & Duties quoted by bidder at Sl. No. 4,5 & 6 of Sch-5
A30: Date : | B30: =IF('Sch-1(A)'!D279=0,"", 'Sch-1(A)'!D279) -> -- | C30: Printed Name : | D30: =IF('Sch-1(A)'!O280=0,"",'Sch-1(A)'!O280)
A31: Place : | B31: =IF('Sch-1(A)'!D280=0,"", 'Sch-1(A)'!D280) | C31: Designation : | D31: =IF('Sch-1(A)'!O281=0,"",'Sch-1(A)'!O281)

Sheet Bid Form 2nd Envelope
A1: =Basic!B5 -> Specification No.: NESH/CSM/PRANIT/G1/1500-1316/Pkg-H/NIT | F1: Bid Form 2nd Envelope | Z1: ='Names of Bidder'!D6 -> Sole Bidder | AE1: 1 | AF1: st | AI1: 1 | AJ1: January
Z2: ='Names of Bidder'!AA6 -> 0 | AE2: 2 | AF2: nd | AI2: 2 | AJ2: February
A3: BID FORM (Second Envelope) | AE3: 3 | AF3: rd | AI3: 3 | AJ3: March
AE4: 4 | AF4: th | AI4: 4 | AJ4: April
A5: Bid Proposal Ref. No. | AE5: 5 | AF5: th | AI5: 5 | AJ5: May
A6: Date : | B6: ='Sch-1(A)'!D279 -> -- | AE6: 6 | AF6: th | AG6: =DAY(B6) -> #VALUE! | AI6: 6 | AJ6: June
AE7: 7 | AF7: th | AG7: =MONTH(B6) -> #VALUE! | AI7: 7 | AJ7: July
A8: To: | AE8: 8 | AF8: th | AG8: =LOOKUP(AG7,AI1:AI12,AJ1:AJ12) -> #VALUE! | AI8: 8 | AJ8: August
A9: ='Sch-1(A)'!O7 -> Contracts and Material | AE9: 9 | AF9: th | AG9: =YEAR(B6) -> #VALUE! | AI9: 9 | AJ9: September
A10: ='Sch-1(A)'!O8 -> Power Grid Corporation of India Ltd., | AE10: 10 | AF10: th | AI10: 10 | AJ10: October
A11: ='Sch-1(A)'!O9 -> North Eastern Region Transmission System | AE11: 11 | AF11: th | AI11: 11 | AJ11: November
A12: ='Sch-1(A)'!O10 -> Dongtieh, Lower Nongrah, | AE12: 12 | AF12: th | AI12: 12 | AJ12: December
A13: ='Sch-1(A)'!O11 -> Lapalang, Shillong – 793 006 (Meghalaya) | AE13: 13 | AF13: th
AE14: 14 | AF14: th
A15: Name of Contract : | C15: =Cover!B2 -> PACKAGE-G :: Demolition & Re-construction of Residential buildings at Misa substations in NER under O&M Add Cap 2019-24. | AE15: 15 | AF15: th
A16: Dear Ladies and/or Gentlemen, | AE16: 16 | AF16: th
A17: 1 | B17: =Z17 &AB17 & AC17 & AA17 -> In continuation of First Envelope of our Bid, we hereby submit the Second Envelope of the Bid, both of which shall be read together and in conjunction with each other, and shall be construed as an integral part of our Bid. Accordingly, we the undersigned, offer to execute Pile foundation, Civil and other allied works associated with the above-named package in full conformity with the said Bidding Documents for the sum of Rs. 80615382 (Rs. Eight Crore Six Lac Fifteen Thousand Three Hundred Eighty Two Only) or such other sums as may be determined in accordance with the terms and conditions of the Bidding Documents. | Z17: In continuation of First Envelope of our Bid, we hereby submit the Second Envelope of the Bid, both of which shall be read together and in conjunction with each other, and shall be construed as an integral part of our Bid. Accordingly, we the undersigned, offer to execute Pile foundation, Civil and other allied works associated with the above-named package in full conformity with the said Bidding Documents for the sum of Rs. | AA17: or such other sums as may be determined in accordance with the terms and conditions of the Bidding Documents. | AB17: ='Sch-3 After Discount'!D14 -> 80615382 | AC17: =" (" & 'N to W'!A4 & ")" -> (Rs. Eight Crore Six Lac Fifteen Thousand Three Hundred Eighty Two Only) | AE17: 17 | AF17: th
B18: The above amounts are in accordance with the price schedules attached herewith and are made part of this bid. | AE18: 18 | AF18: th
A19: 2 | B19: Price Schedules | AE19: 19 | AF19: th
A20: 2.1 | B20: In line with the requirements of the Bidding documents, we enclose herewith the following Price Schedules, duly filled - in as per your proforma: | AE20: 20 | AF20: th
B21: Schedule 1(A) | D21: Price Components (Price Break-up) SCHEDULED ITEM | AE21: 21 | AF21: st
B22: Schedule 1(B) | D22: Price Components (Price Break-up) NON-SCHEDULED ITEM
B23: Schedule 3 | D23: Grand Summary | AE23: 26 | AF23: th
A25: 2.2 | B25: We are aware that the Price Schedules do not generally give a full description of the Work to be performed under each item and we shall be deemed to have read the Technical Specifications and other sections of the Bidding Documents and Drawings to ascertain the full scope of Work included in each item while filling-in the rates and prices. We agree that the entered rates and prices shall be deemed to include for the full scope as aforesaid, including overheads and profit. | AE25: 28 | AF25: th
A26: 2.3 | B26: We declare that as specified in Clause 11.4.2, Section –II:ITB, Vol.-I of the Bidding Documents, prices quoted by us in the Price Schedules shall be subject to Price Adjustment during the execution of Contract in accordance with Appendix 2 (Price Adjustment) to the Contract agreement. | AE26: 29 | AF26: th
A27: 2.4 | B27: We understand that in the price schedules, where there are errors between the total of the amounts given under the column for the price Breakdown and the amount given under the Total Price, the former shall prevail and the latter will be corrected accordingly. We further understand that where there are discrepancies between amounts stated in figures and amounts stated in words, the amount stated in words shall prevail. Similarly, any discrepancy in the total bid price and that of the summation of Schedule price (price indicated in a Schedule indicating the total of that schedule), the total bid price shall be corrected to reflect the actual summation of the Schedule prices. | AE27: 30 | AF27: th
A28: 2.5 | B28: We declare that items left blank in the Schedules will be deemed to have been included in other items. The TOTAL for each Schedule and the TOTAL of Grand Summary shall be deemed to be the total price for executing the Facilities and sections thereof in complete accordance with the Contract, whether or not each individual item has been priced. | AE28: 31 | AF28: st
A29: 3 | B29: We confirm that except as otherwise specifically provided our Bid Prices in this Second Envelope include all taxes, duties, levies and charges as may be assessed on us, our Sub-Contractor/Sub-Vendor or their employees by all municipal, state or national government authorities in connection with the Facilities, in and outside of India.
A30: 3.1 | B30: 100% of applicable Taxes and Duties i.e GST , which are payable by the Employer under the Contract, shall be reimbursed by the Employer on production of satisfactory documentary evidence by the Contractor in accordance with the provisions of the Bidding Documents.
A31: 3.2 | B31: We further understand that notwithstanding 3.0 above, in case of award on us, you shall also bear and pay/reimburse to us, GST applicable on Services specified in Schedule No. 1 of the Price Schedule in this Second Envelope, by the Indian Laws.
A32: 4 | B32: # (For Joint Venture only) We, the partners of Joint Venture submitting this bid, do agree and confirm that in case of Award of Contract on the Joint Venture, we shall be jointly and severally liable and responsible for the execution of the Contract in accordance with Contract terms and conditions.
A33: 5 | B33: We, hereby, declare that only the persons or firms interested in this proposal as principals are named here and that no other persons or firms other than those mentioned herein have any interest in this proposal or in the Contract to be entered into, if the award is made on us, that this proposal is made without any connection with any other person, firm or party likewise submitting a proposal is in all respects for and in good faith, without collusion or fraud.
B34: =IF(ISERROR("Dated this " & AG6 & LOOKUP(AG6,AE1:AE28,AF1:AF28) & " day of " & AG8 & " " &AG9), "", "Dated this " & AG6 & LOOKUP(AG6,AE1:AE28,AF1:AF28) & " day of " & AG8 & " " &AG9)
B35: Thanking you, we remain,
F36: Yours faithfully,
F37: ="For and on behalf of " & 'Sch-1(A)'!F8 -> For and on behalf of
A39: Date : | B39: ='Sch-1(A)'!D279 -> -- | E39: Printed Name : | F39: ='Sch-1(A)'!O280
A40: Place : | B40: ='Sch-1(A)'!D280 | E40: Designation : | F40: ='Sch-1(A)'!O281
