Workbook

Sheet Instruction
A1: General Instruction to the Bidders for filling up this workbook of Price Schedules for Package
A3: I | B3: While filling up the worksheets following may please be observed :
B4: (i) | C4: Fill up only green shaded cells.
B5: (ii) | C5: Certain data type entries have been restricted, such as Numeric values or limits of numeric values.
B6: (iii) | C6: Select only the options provided in pull down menus.
B7: (iv) | C7: Do not link any cell of this work book with any other work book.
B8: (v) | C8: Do not use copy & paste or cut & paste options for filling up the data.
B9: (vi) | C9: Do not reformat any of the cell of the work book.
A11: II | B11: This Workbook consists of following worksheets :
B12: Cover :
C13: Opening page of the workbook.
B14: Names of Bidder :
B15: ● | C15: Select Sole Bidder or JV (Joint Venture) from the pull down menu. Do not leave this cell blank.
B16: ● | C16: Select nos. of the JV Partners other than the Lead Partner from drop down menu.
B17: ● | C17: In case of JV partners more than 2, enter details of 3rd & more partners along with details of 2nd partner.
B18: ● | C18: Fill up names and address of the Sole Bidder and /or Joint Venture.
B19: ● | C19: Fill up date in dd-mmm-yyyy format from drop down menu.
B20: ● | C20: Click for Sch-1 given at the right top of the worksheet to go to Sch-1.
B21: Sch -1 : (Abstract Of Cost)
B22: ● | C22: Summary of all the Schedules shall be displayed automatically.
B23: ● | C23: No cell is required to be filled in by the bidder in this worksheet.
B24: Sch-2 (Schedule Items for Civil Works for FOR CONSTRUCTION OF TL STORE (50m x 10 m) FOR BANASKANTHA SUBSTATION ) :
B25: ● | C25: Schedule Items: only % above/below DSR-2014 is to be filled up.
B26: ● | C26: Total amount shall get calculated automatically.
B27: Sch-3 (Non-Schedule Items for FOR CONSTRUCTION OF TL STORE (50m x 10 m) FOR BANASKANTHA SUBSTATION ) :
B28: ● | C28: Non-Schedule Items: Fill up unit rates for all the items in numeric values greater than 0 (zero). If unit rate is left blank, the corresponding item shall be deemed to be included in the total price.
B29: ● | C29: Total amount shall get calculated automatically.
B30: ● | C30: The rate quoted shall be inclusive of the Service Tax.
B31: Sch-4 (Schedule Items for CONSTRUCTION OF OPEN STORE YARD OF SIZE (110m x 40) m for BANASKANTHA SUBSTATION ) :
B32: ● | C32: Schedule Items: only % above/below DSR-2014 is to be filled up.
B33: ● | C33: Total amount shall get calculated automatically.
B34: Sch-5 (Non-Schedule Items for CONSTRUCTION OF OPEN STORE YARD OF SIZE (110m x 40) m for BANASKANTHA SUBSTATION ) :
B35: ● | C35: Non-Schedule Items: Fill up unit rates for all the items in numeric values greater than 0 (zero). If unit rate is left blank, the corresponding item shall be deemed to be included in the total price.
B36: ● | C36: Total amount shall get calculated automatically.
B37: ● | C37: The rate quoted shall be inclusive of the Service Tax.
B38: Sch-6 ( INTERNAL ELECTRIFICATION WORKS OF 50x10 STORE SHED FOR BANASKANTHA SUBSTATION ) :
B39: ● | C39: Fill up unit rates for all the items in numeric values greater than 0 (zero). If unit rate is left blank, the corresponding item shall be deemed to be included in the total price.
B40: ● | C40: Total amount shall get calculated automatically.
B41: ● | C41: The rate quoted shall be inclusive of the Service Tax.
B43: Bid from 2nd Envelope :
B44: ● | C44: Fill up ref. no. as bidder's ref no. of this letter.
B45: ● | C45: This letter shall consider the net price as per Sch-3 .
B46: ● | C46: Fill up names & Designation of the representatives of other JV partner(s) if the bidder is JV (Joint Venture) .
B47: ● | C47: Fill up additional information as required.
A50: * * *
A51: Happy Bidding !

Sheet BASICS
A1: Name of Package : | B1: Interior finishing work for developing Control room and server room at first floor and construction of battery room in the basement of RHQ-Vadodara
A2: Package No : | B2: Interior finishing work for developing Control room and server room at first floor and construction of battery room in the basement of RHQ-Vadodara
A3: Specification No. : | B3: WR2/NT/S-MISC/DOM/G01/24/13510
A5: Completion Period | B5: 04 Month

Sheet Name of Bidder
A1: =+[1]BASIC!A1 -> Name of Package :
A2: =BASICS!B1 -> Interior finishing work for developing Control room and server room at first floor and construction of battery room in the basement of RHQ-Vadodara
A4: Enter following details of the bidder
A6: Specify type of Bidder [Select from drop down menu] | C6: Individual Firm
A8: =IF(C6="Individual Firm","Name of Sole Bidder [Individual Firm]",IF(C6="Licensee of a Manufacturer","Name of Bidder [Licensee]",IF(C6="Representative of a Manufacturer","Name of Bidder [Authorised Representative]","Name of Lead Partner"))) -> Name of Sole Bidder [Individual Firm]
A9: Address of Registered Office & Mobile Numbers | C9: …….. …… ………. ……….
C10: …….. …… ………. ……….
C11: …….. …… ………. ……….
A13: =IF(C6="Individual Firm","",IF(C6="Licensee of a Manufacturer","Name of Manufacturer [Licenser]",IF(C6="Representative of a Manufacturer","Name of Manufacturer","Name of Other Partner"))) | C13: …….. …… ………. ……….
C14: …….. …… ………. ……….
C15: …….. …… ………. ……….
C16: …….. …… ………. ……….
A18: Printed Name
A19: Designation
A21: Date
A22: Place

Sheet Sch-3A (Sch-Civil)
A1: पावर ग्रिड कारपोरेशन ऑफ इंडिया लिमिटेड
A2: POWER GRID CORPORATION OF INDIA LTD.
A3: WRTS-II,RHQ,VADODARA
A4: BILL OF QUANTITIES FOR Construction of Residential Quarters , Guest House and Community Center including parking shed, concrete roads, Drains and Culverts, water supply & Sewerage system at Navsari S/s
A5: Name of Package: Construction of Residential Quarters Type B1 & B2 AT NAVSARI
B6: (SCHEDULE OF RATES AND PRICES)
A7: Bidder’s Name and Address (Sole Bidder) :
A8: Name :
A9: Address :
A13: पावर ग्रिड कारपोरेशन ऑफ इंडिया लिमिटेड
A14: POWER GRID CORPORATION OF INDIA LTD.
A15: WRTS-II,RHQ,VADODARA
A16: BILL OF QUANTITIES FOR Interior finishing work for developing Control room and server room at first floor and construction of battery room in the basement of RHQ-Vadodara
A17: Name of Package: Interior finishing work for developing Control room and server room at first floor and construction of battery room in the basement of RHQ-Vadodara
A18: (SCHEDULE OF RATES AND PRICES)
A19: Bidder’s Name and Address (Sole Bidder) : | L19: To:
A20: Name : | L20: Contract Services
A21: Address : | L21: Power Grid Corporation of India Ltd.,
L22: Western Region Transmission syatem -II
L23: Plot No. 54, Near Riya revati resort ,
L24: Sama - savli road, vadodara-390008
A25: Installation Charges- Sch 3A: -Schedule Items for Interior finishing work for developing Control room and server room at first floor and construction of battery room in the basement of RHQ-Vadodara
A27: Sl. No. | B27: Service Code | C27: SAC | D27: Whether SAC in column ‘3’ is confirmed. If not indicate applicable the SAC # | E27: Rate of GST applicable ( in %) | G27: Description (DSR'23 Items- Civil Works) | I27: Unit | J27: Qty | K27: Unit Erection Charges | L27: Unit Erection Charges excluding GST | M27: Total Erection Charges Excl. GST | N27: Total Tax GST @ 18% | O27: Total Erection Charges incl. GST
C28: (Service Accounting Codes)
A29: 1 | B29: 2 | C29: 3 | D29: 4 | E29: 5 | F29: 6 | G29: 7 | I29: 8 | J29: 9 | K29: 10 | L29: 11 | M29: 12 | N29: 13 | O29: 14
G30: PART -A : Schedule Items as per DSR 2023 (Civil works)
A31: 1 | G31: 4.1 | H31: Providing and laying in position cement concrete of specified grade excluding the cost of centering and shuttering - All work up to plinth level :
B32: 120000442 | C32: 995454 | E32: =IF(C32>0,18%,0) -> 0.18 | G32: 4.1.8 | H32: 1:4:8 (1 Cement : 4 coarse sand : 8 graded stone aggregate 40 mm nominal size) | I32: Cum | J32: 14.116 | K32: 6812 | L32: =K32/1.18 -> 5772.8814 | M32: =J32*L32 -> 81489.993 | N32: =IF(ISBLANK(F32),E32*M32,F32*M32) -> 14668.199 | O32: =+N32+M32 -> 96158.192
A33: 2 | G33: 5.1 | H33: Providing and laying in position specified grade of reinforced cement concrete, excluding the cost of centering, shuttering, finishing and reinforcement - All work up to plinth level :
B34: 120000488 | C34: 995454 | E34: 0.18 | G34: 5.1.2 | H34: 1:1.5:3 (1 cement : 1.5 coarse sand (zone-III) derived from natural sources : 3 graded stone aggregate 20 mm nominal size derived from natural sources) | I34: Cum | J34: 7.688 | K34: 9045.75 | L34: =K34/1.18 -> 7665.8898 | M34: =J34*L34 -> 58935.361 | N34: =IF(ISBLANK(F34),E34*M34,F34*M34) -> 10608.365 | O34: =+N34+M34 -> 69543.726
A35: 3 | G35: 5.9 | H35: Centering and shuttering including strutting, propping etc. and removal of form for
B36: 120000500 | C36: 995457 | E36: 0.18 | G36: 5.9.2 | H36: Walls (any thickness) including attached pilasters, butteresses, plinth and string courses etc. | I36: Sqm | J36: 5.4 | K36: 842.5 | L36: =K36/1.18 -> 713.98305 | M36: =J36*L36 -> 3855.5085 | N36: =IF(ISBLANK(F36),E36*M36,#REF!*M36) -> 693.99153 | O36: =+N36+M36 -> 4549.5
A37: 4 | G37: 5.22 | H37: Steel reinforcement for R.C.C. work including straightening, cutting, bending, placing in position and binding all complete up to plinth level
B38: 120000543 | C38: 995454 | E38: =IF(C38>0,18%,0) -> 0.18 | G38: 5.22.6 | H38: Thermo-Mechanically Treated bars | I38: Kg | J38: 675.92 | K38: 107.85 | L38: =K38/1.18 -> 91.398305 | M38: =J38*L38 -> 61777.942 | N38: =IF(ISBLANK(F38),E38*M38,#REF!*M38) -> 11120.03 | O38: =+N38+M38 -> 72897.972
A39: 5 | G39: 6.32 | H39: Brick work with flyash F.P.S. (non modular) brick of class designation 7.5 in superstructure above plinth level up to floor five level in :
B40: 120000644 | C40: 995456 | E40: 0.18 | G40: 6.32.2 | H40: Cement mortar 1:6 (1 cement : 6 coarse sand) | I40: Cu.m. | J40: 17.2 | K40: 9095.05 | L40: =K40/1.18 -> 7707.6695 | M40: =J40*L40 -> 132571.92 | N40: =IF(ISBLANK(F40),E40*M40,#REF!*M40) -> 23862.945 | O40: =+N40+M40 -> 156434.86
A41: 6 | G41: 8.2 | H41: Providing and fixing 18 mm thick gang saw cut, mirror polished, premoulded and prepolished, machine cut for kitchen platforms, vanity counters, window sills , facias and similar locations of required size, approved shade, colour and texture laid over 20 mm thick base cement mortar 1:4 (1 cement : 4 coarse sand), joints treated with white cement, mixed with matching pigment, epoxy touch ups, including rubbing, curing, moulding and polishing to edges to give high gloss finish etc. complete at all levels.
G42: 8.2.2 | H42: Granite of any colour and shade
B43: 120000738 | C43: 995474 | E43: 0.18 | G43: 8.2.2.1 | H43: Area of slab up to 0.50 sqm | I43: sqm | J43: 2.754 | K43: 5413.5 | L43: =K43/1.18 -> 4587.7119 | M43: =J43*L43 -> 12634.558 | N43: =IF(ISBLANK(F43),E43*M43,#REF!*M43) -> 2274.2205 | O43: =+N43+M43 -> 14908.779
A44: 7 | G44: 8.3 | H44: Providing edge moulding to 18 mm thick marble stone counters, Vanities etc., including machine polishing to edge to give high gloss finish etc. complete as per design approved by Engineer-in-Charge.
B45: 120000741 | C45: 995474 | E45: 0.18 | G45: 8.3.2 | H45: Granite work | I45: Metre | J45: 9.18 | K45: 510.95 | L45: =K45/1.18 -> 433.00847 | M45: =J45*L45 -> 3975.0178 | N45: =IF(ISBLANK(F45),E45*M45,#REF!*M45) -> 715.5032 | O45: =+N45+M45 -> 4690.521
A46: 8 | B46: 120000956 | C46: 995476 | E46: 0.18 | G46: 9.83 | H46: Providing and fixing aluminium die cast body tubular type universal hydraulic door closer (having brand logo with ISI, IS : 3564, embossed on the body, door weight upto 35 kg and door width upto 700 mm), with necessary accessories and screws etc. complete. | I46: Each | J46: 2 | K46: 1124.85 | L46: =K46/1.18 -> 953.26271 | M46: =J46*L46 -> 1906.5254 | N46: =IF(ISBLANK(F46),E46*M46,#REF!*M46) -> 343.17458 | O46: =+N46+M46 -> 2249.7
A47: 9 | B47: 120000965 | C47: 995476 | E47: 0.18 | G47: 9.88 | H47: Providing and fixing chromium plated brass 100 mm mortice latch and lock with 6 levers and a pair of lever handles of approved quality with necessary screws etc. complete. | I47: Each | J47: 2 | K47: 998.35 | L47: =K47/1.18 -> 846.05932 | M47: =J47*L47 -> 1692.1186 | N47: =IF(ISBLANK(F47),E47*M47,F47*M47) -> 304.58136 | O47: =+N47+M47 -> 1996.7
A48: 10 | G48: 9.97 | H48: Providing and fixing aluminium tower bolts, ISI marked, anodised (anodic coating not less than grade AC 10 as per IS : 1868 ) transparent or dyed to required colour or shade, with necessary screws etc. complete :
B49: 120000990 | C49: 995476 | E49: 0.18 | G49: 9.97.2 | H49: 250x10 mm | I49: Each | J49: 2 | K49: 115.15 | L49: =K49/1.18 -> 97.584746 | M49: =J49*L49 -> 195.16949 | N49: =IF(ISBLANK(F49),E49*M49,#REF!*M49) -> 35.130508 | O49: =+N49+M49 -> 230.3
A50: 11 | G50: 9.1 | H50: Providing and fixing aluminium handles, ISI marked, anodised (anodic coating not less than grade AC 10 as per IS : 1868) transparent or dyed to required colour or shade, with necessary screws etc. complete :
B51: 120000996 | C51: 995476 | E51: =IF(C51>0,18%,0) -> 0.18 | G51: 9.100.1 | H51: 125 mm | I51: Each | J51: 2 | K51: 66.25 | L51: =K51/1.18 -> 56.144068 | M51: =J51*L51 -> 112.28814 | N51: =IF(ISBLANK(F51),E51*M51,F51*M51) -> 20.211864 | O51: =+N51+M51 -> 132.5
A52: 12 | G52: 10.25 | H52: Steel work welded in built up sections/ framed work, including cutting,hoisting, fixing in position and applying a priming coat of approved steel primer using structural steel etc. as required.
A53: A | B53: 120001152 | C53: 995476 | E53: =IF(C53>0,18%,0) -> 0.18 | G53: 10.25.1 | H53: In stringers, treads, landings etc. of stair cases, including use of chequered plate wherever required, all complete | I53: Kg | J53: 584.6 | K53: 123.6 | L53: =K53/1.18 -> 104.74576 | M53: =J53*L53 -> 61234.373 | N53: =IF(ISBLANK(F53),E53*M53,F53*M53) -> 11022.187 | O53: =+N53+M53 -> 72256.56
A54: B | B54: 120001153 | C54: 995476 | E54: 0.18 | G54: 10.25.2 | H54: In gratings, frames, guard bar, ladder, railings, brackets, gates and similar works | I54: Kg | J54: 169.2 | K54: 172.6 | L54: =K54/1.18 -> 146.27119 | M54: =J54*L54 -> 24749.085 | N54: =IF(ISBLANK(F54),E54*M54,F54*M54) -> 4454.8353 | O54: =+N54+M54 -> 29203.92
A55: 13 | G55: 11.26 | H55: Kota stone slab flooring over 20 mm (average) thick base laid over and jointed with grey cement slurry mixed with pigment to match the shade of the slab, including rubbing and polishing complete with base of cement mortar 1 : 4 (1 cement : 4 coarse sand) :
B56: 120001231 | C56: 995474 | E56: =IF(C56>0,18%,0) -> 0.18 | G56: 11.26.1 | H56: 25 mm thick | I56: Sqm | J56: 71.48 | K56: 1948.25 | L56: =K56/1.18 -> 1651.0593 | M56: =J56*L56 -> 118017.72 | N56: =IF(ISBLANK(F56),E56*M56,F56*M56) -> 21243.19 | O56: =+N56+M56 -> 139260.91
A57: 14 | B57: 120001232 | C57: 995474 | E57: =IF(C57>0,18%,0) -> 0.18 | G57: 11.27 | H57: Kota stone slabs 20 mm thick in risers of steps, skirting, dado and pillars laid on 12 mm (average) thick cement mortar 1:3 (1 cement: 3 coarse sand) and jointed with grey cement slurry mixed with pigment to match the shade of the slabs, including rubbing and polishing complete. | I57: Sqm | J57: 5.18 | K57: 2354.7 | L57: =K57/1.18 -> 1995.5085 | M57: =J57*L57 -> 10336.734 | N57: =IF(ISBLANK(F57),E57*M57,F57*M57) -> 1860.6121 | O57: =+N57+M57 -> 12197.346
A58: 15 | G58: 13.1 | H58: 12 mm cement plaster of mix
B59: 120001399 | C59: 995472 | E59: 0.18 | G59: 13.1.1 | H59: 1:4 (1 cement: 4 fine sand) | I59: Sqm | J59: 149.64 | K59: 347.05 | L59: =K59/1.18 -> 294.11017 | M59: =J59*L59 -> 44010.646 | N59: =IF(ISBLANK(F59),E59*M59,F59*M59) -> 7921.9162 | O59: =+N59+M59 -> 51932.562
A60: 16 | G60: 13.62 | H60: Painting with synthetic enamel paint, of approved brand and manufacture of required colour to give an even shade
B61: 120001491 | C61: 995473 | E61: =IF(C61>0,18%,0) -> 0.18 | G61: 13.62.1 | H61: Two or more coats on new work over an under coat of suitable shade with ordinary paint of approved brand and manufacture | I61: Sqm | J61: 30.96 | K61: 226.25 | L61: =K61/1.18 -> 191.73729 | M61: =J61*L61 -> 5936.1864 | N61: =IF(ISBLANK(F61),E61*M61,F61*M61) -> 1068.5136 | O61: =+N61+M61 -> 7004.7
A62: 17 | B62: 120001511 | C62: 995472 | E62: =IF(C62>0,18%,0) -> 0.18 | G62: 13.8 | H62: Providing and applying white cement based putty of average thickness 1 mm, of approved brand and manufacturer, over the plastered wall surface to prepare the surface even and smooth complete. | I62: sqm | J62: 149.64 | K62: 156.05 | L62: =K62/1.18 -> 132.24576 | M62: =J62*L62 -> 19789.256 | N62: =IF(ISBLANK(F62),E62*M62,F62*M62) -> 3562.0661 | O62: =+N62+M62 -> 23351.322
A63: 18 | G63: 13.83 | H63: Wall painting with premium acrylic emulsion paint of interior grade,having VOC (Volatile Organic Compound ) content less than 50 grams/ litre of approved brand and manufacture, including applying additional coats wherever required to achieve even shade and colour.
B64: 120001517 | C64: 995473 | E64: =IF(C64>0,18%,0) -> 0.18 | G64: 13.83.2 | H64: Two coats | I64: Sqm | J64: 149.64 | K64: 142.8 | L64: =K64/1.18 -> 121.01695 | M64: =J64*L64 -> 18108.976 | N64: =IF(ISBLANK(F64),E64*M64,F64*M64) -> 3259.6157 | O64: =+N64+M64 -> 21368.592
A65: 19 | G65: 13.85 | H65: Applying priming coats with primer of approved brand and manufacture, having low VOC (Volatile Organic Compound ) content.
B66: 120001522 | C66: 995473 | E66: 0.18 | G66: 13.85.3 | H66: With water thinnable cement primer on wall surface having VOC content less than 50 grams/litre | I66: sqm | J66: 149.64 | K66: 73.95 | L66: =K66/1.18 -> 62.669492 | M66: =J66*L66 -> 9377.8627 | N66: =IF(ISBLANK(F66),E66*M66,F66*M66) -> 1688.0153 | O66: =+N66+M66 -> 11065.878
A67: 20 | B67: 120002404 | C67: 995424 | E67: 0.18 | G67: 18.77 | H67: Cutting holes up to 15x15 cm in R.C.C. floors and roofs for passing drain pipe etc. and repairing the hole after insertion of drain pipe etc. with cement concrete 1:2:4 (1 cement : 2 coarse sand : 4 graded stone aggregate 20 mm nominal size), including finishing complete so as to make it leak proof. | I67: No. | J67: 5 | K67: 452 | L67: =K67/1.18 -> 383.05085 | M67: =J67*L67 -> 1915.2542 | N67: =IF(ISBLANK(F67),E67*M67,F67*M67) -> 344.74576 | O67: =+N67+M67 -> 2260
A68: 21 | G68: 21.1 | H68: Providing and fixing aluminium work for doors, windows, ventilators and partitions with extruded built up standard tubular sections/ appropriate Z sections and other sections of approved make conforming to IS: 733 and IS: 1285, fixing with dash fasteners of required dia and size, including necessary filling up the gaps at junctions, i.e. at top, bottom and sides with required EPDM rubber/ neoprene gasket etc. Aluminium sections shall be smooth, rust free, straight, mitred and jointed mechanically wherever required including cleat angle, Aluminium snap beading for glazing / paneling, C.P. brass / stainless steel screws, all complete as per architectural drawings and the directions of Engineer-in-charge. (Glazing, paneling and dash fasteners to be paid for separately) :
G69: 21.1.1 | H69: For fixed portion
B70: 120002792 | C70: 995476 | E70: 0.18 | G70: 21.1.1.3 | H70: Polyester powder coated aluminium (minimum thickness of polyster powder coating 50 micron) | I70: Kg | J70: 200 | K70: 593.85 | L70: =K70/1.18 -> 503.26271 | M70: =J70*L70 -> 100652.54 | N70: =IF(ISBLANK(F70),E70*M70,F70*M70) -> 18117.458 | O70: =+N70+M70 -> 118770
A71: 22 | G71: 21.1.2 | H71: For shutters of doors, windows & ventilators including providing and fixing hinges/ pivots and making provision of EPDM rubber / neoprene gasket required (Fittings shall be paid for separately)
B72: 120002795 | C72: 995476 | E72: 0.18 | G72: 21.1.2.3 | H72: Polyester powder coated aluminium (minimum thickness of polyster powder coating 50 micron) | I72: Kg | J72: 300 | K72: 643.45 | L72: =K72/1.18 -> 545.29661 | M72: =J72*L72 -> 163588.98 | N72: =IF(ISBLANK(F72),E72*M72,F72*M72) -> 29446.017 | O72: =+N72+M72 -> 193035
A73: 23 | G73: 21.3 | H73: Providing and fixing glazing in aluminium door, window, ventilator shutters and partitions etc. with EPDM rubber / neoprene gasket etc. complete as per the architectural drawings and the directions of engineer-in-charge . (Cost of aluminium snap beading shall be paid in basic item):
B74: 120002799 | C74: 995476 | E74: 0.18 | G74: 21.3.2 | H74: With float glass panes of 5.50 mm thickness | I74: sq.m | J74: 10 | K74: 1505.25 | L74: =K74/1.18 -> 1275.6356 | M74: =J74*L74 -> 12756.356 | N74: =IF(ISBLANK(F74),E74*M74,F74*M74) -> 2296.1441 | O74: =+N74+M74 -> 15052.5
A75: 24 | G75: 21.19 | H75: Filling the gap in between aluminium/ stone/ wood frame and adjacent RCC/Brick/ Stone/ wood/ Ceramic/ Gypsum work by providing weather/structural non sag elastomeric PU sealant over backer rod of approved quality as per architectural drawings and direction of Engineer-in-charge complete, complying to ASTM C920, DIN 18540- F & ISO 11600
B76: 120003120 | C76: 995476 | E76: 0.18 | G76: 21.19.2 | H76: Upto 10 mm depth and 10 mm width | I76: Metre | J76: 50 | K76: 148.1 | L76: =K76/1.18 -> 125.50847 | M76: =J76*L76 -> 6275.4237 | N76: =IF(ISBLANK(F76),E76*M76,F76*M76) -> 1129.5763 | O76: =+N76+M76 -> 7405
K77: Total of Schedule Items as per DSR'23 | M77: =SUM(M31:M76) -> 955895.8 | N77: =SUM(N31:N76) -> 172061.24 | O77: =SUM(O31:O76) -> 1127957
K78: Add percentage (%) above/below +/- on DSR 2023 Rates (to be quoted by contractor) | M78: 0 | N78: =+M78 -> 0
K79: Add Amount above/below +/- on the amount for DSR Items as per quoted percentage | M79: =+M77*M78 -> 0 | N79: =+N77*N78 -> 0
K80: Total of Schedule Items Part IIIA | M80: =+M79+M77 -> 955895.8
K81: Total Tax | N81: =+N77+N79 -> 172061.24
A84: Date:
A85: Place:

Sheet Sch-3B (Non Sch-Civil)
A1: पावर ग्रिड कारपोरेशन ऑफ इंडिया लिमिटेड
A2: POWER GRID CORPORATION OF INDIA LTD.
A3: WRTS-II,RHQ,VADODARA
A4: BILL OF QUANTITIES FOR THE WORK OF Interior finishing work for developing Control room and server room at first floor and construction of battery room in the basement of RHQ-Vadodara
A5: (SCHEDULE OF RATES AND PRICES)
A6: Bidder’s Name and Address (Sole Bidder) : | L6: To:
A7: Name : | L7: Contract Services
A8: Address : | L8: Power Grid Corporation of India Ltd.,
L9: Western Region Transmission syatem -II
L10: Plot No. 54, Near Riya revati resort ,
L11: Sama - savli road, vadodara-390008
A12: Installation Charges- Sch 3B: Non-Schedule Items for "Interior finishing work for developing Control room and server room at first floor and construction of battery room in the basement of RHQ-Vadodara.."
A14: Sl. No. | B14: Activity Description | C14: SAC | D14: Whether SAC in column ‘3’ is confirmed. If not indicate applicable the SAC # | E14: Rate of GST applicable ( in %) | G14: Description | I14: Unit | J14: Quantity | K14: Unit Erection Charges | L14: Total Erection Charges | M14: Total Tax GST
C15: (Service Accounting Codes)
G16: Non - Schedule Items (Civil works)
A17: 1 | G17: NS-1 | H17: False Flooring :Providing and fixing Access flooring system (False floor) 10 mm thick premium quality decorative vitrified flooring with edge support rigid grid understructure system. Access floor system to be installed shall provide a maximum finished floor height of 300 mm from the existing floor level. The system shall provide for suitable Floor tiles, pedestals and stringers designed to withstand various static loads and rolling loads. The entire Access floor system shall be made from 600 mm x 600 mm x 35 mm all Steel welded construction with an enclosed bottom pan of 49 hemispherical cones and 36 reverse cones The Bottom pan subjected to pre-treatment along with 40 – 60 micron epoxy coating to achieve corrosion resistance Vitrified tile is stuck on to the bottom pan Inner empty core of the Panel is injected with a light weight, non-combustible cementitious compound at high pressure . Access Floor tiles shall provide for adequate fire properties, acoustic barrier and air leakage resistance. The rate shall be inclusive of tile lifter and wire manager as per the requirements.
B18: Non Scheduled Item | C18: 995471 | E18: 0.18 | H18: Upto a height of 300mm Level using 10 mm thick premium quality decorative vitrified flooring from existing floor | I18: Sqm | J18: 154.67 | L18: =K18*J18 -> 0 | M18: =IF(ISBLANK(F18),E18*L18,F18*L18) -> 0
A19: 2 | B19: Non Scheduled Item | C19: 995479 | E19: 0.18 | G19: NS-2 | H19: Gypsum Board False Ceiling: Providing and Fixing of lafarge GI Profile with 12mm thick gypsum board complete finish upto joint filling including cutting for light holes complete in all respect as per the direction of engineer-in-charge. All required designs to be made by contractor . | I19: Sqm | J19: 154.67 | L19: =K19*J19 -> 0 | M19: =IF(ISBLANK(F19),E19*L19,F19*L19) -> 0
A20: 3 | B20: Non Scheduled Item | C20: 995478 | E20: 0.18 | G20: NS-3 | H20: Glass Partition : Supply & Installation of 10 mm plain toughened fixed glass partition with Wall Connecting profile frame of Dorma. WallConnecting profile of Dorma Alexa MR28 make slim looking profile system with seals provisions of finish similar Satin Stainless Steel anodised will be fixed along floor, wall and ceiling joints extending across the sidelights . The above work complete in all respect as per approved drawings and to the satisfaction of Engineer-in-Charge / Architect Consultant | I20: Sqm | J20: 27.54 | L20: =K20*J20 -> 0 | M20: =IF(ISBLANK(F20),E20*L20,F20*L20) -> 0
A21: 4 | B21: Non Scheduled Item | C21: 995471 | E21: 0.18 | G21: NS-4 | H21: Glass Door: Supply & Installation of 10 mm Toughened plain Manual Single action swing glass door with Dorma Wall connecting frame all around the door. Dorma Alexa AT50 Door Frame with Seals, Corner Connectors along with Dorma Studio Gala Office of finish Aluminum similar Satin Stainless Steel. Aluminium door hinge with sleeve and steel ball bearing - 03 Nos, Screw-on frame pivot prepared for ball bearing - 03 Nos, Studio Gala locks prepared for levers without roses, prepared for profile cylinder - 01 No, Corner strike plate, aluminium for 24 mm rebate depth / Studio -01 No, Sets of levers for Studio Gala - 01 Set, Europrofile Cylinder 60mm with both side key - 01 No, TS 89 Door Closer with slide channel assembly, EN 3,Finish: Silver, Max Door Width :1000 mm, Slide Channel, Glass door shoe - silver for Glass Door The above work complete in all respect as per approved drawings and to the satisfaction of Engineer-in-Charge / Architect Consultant.Size of door 1000x2400mm (Single Door) | I21: Set | J21: 1 | L21: =K21*J21 -> 0 | M21: =IF(ISBLANK(F21),E21*L21,F21*L21) -> 0
A22: 5 | B22: Non Scheduled Item | C22: 995473 | E22: 0.18 | G22: NS-5 | H22: Flakes Painting : Finishing walls with Granite Finish flakes with laminated coat of Luxture Interior Paint make SPECTRUM HERITAGE or equivalent finished in all respect. | I22: Sqm | J22: 141.62 | L22: =K22*J22 -> 0 | M22: =IF(ISBLANK(F22),E22*L22,F22*L22) -> 0
A23: 6 | B23: Non Scheduled Item | C23: 995473 | E23: 0.18 | G23: NS-6 | H23: Royal Painting : Painting the new surface with metallic Royal Paint or equivalent in double including primer over the base coat prepared by filling for making the surface even. | I23: Sqm | J23: 154.67 | L23: =K23*J23 -> 0 | M23: =IF(ISBLANK(F23),E23*L23,F23*L23) -> 0
A24: 7 | B24: Non Scheduled Item | C24: 995478 | E24: 0.18 | G24: NS-7 | H24: Lacqurered glass : Providing and fixing of liqurered glass cladding 4mm thick make Saint Gobin or equivalent over the 8mm thick Bison Panel with 995 silicon make downcouring or equivalent including cutting joining and fixing design as approved by site in charage | I24: Sqm | J24: 28 | L24: =K24*J24 -> 0 | M24: =IF(ISBLANK(F24),E24*L24,F24*L24) -> 0
A25: 8 | G25: NS-8 | H25: Wall Clading : Providing and fixing Panelling on Walls, Columns, Ducts, Around Shafts etc comprising of 50.8x25.4x2.03 Aluminium rectangular hollow sections framing at a maximum spacing of 600 mm centre-centre bothways with 12mm thick Exterior Grade Particle Board. All the members shall be screwed with stainless steel screws rawl plugs etc complete required for fixing frame. All Aluminium sections shall be smooth, rust free, straight, mitred and jointed mechanically. All the materials like cleat angles, mouldings, beading,.etc complete. The rate shall also include the teak wood beeding and moulding to be melamine polished etc complete. All works shall be carried out as per . drawings and the directions of Engineer-in-charge.
B26: Non Scheduled Item | C26: 995471 | E26: 0.18 | H26: Finished with 4.0 mm thk approved Veneer with Melamine polish of approved grade as per the drawing including designed grooves etc complete. | I26: Sqm | J26: 86.71 | L26: =K26*J26 -> 0 | M26: =IF(ISBLANK(F26),E26*L26,F26*L26) -> 0
A27: 9 | B27: Non Scheduled Item | C27: 995461 | E27: 0.18 | G27: NS-9 | H27: Fire Door: Providing & fixing factory made fire resistant doors of approved make having a fire rating of minimum two hours (120 minutes) including door frame, hold fasts/dash fasteners, SS hinges, SS handles, locking device, door closures, vision panel etc. with fire resistant finish of approved colour/shade all complete as per manufacturer's specifications.. | I27: Sqm | J27: 2.247 | L27: =K27*J27 -> 0 | M27: =IF(ISBLANK(F27),E27*L27,F27*L27) -> 0
H28: Single leaf Doors including single leaf panic bar with one vision panel
H29: Total for Non-Schedule Items (Installation Charges- Sch 3B) | L29: =SUM(L17:L28) -> 0 | M29: =SUM(M17:M28) -> 0
A32: # In case the bidder leaves the cell for confirmation of the SAC and/or GST rate “blank”, the SAC and corresponding GST rate indicated by the Employer shall be deemed to be the one confirmed by the Bidder.
K37: Printed Name : | L37: 0
A38: Date : | K38: Designation : | L38: 0
A39: Place :

Sheet Sch-3C( Sch-Electrical)
A1: पावर ग्रिड कारपोरेशन ऑफ इंडिया लिमिटेड
A2: POWER GRID CORPORATION OF INDIA LTD.
A3: WRTS-II,RHQ,VADODARA
A4: BILL OF QUANTITIES FOR Construction of Residential Quarters, Guest House and Community Center including parking shed, concrete roads, Drains and Culverts, water supply & Sewerage system at 765 kV New Navsai S/s under O&M Add CAP in tariff block 2019-24.
A5: Name of Package: Interior finishing work for developing Control room and server room at first floor and construction of battery room in the basement of RHQ-Vadodara
A6: (SCHEDULE OF RATES AND PRICES)
A7: Bidder’s Name and Address (Sole Bidder) : | M7: To:
A8: Name : | M8: Contract Services
A9: Address : | M9: Power Grid Corporation of India Ltd.,
M10: Western Region Transmission syatem -II
M11: Plot No. 54, Near Riya revati resort ,
M12: Sama - savli road, vadodara-390008
A13: Installation Charges- Sch 3C: Schedule Items Electrical works for Interior finishing work for developing Control room and server room at first floor and construction of battery room in the basement of RHQ-Vadodara.
A14: Sl. No. | B14: DSR (E&M0 2022 Item No. | C14: SAC(Service Accounting Codes) | D14: Whether SAC in column ‘4’ is confirmed. If not indicate applicable the SAC # | E14: Rate of GST applicable ( in %) | G14: DESCRIPTION OF ITEMS | H14: UNIT | I14: Total Quantity | J14: Rate (Rs.) | K14: Deduction of GST factor considered in DSR | L14: Unit Erection Charges excluding GST | M14: Amount (Rs.) | N14: Total Tax GST @ 18% | O14: Total Erection Charges incl. GST
A16: 1 | B16: 2 | C16: 3 | D16: 4 | E16: 5 | F16: 6 | G16: 7 | H16: 8 | I16: 9 | J16: 10 | K16: 11 | L16: 12 | M16: 13=9x12 | N16: 14 | O16: 15
G17: HEAD-1 SERVICE
G18: SUB HEAD -I: WIRING
A19: 1 | B19: 1.10.3 | C19: 995461 | E19: 0.18 | G19: Wiring for light point/ fan point/ exhaust fan point/ call bell point with 1.5 sq.mm FRLS PVC insulated copper conductor single core cable in surface / recessed medium class PVC conduit, with modular switch, modular plate, suitable GI box and earthing the point with 1.5 sq.mm FRLS PVC insulated copper conductor single core cable etc. as required. ( Group C) | H19: Point | I19: 35 | J19: 1467 | K19: 0.1405 | L19: =J19/1.1405 -> 1286.2779 | M19: =I19*L19 -> 45019.728 | N19: =IF(ISBLANK(F19),E19*M19,F19*M19) -> 8103.5511 | O19: =M19+N19 -> 53123.279
A20: 2 | B20: 1.10.2 | C20: 995461 | E20: 0.18 | G20: Wiring for light point/ fan point/ exhaust fan point/ call bell point with 1.5 sq.mm FRLS PVC insulated copper conductor single core cable in surface / recessed medium class PVC conduit, with modular switch, modular plate, suitable GI box and earthing the point with 1.5 sq.mm FRLS PVC insulated copper conductor single core cable etc. as required. ( Group B) | H20: Point | I20: 31 | J20: 1182 | K20: 0.1405 | L20: =J20/1.1405 -> 1036.3875 | M20: =I20*L20 -> 32128.014 | N20: =IF(ISBLANK(F20),E20*M20,F20*M20) -> 5783.0425 | O20: =M20+N20 -> 37911.057
A21: 3 | B21: 1.10.1 | C21: 995461 | E21: 0.18 | G21: Wiring for light point/ fan point/ exhaust fan point/ call bell point with 1.5 sq.mm FRLS PVC insulated copper conductor single core cable in surface / recessed medium class PVC conduit, with modular switch, modular plate, suitable GI box and earthing the point with 1.5 sq.mm FRLS PVC insulated copper conductor single core cable etc. as required. ( Group A) | H21: Point | I21: 23 | J21: 1015 | K21: 0.1405 | L21: =J21/1.1405 -> 889.96054 | M21: =I21*L21 -> 20469.093 | N21: =IF(ISBLANK(F21),E21*M21,F21*M21) -> 3684.4367 | O21: =M21+N21 -> 24153.529
A22: 4 | B22: 1.25 | C22: 995461 | E22: 0.18 | G22: Supplying and fixing two module stepped type electronic fanregulator on the existing modular plate switch box includingconnections but excluding modular plate etc. as required. | H22: Each | I22: 2 | J22: 369 | K22: 0.1405 | L22: =J22/1.1405 -> 323.54231 | M22: =I22*L22 -> 647.08461 | N22: =IF(ISBLANK(F22),E22*M22,F22*M22) -> 116.47523 | O22: =M22+N22 -> 763.55984
A23: 5 | B23: 1.31 | C23: 995461 | E23: 0.18 | G23: Supplying and fixing suitable size GI box with modular plate and cover in front on surface or in recess, including providing and fixing 3 pin 5/6 A modular socket outlet and 5/6 A modular switch, connections etc. as required. | H23: Each | I23: 48 | J23: 477 | K23: 0.1405 | L23: =J23/1.1405 -> 418.23762 | M23: =I23*L23 -> 20075.406 | N23: =IF(ISBLANK(F23),E23*M23,F23*M23) -> 3613.573 | O23: =M23+N23 -> 23688.979
A24: 6 | B24: 1.32 | C24: 995461 | E24: 0.18 | G24: Supplying and fixing suitable size GI box with modular plate and cover in front on surface or in recess, including providing and fixing 6 pin 5/6 & 15/16 A modular socket outlet and 15/16 A modular switch, connections etc. as required. | H24: Each | I24: 13 | J24: 586 | K24: 0.1405 | L24: =J24/1.1405 -> 513.80973 | M24: =I24*L24 -> 6679.5265 | N24: =IF(ISBLANK(F24),E24*M24,F24*M24) -> 1202.3148 | O24: =M24+N24 -> 7881.8413
A25: 7 | B25: 1.57 | C25: 995461 | E25: 0.18 | G25: Supplying & fixing suitable size GI box with modular plate and cover in front on surface or in recess including providing and fixing 25 A modular socket outlet and 25 A modular SP MCB, "C" curve including connections, painting etc. as required. | H25: Each | I25: 12 | J25: 727 | K25: 0.1405 | L25: =J25/1.1405 -> 637.43972 | M25: =I25*L25 -> 7649.2766 | N25: =IF(ISBLANK(F25),E25*M25,F25*M25) -> 1376.8698 | O25: =M25+N25 -> 9026.1464
A26: 8 | B26: 1.21 | C26: 995461 | G26: Supplying and fixing of following sizes of medium class PVC conduit along with accessories in surface/recess including cutting the wall and making good the same in case of recessed conduit as required.
A27: 9 | B27: 1.21.1 | C27: 995461 | E27: 0.18 | G27: 20 mm | H27: Meter | I27: 250 | J27: 128 | K27: 0.1405 | L27: =J27/1.1405 -> 112.23148 | M27: =I27*L27 -> 28057.869 | N27: =IF(ISBLANK(F27),E27*M27,F27*M27) -> 5050.4165 | O27: =M27+N27 -> 33108.286
A28: 10 | G28: SUB HEAD -II: TELEPHONE
A29: 11 | B29: 1.18 | C29: 995461 | G29: Supplying and drawing following pair 0.5 mm dia FRLS PVC insulated annealed copper conductor, unarmored telephone cable in the existing surface/ recessed steel/ PVC conduit as required.
A30: 12 | B30: 1.18.2 | C30: 995461 | E30: 0.18 | G30: 2 pair | H30: Meter | I30: 300 | J30: 38 | K30: 0.1405 | L30: =J30/1.1405 -> 33.31872 | M30: =I30*L30 -> 9995.616 | N30: =IF(ISBLANK(F30),E30*M30,F30*M30) -> 1799.2109 | O30: =M30+N30 -> 11794.827
A31: 13 | B31: 1.21 | C31: 995461 | G31: Supplying and fixing of following sizes of medium class PVC conduit along with accessories in surface/recess including cutting the wall and making good the same in case of recessed conduit as required.
A32: 14 | B32: 1.21.2 | C32: 995461 | E32: 0.18 | G32: 20 mm | H32: Meter | I32: 300 | J32: 128 | K32: 0.1405 | L32: =J32/1.1405 -> 112.23148 | M32: =I32*L32 -> 33669.443 | N32: =IF(ISBLANK(F32),E32*M32,F32*M32) -> 6060.4998 | O32: =M32+N32 -> 39729.943
A33: 15 | B33: 1.24 | C33: 995461 | G33: Supplying and fixing following modular switch/ socket on the existing modular plate & switch box including connections but excluding modular plate etc. as required.
A34: 16 | B34: 1.24.6 | C34: 995461 | E34: 0.18 | G34: Telephone socket outlet | H34: Each | I34: 15 | J34: 148 | K34: 0.1405 | L34: =J34/1.1405 -> 129.76765 | M34: =I34*L34 -> 1946.5147 | N34: =IF(ISBLANK(F34),E34*M34,F34*M34) -> 350.37264 | O34: =M34+N34 -> 2296.8873
A35: 17 | G35: SUB HEAD -III: SUB MAIN
A36: 18 | B36: 1.14 | C36: 995461 | G36: Wiring for circuit/ submain wiring alongwith earth wire with the following sizes of FRLS PVC insulated copper conductor, single core cable in surface/ recessed medium class PVC conduit as required.
A37: 19 | B37: 1.14.1 | C37: 995461 | E37: 0.18 | G37: 2 X 1.5 sq. mm + 1 X 1.5 sq. mm earth wire | H37: Meter | I37: 720 | J37: 233 | K37: 0.1405 | L37: =J37/1.1405 -> 204.29636 | M37: =I37*L37 -> 147093.38 | N37: =IF(ISBLANK(F37),E37*M37,F37*M37) -> 26476.808 | O37: =M37+N37 -> 173570.19
A38: 20 | B38: 1.14.2 | C38: 995461 | E38: 0.18 | G38: 2 X 2.5 sq. mm + 1 X 2.5 sq. mm earth wire | H38: Meter | I38: 260 | J38: 275 | K38: 0.1405 | L38: =J38/1.1405 -> 241.12231 | M38: =I38*L38 -> 62691.802 | N38: =IF(ISBLANK(F38),E38*M38,F38*M38) -> 11284.524 | O38: =M38+N38 -> 73976.326
A39: 21 | B39: 1.14.3 | C39: 995461 | E39: 0.18 | G39: 2 X 4 sq. mm + 1 X 4 sq. mm earth wire | H39: Meter | I39: 220 | J39: 334 | K39: 0.1405 | L39: =J39/1.1405 -> 292.85401 | M39: =I39*L39 -> 64427.883 | N39: =IF(ISBLANK(F39),E39*M39,F39*M39) -> 11597.019 | O39: =M39+N39 -> 76024.901
A40: 22 | B40: 1.14.9 | C40: 995461 | E40: 0.18 | G40: 4 X 6 sq. mm + 2 X 6 sq. mm earth wire | H40: Meter | I40: 20 | J40: 754 | K40: 0.1405 | L40: =J40/1.1405 -> 661.11355 | M40: =I40*L40 -> 13222.271 | N40: =IF(ISBLANK(F40),E40*M40,F40*M40) -> 2380.0088 | O40: =M40+N40 -> 15602.28
A41: 23 | B41: 1.14.4 | C41: 995461 | E41: 0.18 | G41: 2 X 6 sq. mm + 1 X 6 sq. mm earth wire | H41: Meter | I41: 20 | J41: 439 | K41: 0.1405 | L41: =J41/1.1405 -> 384.9189 | M41: =I41*L41 -> 7698.3779 | N41: =IF(ISBLANK(F41),E41*M41,F41*M41) -> 1385.708 | O41: =M41+N41 -> 9084.0859
A42: 24 | G42: SUB HEAD -IV: MCB'S AND MAIN DISTRIBUTION BOARDS
A43: 25 | B43: 2.3 | C43: 998731 | G43: Supplying and fixing following way, single pole and neutral,sheet steel, MCB distribution board, 240 V, on surface/ recess, complete with tinned copper bus bar, neutral bus bar, earth bar, din bar, interconnections, powder painted including earthing etc. as required. (But without MCB/RCCB/Isolator)
A44: 26 | B44: 2.3.4 | C44: 998731 | E44: 0.18 | G44: 16 way, Double door | H44: Each | I44: 1 | J44: 3141 | K44: 0.1405 | L44: =J44/1.1405 -> 2754.0552 | M44: =I44*L44 -> 2754.0552 | N44: =IF(ISBLANK(F44),E44*M44,F44*M44) -> 495.72994 | O44: =M44+N44 -> 3249.7852
A45: 27 | B45: 2.4 | C45: 998736 | G45: Supplying and fixing following way, horizontal type three pole and neutral, sheet steel, MCB distribution board, 415 V, on surface/ recess, complete with tinned copper bus bar, neutral bus bar, earth bar, din bar, interconnections, powder painted including earthing etc. as required. (But without MCB/RCCB/lsolator)
A46: 28 | B46: 2.4.1 | C46: 998736 | E46: 0.18 | G46: 4 way (4 + 12), Double door | H46: Each | I46: 1 | J46: 4091 | K46: 0.1405 | L46: =J46/1.1405 -> 3587.0232 | M46: =I46*L46 -> 3587.0232 | N46: =IF(ISBLANK(F46),E46*M46,F46*M46) -> 645.66418 | O46: =M46+N46 -> 4232.6874
A47: 29 | B47: 2.4.3 | C47: 998736 | E47: 0.18 | G47: 8 way (4 + 24), Double door | H47: Each | I47: 1 | J47: 5967 | K47: 0.1405 | L47: =J47/1.1405 -> 5231.9158 | M47: =I47*L47 -> 5231.9158 | N47: =IF(ISBLANK(F47),E47*M47,F47*M47) -> 941.74485 | O47: =M47+N47 -> 6173.6607
A48: 30 | B48: 2.1 | C48: 998736 | G48: Supplying and fixing 5 A to 32 A rating, 240/415 V, 10 kA, "C" curve, miniature circuit breaker suitable for inductive load of following poles in the existing MCB DB complete with connections, testing and commissioning etc. as required.
A49: 31 | B49: 2.10.1 | C49: 998736 | E49: 0.18 | G49: Single pole 16/20 Amp | H49: Each | I49: 28 | J49: 256 | K49: 0.1405 | L49: =J49/1.1405 -> 224.46295 | M49: =I49*L49 -> 6284.9627 | N49: =IF(ISBLANK(F49),E49*M49,F49*M49) -> 1131.2933 | O49: =M49+N49 -> 7416.256
A50: 32 | B50: 2.10.3 | C50: 998736 | E50: 0.18 | G50: Double pole 25 Amp | H50: Each | I50: 4 | J50: 656 | K50: 0.1405 | L50: =J50/1.1405 -> 575.18632 | M50: =I50*L50 -> 2300.7453 | N50: =IF(ISBLANK(F50),E50*M50,F50*M50) -> 414.13415 | O50: =M50+N50 -> 2714.8794
A51: 33 | B51: 2.15 | C51: 998736 | G51: Supplying and fixing following rating, four pole, (three phase and neutral), 415 volts, residual current circuit breaker (RCCB), having a sensitivity current 30 mA in the existing MCB DB complete with connections, testing and commissioning etc. as required.
A52: 34 | B52: 2.15.2 | C52: 998736 | E52: 0.18 | G52: 40A | H52: Each | I52: 1 | J52: 3188 | K52: 0.1405 | L52: =J52/1.1405 -> 2795.2652 | M52: =I52*L52 -> 2795.2652 | N52: =IF(ISBLANK(F52),E52*M52,F52*M52) -> 503.14774 | O52: =M52+N52 -> 3298.413
A53: 35 | B53: 2.15.3 | C53: 998736 | E53: 0.18 | G53: 63A | H53: Each | I53: 1 | J53: 2872 | K53: 0.1405 | L53: =J53/1.1405 -> 2518.1938 | M53: =I53*L53 -> 2518.1938 | N53: =IF(ISBLANK(F53),E53*M53,F53*M53) -> 453.27488 | O53: =M53+N53 -> 2971.4687
A54: 36 | B54: 2.14 | C54: 998736 | G54: Supplying and fixing following rating, double pole, (single phase and neutral), 240 V, residual current circuit breaker (RCCB), having a sensitivity current 30 mA in the existing MCB DB complete with connections, testing and commissioning etc. as required.
A55: 37 | B55: 2.14.1 | C55: 998736 | E55: 0.18 | G55: 25A | H55: Each | I55: 4 | J55: 2028 | K55: 0.1405 | L55: =J55/1.1405 -> 1778.1675 | M55: =I55*L55 -> 7112.6699 | N55: =IF(ISBLANK(F55),E55*M55,F55*M55) -> 1280.2806 | O55: =M55+N55 -> 8392.9505
G56: Total of Schedule Items as per DSR'22 | M56: =SUM(M19:M55) -> 534056.12 | N56: =SUM(N19:N55) -> 96130.101 | O56: =M56+N56 -> 630186.22
G57: Add percentage (%) above/below +/- on DSR 2022 Rates (to be quoted by contractor) | N57: =M57 -> 0
G58: Add Amount above/below +/- on the amount for DSR Items as per quoted percentage | M58: =M56*M57 -> 0 | N58: =N56*N57 -> 0
G59: Total of Schedule Items Part IIIA | M59: =M56+M58 -> 534056.12
G60: Total Tax | N60: =N56+N58 -> 96130.101

Sheet Sch-3D(Non Sch- Electrical)
A1: पावर ग्रिड कारपोरेशन ऑफ इंडिया लिमिटेड
A2: POWER GRID CORPORATION OF INDIA LTD.
A3: WRTS-II,RHQ,VADODARA
A4: BILL OF QUANTITIES FOR Construction of Residential Quarters, Guest House and Community Center including parking shed, concrete roads, Drains and Culverts, water supply & Sewerage system at 765 kV New Navsai S/s under O&M Add CAP in tariff block 2019-24.
A5: Name of Package: Interior finishing work for developing Control room and server room at first floor and construction of battery room in the basement of RHQ-Vadodara
A6: (SCHEDULE OF RATES AND PRICES)
A7: Bidder’s Name and Address (Sole Bidder) : | K7: To:
A8: Name : | K8: Contract Services
A9: Address : | K9: Power Grid Corporation of India Ltd.,
K10: Western Region Transmission syatem -II
K11: Plot No. 54, Near Riya revati resort ,
K12: Sama - savli road, vadodara-390008
A13: Installation Charges- Sch 3D: Non Schedule Items Electrical works for Interior finishing work for developing Control room and server room at first floor and construction of battery room in the basement of RHQ-Vadodara
A14: Sl. No. | B14: Activity Header / Substation Name | C14: DSR (E&M0 2022 Item No. | D14: SAC(Service Accounting Codes) | E14: Whether SAC in column ‘4’ is confirmed. If not indicate applicable the SAC # | F14: Rate of GST applicable ( in %) | H14: DESCRIPTION OF ITEMS | I14: UNIT | J14: Total Quantity | K14: Unit Erection Charges | L14: Total Erection Charges | M14: Total Tax GST @ 18%
A16: 1 | B16: 2 | C16: 3 | D16: 4 | E16: 5 | F16: 6 | G16: 7 | H16: 8 | I16: 9 | J16: 10 | K16: 11 | L16: 12=10x11 | M16: 13
A17: 1 | C17: NS.1 | D17: 995461 | F17: 0.18 | H17: Supply and installation of Decorative square moulded body, Recessed mounted 2x2 40W LED luminaire having CRI ≥ 80,lumen output ≥ 3400, CCT 5700k±300k, system efficacy ≥ 85 lumen/watt,THD<10%, power factor ≥ 0.95, IP20 protection having life over 50000 burning hours and minimum 2 years warranty with.Pre-wired with 230V rated and pre-fitted with lamp suitable for 1.5 sqmm wire connection ready to use. | I17: Each | J17: 45 | L17: =J17*K17 -> 0 | M17: =IF(ISBLANK(G17),F17*L17,G17*L17) -> 0
A18: 2 | C18: NS.2 | D18: 995461 | F18: 0.18 | H18: Supply and installation of 15W Recessed mounted circular LED downlight luminaire having CRI ≥ 80,lumen output ≥ 1200, system efficacy ≥ 80 lumen/watt, CCT 5700k±300k,THD<10%, power factor ≥ 0.95, IP20 protection having life over 50000 burning hours and minimum 2 years warranty with.Pre-wired with 230V rated and pre-fitted with lamp suitable for 1.5 sqmm wire connection ready to use. | I18: Each | J18: 12 | L18: =J18*K18 -> 0 | M18: =IF(ISBLANK(G18),F18*L18,G18*L18) -> 0
A19: 3 | C19: NS.3 | D19: 995461 | F19: 0.18 | H19: Supply and installation of 20W LED Tube Light having CRI ≥ 80, system efficacy ≥ 100 lumen/watt, power factor ≥ 0.95, IP20 protection having life ≥ 25000 burning hours and minimum 1 years warranty with.Pre-wired with 230V rated and pre-fitted with lamp suitable for 1.5 sqmm wire connection ready to use. | I19: Each | J19: 32 | L19: =J19*K19 -> 0 | M19: =IF(ISBLANK(G19),F19*L19,G19*L19) -> 0
A20: 4 | C20: NS.4 | D20: 995461 | H20: Supplying and fixing 63 A rating, 415 V, 15 kA, "C" curve, FOUR POLE miniature circuit breaker suitable for inductive load of following poles in the existing MCB DB complete with connections, testing and commissioning etc. as required.
C21: (a) | D21: 995461 | F21: 0.18 | H21: 63 A MCB | I21: Each | J21: 1 | L21: =J21*K21 -> 0 | M21: =IF(ISBLANK(G21),F21*L21,G21*L21) -> 0
C22: (b) | D22: 995461 | F22: 0.18 | H22: 40 A MCB | I22: Each | J22: 1 | L22: =J22*K22 -> 0 | M22: =IF(ISBLANK(G22),F22*L22,G22*L22) -> 0
H23: Total for Non-Schedule Items (Schedule 3D) | L23: =SUM(L17:L22) -> 0 | M23: =SUM(M17:M22) -> 0
B25: # In case the bidder leaves the cell for confirmation of the SAC and/or GST rate “blank”, the SAC and corresponding GST rate indicated by the Employer shall be deemed to be the one confirmed by the Bidder.
B28: Date : | L28: Printed Name :
B29: Place : | L29: Designation :

Sheet Sch5 Taxes
A1: Schedule-2
A2: (SUMMARY OF TAXES & DUTIES)
C3: To:
A4: Name | C4: Contract Services
A5: Address | B5: ='[2]Names of Bidder'!C9 -> …….. …… ………. ………. | C5: Power Grid Corporation of India Ltd.,
B6: ='[2]Names of Bidder'!C10 -> …….. …… ………. ………. | C6: Western Region Transmission syatem -II
B7: ='[2]Names of Bidder'!C11 -> …….. …… ………. ………. | C7: Plot No. 54, Near Riya revati resort ,
C8: Sama - savli road, vadodara-390008
A9: Sl. No. | B9: Item Nos. | D9: Total Price (in ₹)
A10: 1 | B10: TOTAL GST on Services
A11: a. | B11: Total GST on Supply & Installation Services (indentified in Schedule-3A) which are not included in the Installationas per the provision of the Bidding Documents, as applicable | D11: ='Sch-3A (Sch-Civil)'!N81 -> 172061.24
A12: b. | B12: Total GST on Supply & Installation Services (indentified in Schedule-3B) which are not included in the Installation as per the provision of the Bidding Documents, as applicable | D12: ='Sch-3B (Non Sch-Civil)'!M29 -> 0
A13: c. | B13: Total GST on Supply & Installation Services (indentified in Schedule-3C) which are not included in the Installationas per the provision of the Bidding Documents, as applicable | D13: ='Sch-3C( Sch-Electrical)'!N60 -> 96130.101
A14: d. | B14: Total GST on Supply & Installation Services (indentified in Schedule-3D) which are not included in the Installationas per the provision of the Bidding Documents, as applicable | D14: ='Sch-3D(Non Sch- Electrical)'!M23 -> 0
A15: 2 | B15: GRAND TOTAL | D15: =SUM(D11:D14) -> 268191.34
A18: Date : | B18: #REF! | C18: Printed Name : | D18: #REF!
A19: Place : | B19: #REF! | C19: Designation : | D19: #REF!

Sheet Sch6 Summary
A1: Schedule-6
A2: Grand Summary
C3: To:
A4: Name | B4: ='[2]Names of Bidder'!C8 -> #REF! | C4: Contract Services
A5: Address | B5: ='[2]Names of Bidder'!C9 -> …….. …… ………. ………. | C5: Power Grid Corporation of India Ltd.,
B6: ='[2]Names of Bidder'!C10 -> …….. …… ………. ………. | C6: Western Region Transmission syatem -II
B7: ='[2]Names of Bidder'!C11 -> …….. …… ………. ………. | C7: Plot No. 54, Near Riya revati resort ,
C8: Sama - savli road, vadodara-390008
A9: Sl. No. | B9: Description | D9: Total Price (INR)
A10: 1 | B10: Service/Installation Charges
A11: a. | B11: TOTAL SCHEDULE NO.-3A
B12: Supply & Installation Charges- Schedule Civil Items for Interior finishing work for developing Control room and server room at first floor and construction of battery room in the basement of RHQ-Vadodara | D12: ='Sch-3A (Sch-Civil)'!M80 -> 955895.8
A13: b. | B13: TOTAL SCHEDULE NO.-3B
B14: Installation Charges-Non Schedule Civil Items for Interior finishing work for developing Control room and server room at first floor and construction of battery room in the basement of RHQ-Vadodara | D14: ='Sch-3B (Non Sch-Civil)'!L29 -> 0
A15: c. | B15: TOTAL SCHEDULE NO.-3C
B16: Supply & Installation Charges- Schedule Electrical Items for Interior finishing work for developing Control room and server room at first floor and construction of battery room in the basement of RHQ-Vadodara | D16: ='Sch-3C( Sch-Electrical)'!M59 -> 534056.12
A17: d. | B17: TOTAL SCHEDULE NO.-3d
B18: Installation Charges-Non Schedule Electrical Items for Interior finishing work for developing Control room and server room at first floor and construction of battery room in the basement of RHQ-Vadodara | D18: ='Sch-3D(Non Sch- Electrical)'!L23 -> 0
B19: Total of Service/Installation Charge (ITEMS TAB: Item 01 for BID PRICE SUMMARY Statement ) | D19: =D12+D14+D16+D18 -> 1489951.9
A21: 2 | B21: Total GST against Service/Installation Charge (ITEMS TAB: Item 02 for BID PRICE SUMMARY Statement ) | D21: ='Sch5 Taxes'!D15 -> 268191.34
B23: Grand Total | D23: =SUM(D19,D21) -> 1758143.3
A26: Date : | B26: #REF! | C26: Printed Name : | D26: #REF!
A27: Place : | B27: #REF! | C27: Designation : | D27: #REF!
