Workbook

Sheet Instruction
A1: General Instruction to the Bidders for filling up this workbook of Price Schedules for Package
A3: I | B3: While filling up the worksheets following may please be observed :
B4: (i) | C4: Fill up only green shaded cells.
B5: (ii) | C5: Certain data type entries have been restricted, such as Numeric values or limits of numeric values.
B6: (iii) | C6: Select only the options provided in pull down menus.
B7: (iv) | C7: Do not link any cell of this work book with any other work book.
B8: (v) | C8: Do not use copy & paste or cut & paste options for filling up the data.
B9: (vi) | C9: Do not reformat any of the cell of the work book.
A11: II | B11: This Workbook consists of following worksheets :
B12: Cover :
C13: Opening page of the workbook.
B14: Names of Bidder :
B15: ● | C15: Select Sole Bidder or JV (Joint Venture) from the pull down menu. Do not leave this cell blank.
B16: ● | C16: Select nos. of the JV Partners other than the Lead Partner from drop down menu.
B17: ● | C17: In case of JV partners more than 2, enter details of 3rd & more partners along with details of 2nd partner.
B18: ● | C18: Fill up names and address of the Sole Bidder and /or Joint Venture.
B19: ● | C19: Fill up date in dd-mmm-yyyy format from drop down menu.
B20: ● | C20: Click for Sch-1 given at the right top of the worksheet to go to Sch-1.
B21: Sch -1 : (Abstract Of Cost)
B22: ● | C22: Summary of all the Schedules shall be displayed automatically.
B23: ● | C23: No cell is required to be filled in by the bidder in this worksheet.
B24: Sch-2 (Schedule Items for Civil Works for FOR CONSTRUCTION OF TL STORE (50m x 10 m) FOR BANASKANTHA SUBSTATION ) :
B25: ● | C25: Schedule Items: only % above/below DSR-2014 is to be filled up.
B26: ● | C26: Total amount shall get calculated automatically.
B27: Sch-3 (Non-Schedule Items for FOR CONSTRUCTION OF TL STORE (50m x 10 m) FOR BANASKANTHA SUBSTATION ) :
B28: ● | C28: Non-Schedule Items: Fill up unit rates for all the items in numeric values greater than 0 (zero). If unit rate is left blank, the corresponding item shall be deemed to be included in the total price.
B29: ● | C29: Total amount shall get calculated automatically.
B30: ● | C30: The rate quoted shall be inclusive of the Service Tax.
B31: Sch-4 (Schedule Items for CONSTRUCTION OF OPEN STORE YARD OF SIZE (110m x 40) m for BANASKANTHA SUBSTATION ) :
B32: ● | C32: Schedule Items: only % above/below DSR-2014 is to be filled up.
B33: ● | C33: Total amount shall get calculated automatically.
B34: Sch-5 (Non-Schedule Items for CONSTRUCTION OF OPEN STORE YARD OF SIZE (110m x 40) m for BANASKANTHA SUBSTATION ) :
B35: ● | C35: Non-Schedule Items: Fill up unit rates for all the items in numeric values greater than 0 (zero). If unit rate is left blank, the corresponding item shall be deemed to be included in the total price.
B36: ● | C36: Total amount shall get calculated automatically.
B37: ● | C37: The rate quoted shall be inclusive of the Service Tax.
B38: Sch-6 ( INTERNAL ELECTRIFICATION WORKS OF 50x10 STORE SHED FOR BANASKANTHA SUBSTATION ) :
B39: ● | C39: Fill up unit rates for all the items in numeric values greater than 0 (zero). If unit rate is left blank, the corresponding item shall be deemed to be included in the total price.
B40: ● | C40: Total amount shall get calculated automatically.
B41: ● | C41: The rate quoted shall be inclusive of the Service Tax.
B43: Bid from 2nd Envelope :
...

Sheet BASICS
A1: Name of Package : | B1: Construction of New open store and Yard PCC near the terminal equipment side of existing 400 kV Banaskantha-Vav and Banaskantha-Sankhari line at 765/400 kV Banaskantha Substation
A2: Package No :
A3: Specification No. : | B3: WR2/NT/S-MISC/DOM/G01/24/14382
A5: Completion Period | B5: 06 Month

Sheet Name of Bidder
A1: =+[1]BASIC!A1 -> Name of Package :
A2: =BASICS!B1 -> Construction of New open store and Yard PCC near the terminal equipment side of existing 400 kV Banaskantha-Vav and Banaskantha-Sankhari line at 765/400 kV Banaskantha Substation
A4: Enter following details of the bidder
A6: Specify type of Bidder [Select from drop down menu] | C6: Individual Firm
A8: =IF(C6="Individual Firm","Name of Sole Bidder [Individual Firm]",IF(C6="Licensee of a Manufacturer","Name of Bidder [Licensee]",IF(C6="Representative of a Manufacturer","Name of Bidder [Authorised Representative]","Name of Lead Partner"))) -> Name of Sole Bidder [Individual Firm]
A9: Address of Registered Office & Mobile Numbers | C9: …….. …… ………. ……….
C10: …….. …… ………. ……….
C11: …….. …… ………. ……….
A13: =IF(C6="Individual Firm","",IF(C6="Licensee of a Manufacturer","Name of Manufacturer [Licenser]",IF(C6="Representative of a Manufacturer","Name of Manufacturer","Name of Other Partner"))) | C13: …….. …… ………. ……….
C14: …….. …… ………. ……….
C15: …….. …… ………. ……….
C16: …….. …… ………. ……….
A18: Printed Name
A19: Designation
A21: Date
A22: Place

Sheet Sch-3A (Sch-Civil)
A1: पावर ग्रिड कारपोरेशन ऑफ इंडिया लिमिटेड
A2: POWER GRID CORPORATION OF INDIA LTD.
A3: WRTS-II,RHQ,VADODARA
A4: BILL OF QUANTITIES FOR Construction of Residential Quarters , Guest House and Community Center including parking shed, concrete roads, Drains and Culverts, water supply & Sewerage system at Navsari S/s
A5: Name of Package: Construction of Residential Quarters Type B1 & B2 AT NAVSARI
B6: (SCHEDULE OF RATES AND PRICES)
A7: Bidder’s Name and Address (Sole Bidder) :
A8: Name :
A9: Address :
A13: पावर ग्रिड कारपोरेशन ऑफ इंडिया लिमिटेड
A14: POWER GRID CORPORATION OF INDIA LTD.
A15: WRTS-II,RHQ,VADODARA
A16: BILL OF QUANTITIES FOR Construction of New open store and Yard PCC near the terminal equipment side of existing 400 kV Banaskantha-Vav and Banaskantha-Sankhari line at 765/400 kV Banaskantha Substation
A17: Name of Package: Construction of New open store and Yard PCC near the terminal equipment side of existing 400 kV Banaskantha-Vav and Banaskantha-Sankhari line at 765/400 kV Banaskantha Substation
A18: (SCHEDULE OF RATES AND PRICES)
A19: Bidder’s Name and Address (Sole Bidder) : | L19: To:
A20: Name : | L20: Contract Services
A21: Address : | L21: Power Grid Corporation of India Ltd.,
L22: Western Region Transmission syatem -II
L23: Plot No. 54, Near Riya revati resort ,
L24: Sama - savli road, vadodara-390008
A25: Installation Charges- Sch 3A: -Schedule Items for Construction of New open store and Yard PCC near the terminal equipment side of existing 400 kV Banaskantha-Vav and Banaskantha-Sankhari line at 765/400 kV Banaskantha Substation
A27: Sl. No. | B27: Service Code | C27: SAC | D27: Whether SAC in column ‘3’ is confirmed. If not indicate applicable the SAC # | E27: Rate of GST applicable ( in %) | G27: Description (DSR'23 Items- Civil Works) | I27: Unit | J27: Qty | K27: Unit Erection Charges | L27: Unit Erection Charges excluding GST | M27: Total Erection Charges Excl. GST | N27: Total Tax GST @ 18% | O27: Total Erection Charges incl. GST
C28: (Service Accounting Codes)
A29: 1 | B29: 2 | C29: 3 | D29: 4 | E29: 5 | F29: 6 | G29: 7 | I29: 8 | J29: 9 | K29: 10 | L29: 11 | M29: 12 | N29: 13 | O29: 14
G30: PART -A : Schedule Items as per DSR 2023 (Civil works)
A31: 1 | G31: 2.6 | H31: Earth work in excavation by mechanical means (Hydraulic excavator)/ manual means over areas (exceeding 30 cm in depth, 1.5 m in width as well as 10 sqm on plan) including getting out and disposal of excavated earth lead upto 50 m and lift upto 1.5 m, as directed by Engineer-incharge.
B32: 120000345 | C32: 995433 | E32: =IF(C32>0,18%,0) -> 0.18 | G32: 2.6.1 | H32: All kinds of soil | I32: Cum | J32: 31.89 | K32: 177.5 | L32: =K32/1.18 -> 150.42373 | M32: =J32*L32 -> 4797.0127 | N32: =IF(ISBLANK(F32),E32*M32,F32*M32) -> 863.46229 | O32: =+N32+M32 -> 5660.475
A33: 2 | G33: 2.8 | H33: Earth work in excavation by mechanical means (Hydraulic excavator) / manual means in foundation trenches or drains (not exceeding 1.5 m in width or 10 sqm on plan), including dressing of sides and ramming of bottoms, lift upto 1.5 m, including getting out the excavated soil and disposal of surplus excavated soil as directed, within a lead of 50 m.
B34: 120000349 | C34: 995433 | E34: 0.18 | G34: 2.8.1 | H34: All kinds of soil | I34: Cum | J34: 177.44 | K34: 260.3 | L34: =K34/1.18 -> 220.59322 | M34: =J34*L34 -> 39142.061 | N34: =IF(ISBLANK(F34),E34*M34,F34*M34) -> 7045.571 | O34: =+N34+M34 -> 46187.632
A35: 3 | B35: 120000391 | C35: 995433 | E35: 0.18 | G35: 2.25 | H35: Filling available excavated earth (excluding rock) in trenches, plinth, sides of foundations etc. in layers not exceeding 20cm in depth, consolidating each deposited layer by ramming and watering, lead up to 50 m and lift upto 1.5 m. | I35: Cum | J35: 141.83 | K35: 196 | L35: =K35/1.18 -> 166.10169 | M35: =J35*L35 -> 23558.203 | N35: =IF(ISBLANK(F35),E35*M35,F35*M35) -> 4240.4766 | O35: =+N35+M35 -> 27798.68
A36: 4 | G36: 4.1 | H36: Providing and laying in position cement concrete of specified grade excluding the cost of centering and shuttering - All work up to plinth level :
A37: a) | B37: 120000437 | C37: 995454 | E37: 0.18 | G37: 4.1.3 | H37: 1:2:4 (1 cement : 2 coarse sand (zone-III) derived from natural sources : 4 graded stone aggregate 20 mm nominal size derived from natural sources) | I37: Cum | J37: 1315.312 | K37: 7878.5 | L37: =K37/1.18 -> 6676.6949 | M37: =J37*L37 -> 8781936.9 | N37: =IF(ISBLANK(F37),E37*M37,F37*M37) -> 1580748.6 | O37: =+N37+M37 -> 10362686
A38: b) | B38: 120000442 | C38: 995454 | E38: 0.18 | G38: 4.1.8 | H38: 1:4:8 (1 Cement : 4 coarse sand (zone-III) derived from natural sources : 8 graded stone aggregate 40 mm nominal size derived from natural sources) | I38: Cum | J38: 342.75 | K38: 6812 | L38: =K38/1.18 -> 5772.8814 | M38: =J38*L38 -> 1978655.1 | N38: =IF(ISBLANK(F38),E38*M38,F38*M38) -> 356157.92 | O38: =+N38+M38 -> 2334813
A39: 5 | G39: 4.3 | H39: Centering and shuttering including strutting, propping etc. and removal of form work for :
A40: a) | B40: 120000456 | C40: 995457 | E40: 0.18 | G40: 4.3.1 | H40: Foundations, footings, bases for columns. | I40: Sqm | J40: 483.449 | K40: 392.15 | L40: =K40/1.18 -> 332.33051 | M40: =J40*L40 -> 160664.85 | N40: =IF(ISBLANK(F40),E40*M40,F40*M40) -> 28919.673 | O40: =+N40+M40 -> 189584.53
A41: b) | B41: 120000457 | C41: 995457 | E41: 0.18 | G41: 4.3.2 | H41: Retaining walls, return walls, walls (any thickness) including attached pilasters, buttresses, plinth and string courses fillets, kerbs and steps etc. Coping of Brick work in Fencing. | I41: Sqm | J41: 23.28 | K41: 842.5 | L41: =K41/1.18 -> 713.98305 | M41: =J41*L41 -> 16621.525 | N41: =IF(ISBLANK(F41),E41*M41,F41*M41) -> 2991.8746 | O41: =+N41+M41 -> 19613.4
A42: c) | B42: 120003010 | C42: 995457 | E42: 0.18 | G42: 4.3.3 | H42: Columns, piers, abutments, pillars, posts and struts | I42: Sqm | J42: 187.88 | K42: 961.3 | L42: =K42/1.18 -> 814.66102 | M42: =J42*L42 -> 153058.51 | N42: =IF(ISBLANK(F42),E42*M42,F42*M42) -> 27550.532 | O42: =+N42+M42 -> 180609.04
A43: 6 | G43: 5.1 | H43: Providing and laying in position specified grade of reinforced cement concrete, excluding the cost of centering, shuttering, finishing and reinforcement - All work up to plinth level :
B44: 120000488 | C44: 995454 | E44: 0.18 | G44: 5.1.2 | H44: 1:1.5:3 (1 cement : 1.5 coarse sand (zone-III) derived from natural sources : 3 graded stone aggregate 20 mm nominal size derived from natural sources) | I44: Cum | J44: 16.2 | K44: 9045.75 | L44: =K44/1.18 -> 7665.8898 | M44: =J44*L44 -> 124187.42 | N44: =IF(ISBLANK(F44),E44*M44,F44*M44) -> 22353.735 | O44: =+N44+M44 -> 146541.15
...

Sheet Sch-3B (Non Sch-Civil)
A1: पावर ग्रिड कारपोरेशन ऑफ इंडिया लिमिटेड
A2: POWER GRID CORPORATION OF INDIA LTD.
A3: WRTS-II,RHQ,VADODARA
A4: BILL OF QUANTITIES FOR THE WORK OF Construction of New open store and Yard PCC near the terminal equipment side of existing 400 kV Banaskantha-Vav and Banaskantha-Sankhari line at 765/400 kV Banaskantha Substation
A5: (SCHEDULE OF RATES AND PRICES)
A6: Bidder’s Name and Address (Sole Bidder) : | L6: To:
A7: Name : | L7: Contract Services
A8: Address : | L8: Power Grid Corporation of India Ltd.,
L9: Western Region Transmission syatem -II
L10: Plot No. 54, Near Riya revati resort ,
L11: Sama - savli road, vadodara-390008
A12: Installation Charges- Sch 3B: Non-Schedule Items for "Construction of New open store and Yard PCC near the terminal equipment side of existing 400 kV Banaskantha-Vav and Banaskantha-Sankhari line at 765/400 kV Banaskantha Substation."
A14: Sl. No. | B14: Activity Description | C14: SAC | D14: Whether SAC in column ‘3’ is confirmed. If not indicate applicable the SAC # | E14: Rate of GST applicable ( in %) | G14: Description | I14: Unit | J14: Quantity | K14: Unit Erection Charges | L14: Total Erection Charges | M14: Total Tax GST
C15: (Service Accounting Codes)
G16: Non - Schedule Items (Civil works)
A17: 1 | H17: Laying of Switch Yard PCC as Per following:-
B18: Non Scheduled Item | C18: 995454 | E18: 0.18 | G18: NS-1 | H18: 1-Over the prepared sub grade, 75mm thick base layer of cement concrete in 1:5:10 (1 cement: 5 fine aggregate: 10 Graded Stone aggregate 40mm nominal size) to be laid. 2 2-For easy drainage of water,the slope of 1:1000 is to be provided from the ridge to the nearest drain. 3-The ridge shall be suitably located at the centre of the area between the nearest drains. 4-The above slope shall be provided at the top of base layer of cement concrete in 1:5:10. 5-A layer of cement slurry of mix 1:6 (1cement: 6 fine aggregate) shall be laid uniformly over cement concrete layer. The cement consumption for cement slurry shall not be less than150 kg for every 100 sq.m. Note :- Concrete Compaction should be done by Plate Vibrator/Screed/Needle Vibrator required or as per Instruction of Engineer Incharge. | I18: Cum | J18: 179.7 | L18: =K18*J18 -> 0 | M18: =IF(ISBLANK(F18),E18*L18,F18*L18) -> 0
A19: 2 | H19: Chain Link Fencing as per POWERGRID Technical Specifications & Standard Drawing
B20: Non Scheduled Item | C20: 995424 | E20: 0.18 | G20: NS-2 | H20: Providing and fixing G.I. chain link fabric fencing made of G.I. wire of 3.15 mm dia and 75 mm mesh size conforming to IS: 2721 of required width including MS tube of required size of grade YST210 and conform to IS: 1161, strengthening with 50 x 6 mm thk MS flat, nuts, bolts and washers as required complete as per drawing. The whole assembly of tubular post and frame of panels shall be hot dip galvanized. The zinc coating shall be minimum 610 gram per square meter. The purity of zinc shall be 99.95% as per IS: 209. | I20: Meter | J20: 255.6 | L20: =K20*J20 -> 0 | M20: =IF(ISBLANK(F20),E20*L20,F20*L20) -> 0
A21: 3 | B21: Non Scheduled Item | C21: 995421 | E21: 0.18 | G21: NS-3 | H21: Providing, laying, spreading and compacting stone aggregate of specified sizes to WBM specifications (as per CPWD specifications) in uniform thickness, hand picking, rolling with 3 wheeled road / vibratory roller 8-10 tonne capacity in stages to proper grade and camber, applying and brooming requisite type of screening / binding material to fill up interstices of coarse aggregate, watering and compacting to the required density . | I21: Cum | J21: 1754.638 | L21: =K21*J21 -> 0 | M21: =IF(ISBLANK(F21),E21*L21,F21*L21) -> 0
H22: Total for Non-Schedule Items (Installation Charges- Sch 3B) | L22: =SUM(L17:L21) -> 0 | M22: =SUM(M17:M21) -> 0
A25: # In case the bidder leaves the cell for confirmation of the SAC and/or GST rate “blank”, the SAC and corresponding GST rate indicated by the Employer shall be deemed to be the one confirmed by the Bidder.
K30: Printed Name : | L30: 0
A31: Date : | K31: Designation : | L31: 0
A32: Place :

Sheet Sch5 Taxes
A1: Schedule-2
A2: (SUMMARY OF TAXES & DUTIES)
C3: To:
A4: Name | C4: Contract Services
A5: Address | B5: ='[2]Names of Bidder'!C9 -> …….. …… ………. ………. | C5: Power Grid Corporation of India Ltd.,
B6: ='[2]Names of Bidder'!C10 -> …….. …… ………. ………. | C6: Western Region Transmission syatem -II
B7: ='[2]Names of Bidder'!C11 -> …….. …… ………. ………. | C7: Plot No. 54, Near Riya revati resort ,
C8: Sama - savli road, vadodara-390008
A9: Sl. No. | B9: Item Nos. | D9: Total Price (in ₹)
A10: 1 | B10: TOTAL GST on Services
A11: a. | B11: Total GST on Supply & Installation Services (indentified in Schedule-3A) which are not included in the Installationas per the provision of the Bidding Documents, as applicable | D11: ='Sch-3A (Sch-Civil)'!N67 -> 2272163.4
A12: b. | B12: Total GST on Supply & Installation Services (indentified in Schedule-3B) which are not included in the Installation as per the provision of the Bidding Documents, as applicable | D12: ='Sch-3B (Non Sch-Civil)'!M22 -> 0
A13: 2 | B13: GRAND TOTAL | D13: =SUM(D11:D12) -> 2272163.4
A16: Date : | B16: #REF! | C16: Printed Name : | D16: #REF!
A17: Place : | B17: #REF! | C17: Designation : | D17: #REF!

Sheet Sch6 Summary
A1: Schedule-6
A2: Grand Summary
C3: To:
A4: Name | B4: ='[2]Names of Bidder'!C8 -> #REF! | C4: Contract Services
A5: Address | B5: ='[2]Names of Bidder'!C9 -> …….. …… ………. ………. | C5: Power Grid Corporation of India Ltd.,
B6: ='[2]Names of Bidder'!C10 -> …….. …… ………. ………. | C6: Western Region Transmission syatem -II
B7: ='[2]Names of Bidder'!C11 -> …….. …… ………. ………. | C7: Plot No. 54, Near Riya revati resort ,
C8: Sama - savli road, vadodara-390008
A9: Sl. No. | B9: Description | D9: Total Price (INR)
A10: 1 | B10: Service/Installation Charges
A11: a. | B11: TOTAL SCHEDULE NO.-3A
B12: Supply & Installation Charges- Schedule Civil Items forConstruction of New open store and Yard PCC near the terminal equipment side of existing 400 kV Banaskantha-Vav and Banaskantha-Sankhari line at 765/400 kV Banaskantha Substation | D12: ='Sch-3A (Sch-Civil)'!M66 -> 12623130
A13: b. | B13: TOTAL SCHEDULE NO.-3B
B14: Installation Charges-Non Schedule Civil Items for Construction of New open store and Yard PCC near the terminal equipment side of existing 400 kV Banaskantha-Vav and Banaskantha-Sankhari line at 765/400 kV Banaskantha Substation | D14: ='Sch-3B (Non Sch-Civil)'!L22 -> 0
B15: Total of Service/Installation Charge (ITEMS TAB: Item 01 for BID PRICE SUMMARY Statement ) | D15: =D12+D14 -> 12623130
A17: 2 | B17: Total GST against Service/Installation Charge (ITEMS TAB: Item 02 for BID PRICE SUMMARY Statement ) | D17: ='Sch5 Taxes'!D13 -> 2272163.4
B19: Grand Total | D19: =SUM(D15,D17) -> 14895293
A22: Date : | B22: #REF! | C22: Printed Name : | D22: #REF!
A23: Place : | B23: #REF! | C23: Designation : | D23: #REF!
