Workbook

Sheet Instruction
A1: General Instruction to the Bidders for filling up this workbook of Price Schedules for Package
A3: I | B3: While filling up the worksheets following may please be observed :
B4: (i) | C4: Fill up only green shaded cells.
B5: (ii) | C5: Certain data type entries have been restricted, such as Numeric values or limits of numeric values.
B6: (iii) | C6: Select only the options provided in pull down menus.
B7: (iv) | C7: Do not link any cell of this work book with any other work book.
B8: (v) | C8: Do not use copy & paste or cut & paste options for filling up the data.
B9: (vi) | C9: Do not reformat any of the cell of the work book.
A11: II | B11: This Workbook consists of following worksheets :
B12: Cover :
C13: Opening page of the workbook.
B14: Names of Bidder :
B15: ● | C15: Select Sole Bidder or JV (Joint Venture) from the pull down menu. Do not leave this cell blank.
B16: ● | C16: Select nos. of the JV Partners other than the Lead Partner from drop down menu.
B17: ● | C17: In case of JV partners more than 2, enter details of 3rd & more partners along with details of 2nd partner.
B18: ● | C18: Fill up names and address of the Sole Bidder and /or Joint Venture.
B19: ● | C19: Fill up date in dd-mmm-yyyy format from drop down menu.
B20: ● | C20: Click for Sch-1 given at the right top of the worksheet to go to Sch-1.
B21: Sch -1 : (Abstract Of Cost)
B22: ● | C22: Summary of all the Schedules shall be displayed automatically.
B23: ● | C23: No cell is required to be filled in by the bidder in this worksheet.
B24: Sch-2 (Schedule Items for Civil Works for FOR CONSTRUCTION OF TL STORE (50m x 10 m) FOR BANASKANTHA SUBSTATION ) :
B25: ● | C25: Schedule Items: only % above/below DSR-2014 is to be filled up.
B26: ● | C26: Total amount shall get calculated automatically.
B27: Sch-3 (Non-Schedule Items for FOR CONSTRUCTION OF TL STORE (50m x 10 m) FOR BANASKANTHA SUBSTATION ) :
B28: ● | C28: Non-Schedule Items: Fill up unit rates for all the items in numeric values greater than 0 (zero). If unit rate is left blank, the corresponding item shall be deemed to be included in the total price.
B29: ● | C29: Total amount shall get calculated automatically.
B30: ● | C30: The rate quoted shall be inclusive of the Service Tax.
B31: Sch-4 (Schedule Items for CONSTRUCTION OF OPEN STORE YARD OF SIZE (110m x 40) m for BANASKANTHA SUBSTATION ) :
B32: ● | C32: Schedule Items: only % above/below DSR-2014 is to be filled up.
B33: ● | C33: Total amount shall get calculated automatically.
B34: Sch-5 (Non-Schedule Items for CONSTRUCTION OF OPEN STORE YARD OF SIZE (110m x 40) m for BANASKANTHA SUBSTATION ) :
B35: ● | C35: Non-Schedule Items: Fill up unit rates for all the items in numeric values greater than 0 (zero). If unit rate is left blank, the corresponding item shall be deemed to be included in the total price.
B36: ● | C36: Total amount shall get calculated automatically.
B37: ● | C37: The rate quoted shall be inclusive of the Service Tax.
B38: Sch-6 ( INTERNAL ELECTRIFICATION WORKS OF 50x10 STORE SHED FOR BANASKANTHA SUBSTATION ) :
B39: ● | C39: Fill up unit rates for all the items in numeric values greater than 0 (zero). If unit rate is left blank, the corresponding item shall be deemed to be included in the total price.
B40: ● | C40: Total amount shall get calculated automatically.
B41: ● | C41: The rate quoted shall be inclusive of the Service Tax.
B43: Bid from 2nd Envelope :
B44: ● | C44: Fill up ref. no. as bidder's ref no. of this letter.
B45: ● | C45: This letter shall consider the net price as per Sch-3 .
B46: ● | C46: Fill up names & Designation of the representatives of other JV partner(s) if the bidder is JV (Joint Venture) .
B47: ● | C47: Fill up additional information as required.
A50: * * *
A51: Happy Bidding !

Sheet BASICS
A1: Name of Package : | B1: Construction of New open store and Yard PCC near the terminal equipment side of existing 400 kV Banaskantha-Vav and Banaskantha-Sankhari line at 765/400 kV Banaskantha Substation
A2: Package No :
A3: Specification No. : | B3: WR2/NT/S-MISC/DOM/G01/24/14382
A5: Completion Period | B5: 06 Month

Sheet Name of Bidder
A1: =+[1]BASIC!A1 -> Name of Package :
A2: =BASICS!B1 -> Construction of New open store and Yard PCC near the terminal equipment side of existing 400 kV Banaskantha-Vav and Banaskantha-Sankhari line at 765/400 kV Banaskantha Substation
A4: Enter following details of the bidder
A6: Specify type of Bidder [Select from drop down menu] | C6: Individual Firm
A8: =IF(C6="Individual Firm","Name of Sole Bidder [Individual Firm]",IF(C6="Licensee of a Manufacturer","Name of Bidder [Licensee]",IF(C6="Representative of a Manufacturer","Name of Bidder [Authorised Representative]","Name of Lead Partner"))) -> Name of Sole Bidder [Individual Firm]
A9: Address of Registered Office & Mobile Numbers | C9: …….. …… ………. ……….
C10: …….. …… ………. ……….
C11: …….. …… ………. ……….
A13: =IF(C6="Individual Firm","",IF(C6="Licensee of a Manufacturer","Name of Manufacturer [Licenser]",IF(C6="Representative of a Manufacturer","Name of Manufacturer","Name of Other Partner"))) | C13: …….. …… ………. ……….
C14: …….. …… ………. ……….
C15: …….. …… ………. ……….
C16: …….. …… ………. ……….
A18: Printed Name
A19: Designation
A21: Date
A22: Place

Sheet Sch-3A (Sch-Civil)
A1: पावर ग्रिड कारपोरेशन ऑफ इंडिया लिमिटेड
A2: POWER GRID CORPORATION OF INDIA LTD.
A3: WRTS-II,RHQ,VADODARA
A4: BILL OF QUANTITIES FOR Construction of Residential Quarters , Guest House and Community Center including parking shed, concrete roads, Drains and Culverts, water supply & Sewerage system at Navsari S/s
A5: Name of Package: Construction of Residential Quarters Type B1 & B2 AT NAVSARI
B6: (SCHEDULE OF RATES AND PRICES)
A7: Bidder’s Name and Address (Sole Bidder) :
A8: Name :
A9: Address :
A13: पावर ग्रिड कारपोरेशन ऑफ इंडिया लिमिटेड
A14: POWER GRID CORPORATION OF INDIA LTD.
A15: WRTS-II,RHQ,VADODARA
A16: BILL OF QUANTITIES FOR Construction of New open store and Yard PCC near the terminal equipment side of existing 400 kV Banaskantha-Vav and Banaskantha-Sankhari line at 765/400 kV Banaskantha Substation
A17: Name of Package: Construction of New open store and Yard PCC near the terminal equipment side of existing 400 kV Banaskantha-Vav and Banaskantha-Sankhari line at 765/400 kV Banaskantha Substation
A18: (SCHEDULE OF RATES AND PRICES)
A19: Bidder’s Name and Address (Sole Bidder) : | L19: To:
A20: Name : | L20: Contract Services
A21: Address : | L21: Power Grid Corporation of India Ltd.,
L22: Western Region Transmission syatem -II
L23: Plot No. 54, Near Riya revati resort ,
L24: Sama - savli road, vadodara-390008
A25: Installation Charges- Sch 3A: -Schedule Items for Construction of New open store and Yard PCC near the terminal equipment side of existing 400 kV Banaskantha-Vav and Banaskantha-Sankhari line at 765/400 kV Banaskantha Substation
A27: Sl. No. | B27: Service Code | C27: SAC | D27: Whether SAC in column ‘3’ is confirmed. If not indicate applicable the SAC # | E27: Rate of GST applicable ( in %) | G27: Description (DSR'23 Items- Civil Works) | I27: Unit | J27: Qty | K27: Unit Erection Charges | L27: Unit Erection Charges excluding GST | M27: Total Erection Charges Excl. GST | N27: Total Tax GST @ 18% | O27: Total Erection Charges incl. GST
C28: (Service Accounting Codes)
A29: 1 | B29: 2 | C29: 3 | D29: 4 | E29: 5 | F29: 6 | G29: 7 | I29: 8 | J29: 9 | K29: 10 | L29: 11 | M29: 12 | N29: 13 | O29: 14
G30: PART -A : Schedule Items as per DSR 2023 (Civil works)
A31: 1 | G31: 2.6 | H31: Earth work in excavation by mechanical means (Hydraulic excavator)/ manual means over areas (exceeding 30 cm in depth, 1.5 m in width as well as 10 sqm on plan) including getting out and disposal of excavated earth lead upto 50 m and lift upto 1.5 m, as directed by Engineer-incharge.
B32: 120000345 | C32: 995433 | E32: =IF(C32>0,18%,0) -> 0.18 | G32: 2.6.1 | H32: All kinds of soil | I32: Cum | J32: 31.89 | K32: 177.5 | L32: =K32/1.18 -> 150.42373 | M32: =J32*L32 -> 4797.0127 | N32: =IF(ISBLANK(F32),E32*M32,F32*M32) -> 863.46229 | O32: =+N32+M32 -> 5660.475
A33: 2 | G33: 2.8 | H33: Earth work in excavation by mechanical means (Hydraulic excavator) / manual means in foundation trenches or drains (not exceeding 1.5 m in width or 10 sqm on plan), including dressing of sides and ramming of bottoms, lift upto 1.5 m, including getting out the excavated soil and disposal of surplus excavated soil as directed, within a lead of 50 m.
B34: 120000349 | C34: 995433 | E34: 0.18 | G34: 2.8.1 | H34: All kinds of soil | I34: Cum | J34: 177.44 | K34: 260.3 | L34: =K34/1.18 -> 220.59322 | M34: =J34*L34 -> 39142.061 | N34: =IF(ISBLANK(F34),E34*M34,F34*M34) -> 7045.571 | O34: =+N34+M34 -> 46187.632
A35: 3 | B35: 120000391 | C35: 995433 | E35: 0.18 | G35: 2.25 | H35: Filling available excavated earth (excluding rock) in trenches, plinth, sides of foundations etc. in layers not exceeding 20cm in depth, consolidating each deposited layer by ramming and watering, lead up to 50 m and lift upto 1.5 m. | I35: Cum | J35: 141.83 | K35: 196 | L35: =K35/1.18 -> 166.10169 | M35: =J35*L35 -> 23558.203 | N35: =IF(ISBLANK(F35),E35*M35,F35*M35) -> 4240.4766 | O35: =+N35+M35 -> 27798.68
A36: 4 | G36: 4.1 | H36: Providing and laying in position cement concrete of specified grade excluding the cost of centering and shuttering - All work up to plinth level :
A37: a) | B37: 120000437 | C37: 995454 | E37: 0.18 | G37: 4.1.3 | H37: 1:2:4 (1 cement : 2 coarse sand (zone-III) derived from natural sources : 4 graded stone aggregate 20 mm nominal size derived from natural sources) | I37: Cum | J37: 1315.312 | K37: 7878.5 | L37: =K37/1.18 -> 6676.6949 | M37: =J37*L37 -> 8781936.9 | N37: =IF(ISBLANK(F37),E37*M37,F37*M37) -> 1580748.6 | O37: =+N37+M37 -> 10362686
A38: b) | B38: 120000442 | C38: 995454 | E38: 0.18 | G38: 4.1.8 | H38: 1:4:8 (1 Cement : 4 coarse sand (zone-III) derived from natural sources : 8 graded stone aggregate 40 mm nominal size derived from natural sources) | I38: Cum | J38: 342.75 | K38: 6812 | L38: =K38/1.18 -> 5772.8814 | M38: =J38*L38 -> 1978655.1 | N38: =IF(ISBLANK(F38),E38*M38,F38*M38) -> 356157.92 | O38: =+N38+M38 -> 2334813
A39: 5 | G39: 4.3 | H39: Centering and shuttering including strutting, propping etc. and removal of form work for :
A40: a) | B40: 120000456 | C40: 995457 | E40: 0.18 | G40: 4.3.1 | H40: Foundations, footings, bases for columns. | I40: Sqm | J40: 483.449 | K40: 392.15 | L40: =K40/1.18 -> 332.33051 | M40: =J40*L40 -> 160664.85 | N40: =IF(ISBLANK(F40),E40*M40,F40*M40) -> 28919.673 | O40: =+N40+M40 -> 189584.53
A41: b) | B41: 120000457 | C41: 995457 | E41: 0.18 | G41: 4.3.2 | H41: Retaining walls, return walls, walls (any thickness) including attached pilasters, buttresses, plinth and string courses fillets, kerbs and steps etc. Coping of Brick work in Fencing. | I41: Sqm | J41: 23.28 | K41: 842.5 | L41: =K41/1.18 -> 713.98305 | M41: =J41*L41 -> 16621.525 | N41: =IF(ISBLANK(F41),E41*M41,F41*M41) -> 2991.8746 | O41: =+N41+M41 -> 19613.4
A42: c) | B42: 120003010 | C42: 995457 | E42: 0.18 | G42: 4.3.3 | H42: Columns, piers, abutments, pillars, posts and struts | I42: Sqm | J42: 187.88 | K42: 961.3 | L42: =K42/1.18 -> 814.66102 | M42: =J42*L42 -> 153058.51 | N42: =IF(ISBLANK(F42),E42*M42,F42*M42) -> 27550.532 | O42: =+N42+M42 -> 180609.04
A43: 6 | G43: 5.1 | H43: Providing and laying in position specified grade of reinforced cement concrete, excluding the cost of centering, shuttering, finishing and reinforcement - All work up to plinth level :
B44: 120000488 | C44: 995454 | E44: 0.18 | G44: 5.1.2 | H44: 1:1.5:3 (1 cement : 1.5 coarse sand (zone-III) derived from natural sources : 3 graded stone aggregate 20 mm nominal size derived from natural sources) | I44: Cum | J44: 16.2 | K44: 9045.75 | L44: =K44/1.18 -> 7665.8898 | M44: =J44*L44 -> 124187.42 | N44: =IF(ISBLANK(F44),E44*M44,F44*M44) -> 22353.735 | O44: =+N44+M44 -> 146541.15
A45: 7 | G45: 5.2 | H45: Reinforced cement concrete work in walls (any thickness), including attached pilasters, buttresses, plinth and string courses, fillets, columns, pillars, piers, abutments, posts and struts etc. above plinth level up to floor five level, excluding cost of centering, shuttering, finishing and reinforcement :
B46: 120000492 | C46: 995454 | E46: 0.18 | G46: 5.2.2 | H46: 1:1.5:3 (1 cement : 1.5 coarse sand(zone-III) derived from natural sources : 3 graded stone aggregate 20 mm nominal size derived from natural sources) | I46: Cum | J46: 16.2 | K46: 10852.95 | L46: =K46/1.18 -> 9197.4153 | M46: =J46*L46 -> 148998.13 | N46: =IF(ISBLANK(F46),E46*M46,F46*M46) -> 26819.663 | O46: =+N46+M46 -> 175817.79
A47: 8 | G47: 5.9 | H47: Centering and shuttering including strutting, propping etc. and removal of form for
A48: a) | B48: 120000499 | C48: 995457 | E48: 0.18 | G48: 5.9.1 | H48: Foundations, footings, bases of columns, etc. for mass concrete | I48: Sqm | J48: 43.5 | K48: 392.15 | L48: =K48/1.18 -> 332.33051 | M48: =J48*L48 -> 14456.377 | N48: =IF(ISBLANK(F48),E48*M48,F48*M48) -> 2602.1479 | O48: =+N48+M48 -> 17058.525
A49: b) | B49: 120000500 | C49: 995457 | E49: 0.18 | G49: 5.9.2 | H49: Walls (any thickness) including attached pilasters, butteresses, plinth and string courses etc. | I49: Sqm | J49: 216.3 | K49: 842.5 | L49: =K49/1.18 -> 713.98305 | M49: =J49*L49 -> 154434.53 | N49: =IF(ISBLANK(F49),E49*M49,#REF!*M49) -> 27798.216 | O49: =+N49+M49 -> 182232.75
A50: 9 | G50: 5.22 | H50: Steel reinforcement for R.C.C. work including straightening, cutting, bending, placing in position and binding all complete up to plinth level
B51: 120000543 | C51: 995454 | E51: =IF(C51>0,18%,0) -> 0.18 | G51: 5.22.6 | H51: Thermo-Mechanically Treated bars | I51: Kg | J51: 3469.13 | K51: 107.85 | L51: =K51/1.18 -> 91.398305 | M51: =J51*L51 -> 317072.6 | N51: =IF(ISBLANK(F51),E51*M51,#REF!*M51) -> 57073.068 | O51: =+N51+M51 -> 374145.67
A52: 10 | G52: 6.1 | H52: Brick work with common burnt clay F.P.S. (non modular) bricks of class designation 7.5 in foundation and plinth in:
B53: 120000601 | C53: 995456 | E53: 0.18 | G53: 6.1.2 | H53: Cement mortar 1:6 (1 cement : 6 coarse sand) | I53: Cu.m. | J53: 56.139 | K53: 7132.25 | L53: =K53/1.18 -> 6044.2797 | M53: =J53*L53 -> 339319.82 | N53: =IF(ISBLANK(F53),E53*M53,#REF!*M53) -> 61077.567 | O53: =+N53+M53 -> 400397.38
A54: 11 | B54: 120001115 | C54: 995476 | E54: 0.18 | G54: 10.1 | H54: Structural steel work in single section, fixed with or without connecting plate, including cutting, hoisting, fixing in position and applying a priming coat of approved steel primer all complete. | I54: Kg | J54: 873.28 | K54: 117.35 | L54: =K54/1.18 -> 99.449153 | M54: =J54*L54 -> 86846.956 | N54: =IF(ISBLANK(F54),E54*M54,#REF!*M54) -> 15632.452 | O54: =+N54+M54 -> 102479.41
A55: 12 | G55: 10.16 | H55: Steel work in built up tubular (round, square or rectangular hollow tubes etc.) trusses etc., including cutting, hoisting, fixing in position and applying a priming coat of approved steel primer, including welding and bolted with special shaped washers etc. complete.
B56: 120001143 | C56: 995476 | E56: 0.18 | G56: 10.16.1 | H56: Hot finished welded type tubes | I56: Kg | J56: 371.29 | K56: 194.4 | L56: =K56/1.18 -> 164.74576 | M56: =J56*L56 -> 61168.454 | N56: =IF(ISBLANK(F56),E56*M56,#REF!*M56) -> 11010.322 | O56: =+N56+M56 -> 72178.776
A57: 13 | B57: 120001412 | C57: 995472 | E57: =IF(C57>0,18%,0) -> 0.18 | G57: 13.7.2 | H57: 12 mm thk. Plaster with floating coat of neat cement. 1:4 (1 cement: 4 fine sand) | I57: Sqm | J57: 343.41 | K57: 425.55 | L57: =K57/1.18 -> 360.63559 | M57: =J57*L57 -> 123845.87 | N57: =IF(ISBLANK(F57),E57*M57,F57*M57) -> 22292.256 | O57: =+N57+M57 -> 146138.13
A58: 14 | G58: 13.44 | H58: Finishing walls with water proofing cement paint of required shade :
B59: 120001464 | C59: 995473 | E59: =IF(C59>0,18%,0) -> 0.18 | G59: 13.44.1 | H59: New work (Two or more coats applied @ 3.84 kg/10 sqm) over Brick wall of fencing. | I59: Sqm | J59: 192.89 | K59: 116.9 | L59: =K59/1.18 -> 99.067797 | M59: =J59*L59 -> 19109.187 | N59: =IF(ISBLANK(F59),E59*M59,F59*M59) -> 3439.6537 | O59: =+N59+M59 -> 22548.841
A60: 15 | G60: 13.61 | H60: Painting with synthetic enamel paint of approved brand and manufacture to give an even shade :
B61: 120001490 | C61: 995473 | E61: =IF(C61>0,18%,0) -> 0.18 | G61: 13.61.1 | H61: Two or more coats on new work | I61: Sqm | J61: 12.56 | K61: 155.9 | L61: =K61/1.18 -> 132.11864 | M61: =J61*L61 -> 1659.4102 | N61: =IF(ISBLANK(F61),E61*M61,F61*M61) -> 298.69383 | O61: =+N61+M61 -> 1958.104
A62: 16 | B62: 120001733 | C62: 995428 | E62: =IF(C62>0,18%,0) -> 0.18 | G62: 16.2 | H62: Extra for compaction of earth work in embankment under optimum moisture conditions to give at least 95% of the maximum dry density (proctor density). | I62: Cum | J62: 3494.75 | K62: 24.85 | L62: =K62/1.18 -> 21.059322 | M62: =J62*L62 -> 73597.066 | N62: =IF(ISBLANK(F62),E62*M62,F62*M62) -> 13247.472 | O62: =+N62+M62 -> 86844.538
K63: Total of Schedule Items as per DSR'23 | M63: =SUM(M31:M62) -> 12623130 | N63: =SUM(N31:N62) -> 2272163.4 | O63: =SUM(O31:O62) -> 14895293
K64: Add percentage (%) above/below +/- on DSR 2023 Rates (to be quoted by contractor) | N64: =+M64 -> 0
K65: Add Amount above/below +/- on the amount for DSR Items as per quoted percentage | M65: =+M63*M64 -> 0 | N65: =+N63*N64 -> 0
K66: Total of Schedule Items Part IIIA | M66: =+M65+M63 -> 12623130
K67: Total Tax | N67: =+N63+N65 -> 2272163.4
A70: Date:
A71: Place:

Sheet Sch-3B (Non Sch-Civil)
A1: पावर ग्रिड कारपोरेशन ऑफ इंडिया लिमिटेड
A2: POWER GRID CORPORATION OF INDIA LTD.
A3: WRTS-II,RHQ,VADODARA
A4: BILL OF QUANTITIES FOR THE WORK OF Construction of New open store and Yard PCC near the terminal equipment side of existing 400 kV Banaskantha-Vav and Banaskantha-Sankhari line at 765/400 kV Banaskantha Substation
A5: (SCHEDULE OF RATES AND PRICES)
A6: Bidder’s Name and Address (Sole Bidder) : | L6: To:
A7: Name : | L7: Contract Services
A8: Address : | L8: Power Grid Corporation of India Ltd.,
L9: Western Region Transmission syatem -II
L10: Plot No. 54, Near Riya revati resort ,
L11: Sama - savli road, vadodara-390008
A12: Installation Charges- Sch 3B: Non-Schedule Items for "Construction of New open store and Yard PCC near the terminal equipment side of existing 400 kV Banaskantha-Vav and Banaskantha-Sankhari line at 765/400 kV Banaskantha Substation."
A14: Sl. No. | B14: Activity Description | C14: SAC | D14: Whether SAC in column ‘3’ is confirmed. If not indicate applicable the SAC # | E14: Rate of GST applicable ( in %) | G14: Description | I14: Unit | J14: Quantity | K14: Unit Erection Charges | L14: Total Erection Charges | M14: Total Tax GST
C15: (Service Accounting Codes)
G16: Non - Schedule Items (Civil works)
A17: 1 | H17: Laying of Switch Yard PCC as Per following:-
B18: Non Scheduled Item | C18: 995454 | E18: 0.18 | G18: NS-1 | H18: 1-Over the prepared sub grade, 75mm thick base layer of cement concrete in 1:5:10 (1 cement: 5 fine aggregate: 10 Graded Stone aggregate 40mm nominal size) to be laid. 2 2-For easy drainage of water,the slope of 1:1000 is to be provided from the ridge to the nearest drain. 3-The ridge shall be suitably located at the centre of the area between the nearest drains. 4-The above slope shall be provided at the top of base layer of cement concrete in 1:5:10. 5-A layer of cement slurry of mix 1:6 (1cement: 6 fine aggregate) shall be laid uniformly over cement concrete layer. The cement consumption for cement slurry shall not be less than150 kg for every 100 sq.m. Note :- Concrete Compaction should be done by Plate Vibrator/Screed/Needle Vibrator required or as per Instruction of Engineer Incharge. | I18: Cum | J18: 179.7 | L18: =K18*J18 -> 0 | M18: =IF(ISBLANK(F18),E18*L18,F18*L18) -> 0
A19: 2 | H19: Chain Link Fencing as per POWERGRID Technical Specifications & Standard Drawing
B20: Non Scheduled Item | C20: 995424 | E20: 0.18 | G20: NS-2 | H20: Providing and fixing G.I. chain link fabric fencing made of G.I. wire of 3.15 mm dia and 75 mm mesh size conforming to IS: 2721 of required width including MS tube of required size of grade YST210 and conform to IS: 1161, strengthening with 50 x 6 mm thk MS flat, nuts, bolts and washers as required complete as per drawing. The whole assembly of tubular post and frame of panels shall be hot dip galvanized. The zinc coating shall be minimum 610 gram per square meter. The purity of zinc shall be 99.95% as per IS: 209. | I20: Meter | J20: 255.6 | L20: =K20*J20 -> 0 | M20: =IF(ISBLANK(F20),E20*L20,F20*L20) -> 0
A21: 3 | B21: Non Scheduled Item | C21: 995421 | E21: 0.18 | G21: NS-3 | H21: Providing, laying, spreading and compacting stone aggregate of specified sizes to WBM specifications (as per CPWD specifications) in uniform thickness, hand picking, rolling with 3 wheeled road / vibratory roller 8-10 tonne capacity in stages to proper grade and camber, applying and brooming requisite type of screening / binding material to fill up interstices of coarse aggregate, watering and compacting to the required density . | I21: Cum | J21: 1754.638 | L21: =K21*J21 -> 0 | M21: =IF(ISBLANK(F21),E21*L21,F21*L21) -> 0
H22: Total for Non-Schedule Items (Installation Charges- Sch 3B) | L22: =SUM(L17:L21) -> 0 | M22: =SUM(M17:M21) -> 0
A25: # In case the bidder leaves the cell for confirmation of the SAC and/or GST rate “blank”, the SAC and corresponding GST rate indicated by the Employer shall be deemed to be the one confirmed by the Bidder.
K30: Printed Name : | L30: 0
A31: Date : | K31: Designation : | L31: 0
A32: Place :

Sheet Sch5 Taxes
A1: Schedule-2
A2: (SUMMARY OF TAXES & DUTIES)
C3: To:
A4: Name | C4: Contract Services
A5: Address | B5: ='[2]Names of Bidder'!C9 -> …….. …… ………. ………. | C5: Power Grid Corporation of India Ltd.,
B6: ='[2]Names of Bidder'!C10 -> …….. …… ………. ………. | C6: Western Region Transmission syatem -II
B7: ='[2]Names of Bidder'!C11 -> …….. …… ………. ………. | C7: Plot No. 54, Near Riya revati resort ,
C8: Sama - savli road, vadodara-390008
A9: Sl. No. | B9: Item Nos. | D9: Total Price (in ₹)
A10: 1 | B10: TOTAL GST on Services
A11: a. | B11: Total GST on Supply & Installation Services (indentified in Schedule-3A) which are not included in the Installationas per the provision of the Bidding Documents, as applicable | D11: ='Sch-3A (Sch-Civil)'!N67 -> 2272163.4
A12: b. | B12: Total GST on Supply & Installation Services (indentified in Schedule-3B) which are not included in the Installation as per the provision of the Bidding Documents, as applicable | D12: ='Sch-3B (Non Sch-Civil)'!M22 -> 0
A13: 2 | B13: GRAND TOTAL | D13: =SUM(D11:D12) -> 2272163.4
A16: Date : | B16: #REF! | C16: Printed Name : | D16: #REF!
A17: Place : | B17: #REF! | C17: Designation : | D17: #REF!

Sheet Sch6 Summary
A1: Schedule-6
A2: Grand Summary
C3: To:
A4: Name | B4: ='[2]Names of Bidder'!C8 -> #REF! | C4: Contract Services
A5: Address | B5: ='[2]Names of Bidder'!C9 -> …….. …… ………. ………. | C5: Power Grid Corporation of India Ltd.,
B6: ='[2]Names of Bidder'!C10 -> …….. …… ………. ………. | C6: Western Region Transmission syatem -II
B7: ='[2]Names of Bidder'!C11 -> …….. …… ………. ………. | C7: Plot No. 54, Near Riya revati resort ,
C8: Sama - savli road, vadodara-390008
A9: Sl. No. | B9: Description | D9: Total Price (INR)
A10: 1 | B10: Service/Installation Charges
A11: a. | B11: TOTAL SCHEDULE NO.-3A
B12: Supply & Installation Charges- Schedule Civil Items forConstruction of New open store and Yard PCC near the terminal equipment side of existing 400 kV Banaskantha-Vav and Banaskantha-Sankhari line at 765/400 kV Banaskantha Substation | D12: ='Sch-3A (Sch-Civil)'!M66 -> 12623130
A13: b. | B13: TOTAL SCHEDULE NO.-3B
B14: Installation Charges-Non Schedule Civil Items for Construction of New open store and Yard PCC near the terminal equipment side of existing 400 kV Banaskantha-Vav and Banaskantha-Sankhari line at 765/400 kV Banaskantha Substation | D14: ='Sch-3B (Non Sch-Civil)'!L22 -> 0
B15: Total of Service/Installation Charge (ITEMS TAB: Item 01 for BID PRICE SUMMARY Statement ) | D15: =D12+D14 -> 12623130
A17: 2 | B17: Total GST against Service/Installation Charge (ITEMS TAB: Item 02 for BID PRICE SUMMARY Statement ) | D17: ='Sch5 Taxes'!D13 -> 2272163.4
B19: Grand Total | D19: =SUM(D15,D17) -> 14895293
A22: Date : | B22: #REF! | C22: Printed Name : | D22: #REF!
A23: Place : | B23: #REF! | C23: Designation : | D23: #REF!
