Workbook
Name \A: #REF!
Name \B: #REF!
Name \C: #REF!
Name \M: #REF!
Name \N: #REF!
Name \P: #REF!
Name \R: #REF!
Name \U: #REF!
Name \V: #REF!
Name ab: #REF!
Name logo1: "Picture 7"
Name TEST: #REF!

Sheet Basic Data
A2: Enter basic data here
A3: [Fill up data only in the relevent open area]
A5: 1 | B5: Name of Package
A7: 2 | B7: Specification No.
A9: 3 | B9: Package Code
A11: 4 | B11: Item Description | C11: ACSR ZEBRA Conductor
A12: 5 | B12: Quantity in km. | C12: 6615
A14: 6 | B14: Type Tests | C14: Tests to be conducted | E14: Nos of tests

Sheet Cover
B1: General guidelines for filling up the Price Schedules, Discount Letter & Bid Form for 2nd Envelope
B2: “Water proofing & structural strengthening of overhead tank at Bhadrawati substation.”
B3: Specification No.: WR-1/C&M/PS/I-3484/Rfx-5005010166
B4: 1 | C4: Fill up only green shaded cells in Sch-1, Sch-2, Sch-3 & Discount.
B5: 2 | C5: All the cells in Sch-5 are auto filled, therefore no cell is required to be filled up there.
B6: 3 | C6: Instructions / error messages, if any, will be displayed automatically after selecting the cell.
B7: 4 | C7: The price quoted in respect of all items shall be excluding GST applicable on transaction between the Employer and the Contractor
B11: पावर ग्रिड कारपोरेशन ऑफ इण्डिया लिमिटेड
B12: (भारत सरकार का उद्यम)
B13: Power Grid Corporation of India Limited
B14: (A Government of India Enterprises)

Sheet Names of Bidder
B1: =Cover!$B$2 -> “Water proofing & structural strengthening of overhead tank at Bhadrawati substation.”
B2: =Cover!B3 -> Specification No.: WR-1/C&M/PS/I-3484/Rfx-5005010166 | AA2: Manufacturer | AB2: 1
AA3: Authorized Dealer/ Sub-dealer of Manufacturer | AB3: 2
B4: Enter following details of the bidder | AA4: Authorized Representative of Manufacturer
B6: Specify type of Bidder [Select from drop down menu] | AA6: =IF(D6= "Sole Bidder", 0,#REF!) -> #REF!
B8: Name of Bidder
B9: Address
B13: =IF(D6="Individual Firm","",IF(D6="Licensee of a Manufacturer","Name of Manufacturer [Licenser]","Name of Manufacturer")) -> Name of Manufacturer
B14: Address
B18: Printed Name
B19: Designation
B20: PhoneNo/ Mobile No.
B21: e-mail ID
B23: Date
B24: Place

Sheet   Sch-1
A1: =Cover!B3 -> Specification No.: WR-1/C&M/PS/I-3484/Rfx-5005010166
A3: =Cover!$B$2 -> “Water proofing & structural strengthening of overhead tank at Bhadrawati substation.”
A4: (SCHEDULE OF RATES AND PRICES : - Scheduled Items ) PART A
A6: Bidder’s Name and Address | F6: To:
A7: ="Bidder as "& 'Names of Bidder'!D6 -> Bidder as | F7: Contract & Material
A8: Name : | C8: =IF('Names of Bidder'!D8=0, "", 'Names of Bidder'!D8) | F8: Power Grid Corporation of India Ltd.,
A9: Address : | C9: =IF('Names of Bidder'!D9=0, "", 'Names of Bidder'!D9) | F9: Western Region -I Headquarters
C10: =IF('Names of Bidder'!D10=0, "", 'Names of Bidder'!D10) | F10: Sampriti Nagar, Nari Ring Road
C11: =IF('Names of Bidder'!D11=0, "", 'Names of Bidder'!D11) | F11: PO: Uppalwadi, Nagpur (MS) -440026
G13: All values are in Indian Rupees.
A14: SI. No. | B14: Item No. DSR 21 | C14: Item Description | D14: Unit | E14: Qty. | F14: Rate | G14: Amount
A15: 1 | B15: 2 | C15: 3 | D15: 4 | E15: 5 | F15: 6 | G15: 7 = 5 x 6
C16: SCHEDULED ITEM AS PER DSR-2023
C17: SCHEDULED ITEM AS PER DSR-2023
A18: 1 | B18: 13.111 | C18: Finishing walls with Acrylic Smooth exterior paint of required shade : | G18: =F18*E18 -> 0
B19: 13.111.1 | C19: Old work (Two or more coats applied @ 1.43 ltr/ 10 sqm) over existing cement paint surface | D19: Sqm | E19: 365 | G19: =F19*E19 -> 0
A20: 2 | B20: 14.1 | C20: Repairs to plaster of thickness 12 mm to 20 mm in patches of area 2.5 sq.meters and under, including cutting the patch in proper shape, raking out joints and preparing and plastering the surface of the walls complete, including disposal of rubbish to the dumping ground, all complete as per direction of Engineer-in-Charge. | G20: =F20*E20 -> 0
B21: 14.1.2 | C21: With cement mortar 1:4 (1cement: 4 coarse sand) | D21: Sqm | E21: 96 | G21: =F21*E21 -> 0
A22: 3 | B22: 22.23 | C22: Providing and applying integral crystalline slurry of hydrophilic in nature for waterproofing treatment to the RCC structures like retaining walls of the basement, water tanks, roof slabs, podiums, reservior,sewage & water treatment plant, tunnels / subway and bridge deck etc., prepared by mixing in the ratio of 5 : 2 (5 parts integral crystalline slurry : 2 parts water) for vrtical surfaces and 3 : 1 (3 parts integralcrystalline slurry : 1 part water) for horizontal surfaces and applying the same from negative (internal) side with the help of synthetic fiber brush. The material shall meet the requirements as specified in ACI_x0002_212-3R-2010 i.e by reducing permeability of concrete by more than 90% compared with control concrete as per DIN 1048 and resistant to 16 bar hydrostatic pressure on negative side. The crystalline slurryshall be capable of self-healing of cracks up to a width of 0.50mm. The work shall be carried out all complete as per specification and the direction of the engineer-in-charge. The product performance shallcarry guarantee for 10 years against any leakage | G22: =F22*E22 -> 0
B23: 22.23.2 | C23: For horizontal surface one coat @1.10 kg per sq | D23: m2 | E23: 96 | G23: =F23*E23 -> 0
A24: 4 | B24: 22.23A | C24: Providing & Applying polymer modified, flexible cementatious negative side waterproofing coating with elastic waterproofing polymers on interior wall plaster surface in three coats @14.35 kg /10 sqm. onecoat of self priming of cementatious waterproofing polymer(dilution with water in the ratio of 1:1) and two coats of cementatious waterproofing polymer (dilution with water in the ratio of 3:1 ) after scrapping and properly cleaning the surface to remove pre-existing paint film & loose particles till plaster is visible, complete in all respect as per the direction of Engineer-in-Charge. sqm 522.20 | D24: m2 | E24: 96 | G24: =F24*E24 -> 0
A25: 5 | B25: 26.39 | C25: Providing and inserting 12mm dia galvanised steel injection nipple in honey comb area and along crack line including drilling of holes of required diametre (20mm to 30mm) up to depth from 30mm to 80mmat required spacing and making the hole & crack dust free by blowing compressed air, sealing the distance between injection nipple with adhesive chemical of approved make and allow it to cure completeas per direction of Engineer-In-Charge. each 202.70 | D25: Each | E25: 50 | G25: =F25*E25 -> 0
A26: 6 | B26: 26.35 | C26: Providing and injecting approved grout in proportion recommended by the manufacturer into cracks/honey-comb area of concrete/ masonry by suitable gun/pump at required pressure including cuttingof nipples after curing etc. complete as per directions of Engineer-in- Charge. (The payment shall be made on the basis of actual weight of approved grout injected.) | G26: =F26*E26 -> 0
B27: 26.35.1 | C27: Stirrer mixed Acrylic Polymer of approved make @ 2% of weight of cement used) modified Cement slurry made with non shrink compound in concrete/RCC work | D27: Kg | E27: 100 | G27: =F27*E27 -> 0
G44: =F44*E44 -> 0
G45: =F45*E45 -> 0
G46: =F46*E46 -> 0
G47: =F47*E47 -> 0
G48: =F48*E48 -> 0
G49: =F49*E49 -> 0
C50: Total for PART-A-Schedule items (Excluding GST) : | G50: =SUM(G17:G49) -> 0 | H50: =#REF!+#REF!+#REF!+#REF! -> #REF!
A51: Date : | C51: =IF('Names of Bidder'!D23=0, "", 'Names of Bidder'!D23) | F51: Printed Name : | G51: =IF('Names of Bidder'!D18=0, "", 'Names of Bidder'!D18)
A52: Place : | C52: =IF('Names of Bidder'!D24=0, "", 'Names of Bidder'!D24) | F52: Designation : | G52: =IF('Names of Bidder'!D19=0, "", 'Names of Bidder'!D19)

Sheet   Sch-2
A1: =Cover!B3 -> Specification No.: WR-1/C&M/PS/I-3484/Rfx-5005010166 | G1: Schedule - 2
A3: =Cover!$B$2 -> “Water proofing & structural strengthening of overhead tank at Bhadrawati substation.”
A4: SCHEDULE OF RATES AND PRICES : PART-B- Non Scheduled Items
A6: =' Sch-1'!A6 -> Bidder’s Name and Address | F6: To:
A7: =' Sch-1'!A7 -> Bidder as | F7: Contract & Material
A8: Name : | C8: =IF(' Sch-1'!C8=0, "", ' Sch-1'!C8) | F8: Power Grid Corporation of India Ltd.,
A9: Address : | C9: =IF(' Sch-1'!C9=0, "", ' Sch-1'!C9) | F9: Western Region -I Headquarters
C10: =IF(' Sch-1'!C10=0, "", ' Sch-1'!C10) | F10: Sampriti Nagar, Nari Ring Road
C11: =IF(' Sch-1'!C11=0, "", ' Sch-1'!C11) | F11: PO: Uppalwadi, Nagpur (MS) -440026
G13: All values are in Indian Rupees.
A14: SI. No. | B14: Item no. | C14: Item Description | D14: Unit | E14: Qty. | F14: Rate | G14: Amount
A15: 1 | B15: 2 | C15: 3 | D15: 4 | E15: 5 | F15: 6 | G15: 7 = 5 x 6
C16: Non-schedule items
C17: NOT APPLICABLE
C29: Total (PART-B) - Non Scheduled Items (Excluding GST) | G29: =SUM(G17:G28) -> 0
A31: Date : | C31: =IF(' Sch-1'!C51=0,"", ' Sch-1'!C51) | F31: =' Sch-1'!F51 -> Printed Name : | G31: =IF(' Sch-1'!G51=0,"",' Sch-1'!G51)
A32: Place : | C32: =IF(' Sch-1'!C52=0,"", ' Sch-1'!C52) | F32: Designation : | G32: =IF(' Sch-1'!G52=0,"",' Sch-1'!G52)

Sheet  (Part-III) Sch-1
A1: =Cover!B3 -> Specification No.: WR-1/C&M/PS/I-3484/Rfx-5005010166
A3: =Cover!$B$2 -> “Water proofing & structural strengthening of overhead tank at Bhadrawati substation.”
A4: (SCHEDULE OF RATES AND PRICES : PART-III (SEWERAGE SYSTEM), PART-A- SCHEDULED ITEMS AS PER DSR-2014)
A6: Bidder’s Name and Address | F6: To:
A7: ="Bidder as "& 'Names of Bidder'!D6 -> Bidder as | F7: Contract & Material
A8: Name : | C8: =IF('Names of Bidder'!D8=0, "", 'Names of Bidder'!D8) | F8: Power Grid Corporation of India Ltd.,
A9: Address : | C9: =IF('Names of Bidder'!D9=0, "", 'Names of Bidder'!D9) | F9: Western Region -I Headquarters
C10: =IF('Names of Bidder'!D10=0, "", 'Names of Bidder'!D10) | F10: Sampriti Nagar, Nari Ring Road
C11: =IF('Names of Bidder'!D11=0, "", 'Names of Bidder'!D11) | F11: PO: Uppalwadi, Nagpur (MS) -440026
G13: All values are in Indian Rupees.
A14: SI. No. | B14: ITEM NO. | C14: Item Description | D14: Unit | E14: Qty. | F14: Rate | G14: Amount
A15: 1 | C15: 2 | D15: 4 | E15: 5 | F15: 6 | G15: 7 = 5 x 6
A17: PART-III Construction of SEWERAGE SYSTEM for Residential Qtr
A18: PART-A - (SCHEDULE ITEMS AS PER DSR - 2016)
A19: 1 | B19: 2.8 | C19: Earth work in excavation by mechanical means (Hydraulic excavator) / manual means in foundation trenches or drains (not exceeding 1.5 m in width or 10 sqm on plan), including dressing of sides and ramming of bottoms, lift upto 1.5 m, including getting out the excavated soil and disposal of surplus excavated soil as directed, within a lead of 50 m.
B20: 2.8.1 | C20: All kinds of soil | D20: Cu.m. | E20: 60
A21: 2 | B21: 2.1 | C21: Excavating trenches of required width for pipes, cables, etc including excavation for sockets, and dressing of sides, ramming of bottoms, depth upto 1.5 m, including getting out the excavated soil, and then returning the soil as required, in layers not exceeding 20 cm in depth, including consolidating each deposited layer by ramming, watering, etc. and disposing of surplus excavated soil as directed, within a lead of 50 m :
B22: 2.10.1.2 | C22: Pipes, cables etc. exceeding 80mm dia but not exceeding 300mm dia. | D22: Metre | E22: 1000
A23: 3 | B23: 2.11 | C23: Extra for excavating trenches for pipes, cables etc. in all kinds of soil for depth exceeding 1.5 m, but not exceeding 3 m. (Rate is over corresponding basic item for depth upto 1.5 metre). | D23: Metre | E23: 50
A24: 4 | B24: 2.25 | C24: Filling available excavated earth (excluding rock) in trenches, plinth, sides of foundations etc. in layers not exceeding 20cm in depth, consolidating each deposited layer by ramming and watering, lead up to 50 m and lift upto 1.5 m. | D24: Cu. M | E24: 20
A25: 5 | B25: 4.1 | C25: Providing and laying in position cement concrete of specified grade excluding the cost of centering and shuttering - All work up to plinth level :
B26: 4.1.8 | C26: 1:4:8 (1 Cement : 4 coarse sand : 8 graded stone aggregate 40 mm nominal size) | D26: Cu. M | E26: 50
A27: 6 | B27: 4.3 | C27: Centering and shuttering including strutting, propping etc. and removal of form work for :
B28: 4.3.1 | C28: Foundations, footings, bases for columns | D28: Sq.m. | E28: 80
A29: 7 | B29: 17.35 | C29: Providing and fixing soil, waste and vent pipes :
B30: 17.35.1 | C30: 100 mm dia
B31: 17.35.1.1 | C31: Sand cast iron S&S pipe as per IS: 1729 | D31: metre | E31: 10
A32: 8 | B32: 18.27 | C32: Providing and laying S&S centrifugally cast (spun) iron pipes (Class LA) conforming to IS - 1536 :
B33: 18.27.3 | C33: 150 mm dia pipe | D33: metre | E33: 50
A34: 9 | B34: 18.28 | C34: Providing lead caulked joints to spun iron or C.I. pipes and specials, including testing of joints but excluding the cost of pig lead :
B35: 18.28.3 | C35: 150 mm diameter pipe | D35: each | E35: 20
A36: 10 | B36: 19.1 | C36: Providing, laying and jointing glazed stoneware pipes class SP-1 with stiff mixture of cement mortar in the proportion of 1:1 (1 cement : 1 fine sand) including testing of joints etc. complete :
B37: 19.1.2 | C37: 150mm diameter | D37: Metre | E37: 1000
A38: 11 | B38: 19.2 | C38: Providing and laying cement concrete 1:5:10 (1 cement : 5 coarse sand : 10 graded stone aggregate 40 mm nominal size) all-round S.W. pipes including bed concrete as per standard design :
B39: 19.2.2 | C39: 150 mm diameter S.W. pipe | D39: Metre | E39: 1000
A40: 12 | B40: 19.6 | C40: Providing and laying non-pressure NP2 class (light duty) R.C.C. pipes with collars jointed with stiff mixture of cement mortar in the proportion of 1:2 (1 cement : 2 fine sand) including testing of joints etc. complete :
B41: 19.6.4 | C41: 300 mm dia RCC pipes. | D41: metre | E41: 30
A42: 13 | B42: 19.15 | C42: Providing M.S. foot rests including fixing in manholes with 20x20x10 cm cement concrete blocks 1:3:6 (1 cement : 3 coarse sand : 6 graded stone aggregate 20 mm nominal size) as per standard design :
B43: 19.15.1 | C43: With 20x20 mm square bar | D43: Each | E43: 30
C44: Sum of Items as per DSR-2016
...

Sheet  (Part-III) Sch-2
A1: =Cover!B3 -> Specification No.: WR-1/C&M/PS/I-3484/Rfx-5005010166 | G1: Schedule - 2
A3: =Cover!$B$2 -> “Water proofing & structural strengthening of overhead tank at Bhadrawati substation.”
A4: (SCHEDULE OF RATES AND PRICES : PART-III (SEWERAGE SYSTEM), PART-B- NON SCHEDULED ITEMS)
A6: =' Sch-1'!A6 -> Bidder’s Name and Address | F6: To:
A7: =' Sch-1'!A7 -> Bidder as | F7: Contract & Material
A8: Name : | C8: =IF(' Sch-1'!C8=0, "", ' Sch-1'!C8) | F8: Power Grid Corporation of India Ltd.,
A9: Address : | C9: =IF(' Sch-1'!C9=0, "", ' Sch-1'!C9) | F9: Western Region -I Headquarters
C10: =IF(' Sch-1'!C10=0, "", ' Sch-1'!C10) | F10: Sampriti Nagar, Nari Ring Road
C11: =IF(' Sch-1'!C11=0, "", ' Sch-1'!C11) | F11: PO: Uppalwadi, Nagpur (MS) -440026
G13: All values are in Indian Rupees.
A14: SI. No. | B14: Item no. | C14: Item Description | D14: Unit | E14: Qty. | F14: Rate | G14: Amount
A15: 1 | B15: 2 | C15: 3 | D15: 4 | E15: 5 | F15: 6 | G15: 7 = 5 x 6
A16: PART-II Construction of SEWERAGE SYSTEM for Residential Qtr
A17: PART-B | B17: NON-SCHEDULE ITEMS
A18: 1 | B18: NS-1 | C18: Construction brick masonary manholes in cement mortar 1:4 - 1 cement : 4 coarse sand- R.C.C. top slab with 1:2:4 mix -1 cement : 2 coarse sand : 4 approved graded stone aggregate 20mm nominal size- foundation concrete 1:4:8 mix -1 cement : 4 coarse sand :8 graded stone aggregate 40mm nominal size) inside plastring 12mm thick with cement morter 1:3(1 cement:3 Coarse sand) finished with a floating coat of neat cement and making channel in cementconcrete 1:2:4 (1 cement:2 coarse sand:graded stone aggregate 20mm nominal size) finished with a floating coat of neat cement complete as per standard design of CPWD.
C19: Inside size 90X80 cm and 45cm deep including C.I. Cover with frame (light duly) 455x610 mm internal dimensions, total weight of cover and frame to be not less than 38 Kg (weight of cover 23 Kg and and weight of frame 15 Kg)
B20: a | C20: With Fly Ash Bricks | D20: Each | E20: 40
A21: 2 | B21: NS-2 | C21: Extra for depth for manholes
C22: Size 90 x 80cm
C23: With Fly Ash Bricks of average compressive strength of 50 Kg/cm2 | D23: Meter | E23: 35
C24: Total PART-III ( PART-B) - (Non-Schedule Items)
F25: Printed Name : | G25: =IF(' Sch-1'!G51=0,"",' Sch-1'!G51)
A26: Date : | C26: =IF(' Sch-1'!C51=0,"", ' Sch-1'!C51) | F26: Designation : | G26: =IF(' Sch-1'!G52=0,"",' Sch-1'!G52)
A27: Place : | C27: =IF(' Sch-1'!C52=0,"", ' Sch-1'!C52)

Sheet Sch-3
A1: =Cover!B3 -> Specification No.: WR-1/C&M/PS/I-3484/Rfx-5005010166 | F1: Schedule - 3
A3: =Cover!$B$2 -> “Water proofing & structural strengthening of overhead tank at Bhadrawati substation.” | K3: As per Lum-sum
A4: (SCHEDULE OF RATES AND PRICES : PART-C- ELECTRICAL ITEMS) | K4: AS per Percent
K5: As per lum-sum on Sch-3
A6: =' Sch-1'!A6 -> Bidder’s Name and Address | E6: To: | K6: As per Percent on Sch-3
A7: =' Sch-1'!A7 -> Bidder as | E7: Contract & Material | K7: Multipackage lum-sum
A8: Name : | B8: =IF(' Sch-1'!C8=0, "", ' Sch-1'!C8) | E8: Power Grid Corporation of India Ltd., | K8: Multipackage on Percent
A9: Address : | B9: =IF(' Sch-1'!C9=0, "", ' Sch-1'!C9) | E9: Western Region -I Headquarters | K9: Total Discount
B10: =IF(' Sch-1'!C10=0, "", ' Sch-1'!C10) | E10: Sampriti Nagar, Nari Ring Road
B11: =IF(' Sch-1'!C11=0, "", ' Sch-1'!C11) | E11: PO: Uppalwadi, Nagpur (MS) -440026
F13: All values are in Indian Rupees.
A14: SI. No. | B14: Item Description | C14: Unit | D14: Qty. | E14: Rate | F14: Amount
B15: 2 | C15: 4 | D15: 5 | E15: 6 | F15: 7 = 5 x 6
B16: NOT APPLICABLE
F17: =IF(E17=0,"Included",IF(ISERROR(D17*E17),E17,E17*D17)) -> Included
F18: 0
B19: Total (PART-C) - Excl GST | F19: =F18 -> 0 | G19: =0.18 -> 0.18 | H19: =#REF!*G19 -> #REF! | I19: =534250+H19 -> #REF!
A23: Date : | B23: ='Names of Bidder'!D23 -> 0 | C23: =IF(' Sch-1'!C212=0,"", ' Sch-1'!C212) | F23: Printed Name : | G23: ='Names of Bidder'!D18 -> 0
A24: Place : | B24: ='Names of Bidder'!D24 -> 0 | C24: =IF(' Sch-1'!C213=0,"", ' Sch-1'!C213) | F24: Designation : | G24: ='Names of Bidder'!D19 -> 0

Sheet Sch-4
A1: =Cover!B3 -> Specification No.: WR-1/C&M/PS/I-3484/Rfx-5005010166 | D1: Schedule - 5
A3: =Cover!$B$2 -> “Water proofing & structural strengthening of overhead tank at Bhadrawati substation.”
A4: (GRAND SUMMARY)
A6: =' Sch-1'!A6 -> Bidder’s Name and Address | D6: To:
A7: =' Sch-1'!A7 -> Bidder as | D7: Contract & Material
A8: Name : | B8: =IF(' Sch-1'!C8=0, "", ' Sch-1'!C8) | D8: Power Grid Corporation of India Ltd.,
A9: Address : | B9: =IF(' Sch-1'!C9=0, "", ' Sch-1'!C9) | D9: Western Region -I Headquarters
B10: =IF(' Sch-1'!C10=0, "", ' Sch-1'!C10) | D10: Sampriti Nagar, Nari Ring Road
B11: =IF(' Sch-1'!C11=0, "", ' Sch-1'!C11) | D11: PO: Uppalwadi, Nagpur (MS) -440026
A13: Sl. No. | B13: Description
A15: 1 | B15: PART-A- Scheduled items | D15: =' Sch-1'!G50 -> 0
A16: 2 | B16: PART-B- Non Scheduled Items | D16: =' Sch-2'!G29 -> 0
A18: 3 | B18: PART-C- Electrical Items | D18: ='Sch-3'!F19 -> 0
B19: Total of PART-A + PART-B+ PART-C | D19: =SUM(D15:D18) -> 0
A21: Date : | B21: =IF(' Sch-1'!C51=0,"", ' Sch-1'!C51)
A22: Place : | B22: =IF(' Sch-1'!C52=0,"", ' Sch-1'!C52) | C22: Printed Name : | D22: =IF(' Sch-1'!G51=0,"",' Sch-1'!G51)
C23: Designation : | D23: =IF(' Sch-1'!G52=0,"",' Sch-1'!G52)

Sheet Sch-5 After Discount
A1: =Cover!B3 -> Specification No.: WR-1/C&M/PS/I-3484/Rfx-5005010166 | D1: Schedule - 5 After Discount
A3: =Cover!$B$2 -> “Water proofing & structural strengthening of overhead tank at Bhadrawati substation.”
A4: (GRAND SUMMARY - AFTER DISCOUNT)
A6: =' Sch-1'!A6 -> Bidder’s Name and Address | D6: To:
A7: =' Sch-1'!A7 -> Bidder as | D7: Contract & Material
A8: Name : | B8: =IF(' Sch-1'!C8=0, "", ' Sch-1'!C8) | D8: Power Grid Corporation of India Ltd.,
A9: Address : | B9: =IF(' Sch-1'!C9=0, "", ' Sch-1'!C9) | D9: Western Region -I Headquarters
B10: =IF(' Sch-1'!C10=0, "", ' Sch-1'!C10) | D10: Sampriti Nagar, Nari Ring Road
B11: =IF(' Sch-1'!C11=0, "", ' Sch-1'!C11) | D11: PO: Uppalwadi, Nagpur (MS) -440026
A13: Sl. No. | B13: Description | D13: Total Price (INR) | F13: Total Discount | G13: =Discount!L20 -> 0
A15: 1 | B15: PART-A- Supply | D15: =G15 -> 0 | F15: ='Sch-4'!D15 -> 0 | G15: =F15*(1-$G$13) -> 0
A16: 2 | B16: PART-B- Scheduled items | D16: =G16 -> 0 | F16: =' Sch-2'!G29 -> 0 | G16: =F16*(1-$G$13) -> 0
B17: PART-B- Non Scheduled Items | D17: =G17 -> 0
D18: =G18 -> 0
D19: =G19 -> 0
D20: =G20 -> 0
D21: =G21 -> 0
D22: =G22 -> 0
D23: =G23 -> 0
D24: =G24 -> 0
D25: =G25 -> 0
D26: =G26 -> 0
A27: 2 | B27: PART-C- Electrical Items | D27: 0 | F27: ='Sch-3'!F19 -> 0 | G27: =F27*(1-$G$13) -> 0
B28: Total of PART-A + PART-B + PART-C | D28: =SUM(D15:D27) -> 0
B29: GRAND TOTAL after Discount | D29: =D28 -> 0
A31: Date : | B31: =IF(' Sch-1'!C51=0,"", ' Sch-1'!C51)
A32: Place : | B32: =IF(' Sch-1'!C52=0,"", ' Sch-1'!C52) | C32: Printed Name : | D32: =IF(' Sch-1'!G51=0,"",' Sch-1'!G51)
C33: Designation : | D33: =IF(' Sch-1'!G52=0,"",' Sch-1'!G52)

Sheet Discount
A1: This letter of discount is optional. Bidder may / may not offer any discount.
A2: =Cover!B3 -> Specification No.: WR-1/C&M/PS/I-3484/Rfx-5005010166 | G2: Letter of Discount
A4: LETTER OF DISCOUNT
A5: To:
A6: Contract & Material
A7: Power Grid Corporation of India Ltd.,
A8: Western Region -I Headquarters
A9: Sampriti Nagar, Nari Ring Road
A10: PO: Uppalwadi, Nagpur (MS) -440026
A12: Subject : | C12: =Cover!$B$2 -> “Water proofing & structural strengthening of overhead tank at Bhadrawati substation.”
A13: 1) All the discounts mentioned below shall be applied separately.
A14: 2) Please verify Schedule-5 (after Discount) after filling this letter of discount.
A15: Dear Sir
A16: With reference to the subject tender, we hereby offer unconditional discount on the prices quoted by us as per details given here below : | J16: Eq Weightage of Rs/ % | L16: Final Discount Factor
B17: 1 | C17: Discount on lum-sum basis on total price quoted by us. [The discount shall be proportionately applicable on all the items of all the Schdules of all the Parts i.e. (PART-A + Part-B+PART-C) In Rs. | I17: ='Sch-4'!D19 -> 0 | J17: =IF(I17=0,0,G17/I17) -> 0
B19: 2 | C19: Discount on percent basis on total price quoted by us. [The discount shall be proportionately applicable on all the items of all the Schdulesof all the Parts i.e. (PART-A + Part-B+PART-C) In Percent (%) | J19: =G19 -> 0
B20: 1) Discount is Optional. 2) Bidder may fill any of the above two Indicated Discounts or both the Discounts. 3) Discount(s) offered at Sl. No. 1 to 2 will automatically simultaneously get accounted for in all the Schedules of all the Parts.. | L20: =J19+J17 -> 0
B21: 5 | C21: We hereby offer Multi-package discount as given below:
I22: =' Sch-1'!#REF!+' Sch-2'!#REF!+#REF! -> #REF! | J22: =G22 -> 0
B23: Multi-Package Discount(s) offered at sl. No. 5 will not get automatically accounted for in the respective items of the Schedules. The same shall be worked out saparately for evaluation.
A24: Please consider this letter of discount as the integral part of our price bid.
A25: Thanking you, we remain,
A26: Note:
A27: 1) All the discounts mentioned above shall be applied separately.
A28: 2) Please verify Schedule-5 after filling the above letter of discount.
G30: Yours faithfully,
G31: ="For and on behalf of " & ' Sch-1'!C8 -> For and on behalf of
A33: Date : | C33: =' Sch-1'!C51 | E33: Printed Name : | F33: =' Sch-1'!G51
A34: Place : | C34: =' Sch-1'!C52 | E34: Designation : | F34: =' Sch-1'!G52

Sheet Bid Form 2nd Envelope
A1: =Cover!B3 -> Specification No.: WR-1/C&M/PS/I-3484/Rfx-5005010166 | F1: Bid Form 2nd Envelope | Z1: ='Names of Bidder'!D6 -> 0 | AF1: 1 | AG1: st | AJ1: 1 | AK1: January
Z2: ='Names of Bidder'!AA6 -> #REF! | AF2: 2 | AG2: nd | AJ2: 2 | AK2: February
A3: BID FORM (Second Envelope) | AF3: 3 | AG3: rd | AJ3: 3 | AK3: March
AF4: 4 | AG4: th | AJ4: 4 | AK4: April
A5: Bid Proposal Ref. No. | AF5: 5 | AG5: th | AJ5: 5 | AK5: May
A6: Date : | B6: =' Sch-1'!C51 | AF6: 6 | AG6: th | AH6: =DAY(B6) -> #VALUE! | AJ6: 6 | AK6: June
AF7: 7 | AG7: th | AH7: =MONTH(B6) -> #VALUE! | AJ7: 7 | AK7: July
A8: =' Sch-1'!F6 -> To: | AF8: 8 | AG8: th | AH8: =LOOKUP(AH7,AJ1:AJ12,AK1:AK12) -> #VALUE! | AJ8: 8 | AK8: August
A9: =' Sch-1'!F7 -> Contract & Material | AF9: 9 | AG9: th | AH9: =YEAR(B6) -> #VALUE! | AJ9: 9 | AK9: September
A10: =' Sch-1'!F8 -> Power Grid Corporation of India Ltd., | AF10: 10 | AG10: th | AJ10: 10 | AK10: October
A11: =' Sch-1'!F9 -> Western Region -I Headquarters | AF11: 11 | AG11: th | AJ11: 11 | AK11: November
A12: =' Sch-1'!F10 -> Sampriti Nagar, Nari Ring Road | AF12: 12 | AG12: th | AJ12: 12 | AK12: December
A13: =' Sch-1'!F11 -> PO: Uppalwadi, Nagpur (MS) -440026 | AF13: 13 | AG13: th
AF14: 14 | AG14: th
A15: Name of Contract : | C15: =Cover!B2 -> “Water proofing & structural strengthening of overhead tank at Bhadrawati substation.” | AF15: 15 | AG15: th
A16: Dear Ladies and/or Gentlemen, | AF16: 16 | AG16: th
A17: 1 | B17: =Z17&C15&" "&AA17&AC17&AD17&AB17 -> In continuation of First Envelope of our Bid, we hereby submit the Second Envelope of the Bid, both of which shall be read together and in conjunction with each other, and shall be construed as an integral part of our Bid. Accordingly, we the undersigned, offer to execute the work of “Water proofing & structural strengthening of overhead tank at Bhadrawati substation.” under the above-named package in full conformity with the said Bidding Documents for the sum of Rs. 0 (Rupees only) or such other sums as may be determined in accordance with the terms and conditions of the Bidding Documents. | Z17: In continuation of First Envelope of our Bid, we hereby submit the Second Envelope of the Bid, both of which shall be read together and in conjunction with each other, and shall be construed as an integral part of our Bid. Accordingly, we the undersigned, offer to execute the work of | AA17: under the above-named package in full conformity with the said Bidding Documents for the sum of Rs. | AB17: or such other sums as may be determined in accordance with the terms and conditions of the Bidding Documents. | AC17: =ROUND('Sch-5 After Discount'!D29,0) -> 0 | AD17: =" (" & 'N-W'!A8 & ")" -> (Rupees only) | AF17: 17 | AG17: th
B18: The above amounts are in accordance with the price schedules attached herewith and are made part of this bid. | AF18: 18 | AG18: th
A19: 2 | B19: Price Schedules | AF19: 19 | AG19: th
A20: 2.1 | B20: In line with the requirements of the Bidding documents, we enclose herewith the following Price Schedules, duly filled - in as per your proforma: | AF20: 20 | AG20: th
B21: Sch-1 | D21: PART-A-SCHEDULED ITEM | AF21: 21 | AG21: st
B22: Sch-2 | D22: PART-B-NON-SCHEDULED ITEM - NA
B23: Sch-3 | D23: PART-C- ELECTRICAL ITEMS - NA
B24: Sch-4 | D24: GRAND SUMMARY
B25: Sch-5 After Discount | D25: GRAND SUMMARY after DISCOUNT
A27: 2.2 | B27: We are aware that the Price Schedules do not generally give a full description of the Work to be performed under each item and we shall be deemed to have read the Technical Specifications and other sections of the Bidding Documents and Drawings to ascertain the full scope of Work included in each item while filling-in the rates and prices. We agree that the entered rates and prices shall be deemed to include for the full scope as aforesaid, including overheads and profit. | AF27: 28 | AG27: th
A28: 2.3 | B28: We declare that as specified in Clause 9, Section–II: SCC, Vol.-I of the Bidding Documents, prices quoted by us in the Price Schedules shall be FIRM during the execution of Contract and not subject to any Price Adjustment . | AF28: 29 | AG28: th
A29: 2.4 | B29: We understand that in the price schedules, where there are errors between the total of the amounts given under the column for the price Breakdown and the amount given under the Total Price, the former shall prevail and the latter will be corrected accordingly. We further understand that where there are discrepancies between amounts stated in figures and amounts stated in words, the amount stated in words shall prevail. Similarly, any discrepancy in the total bid price and that of the summation of Schedule price (price indicated in a Schedule indicating the total of that schedule), the total bid price shall be corrected to reflect the actual summation of the Schedule prices. | AF29: 30 | AG29: th
A30: 2.5 | B30: We declare that items left blank in the Schedules will be deemed to have been included in other items. The TOTAL for each Schedule and the TOTAL of Grand Summary shall be deemed to be the total price for executing the Facilities and sections thereof in complete accordance with the Contract, whether or not each individual item has been priced. | AF30: 31 | AG30: st
A31: 3 | B31: We, hereby, declare that only the persons or firms interested in this proposal as principals are named here and that no other persons or firms other than those mentioned herein have any interest in this proposal or in the Contract to be entered into, if the award is made on us, that this proposal is made without any connection with any other person, firm or party likewise submitting a proposal is in all respects for and in good faith, without collusion or fraud.
B33: Thanking you, we remain,
F34: Yours faithfully,
F35: ="For and on behalf of " & ' Sch-1'!C8 -> For and on behalf of
A37: Date : | B37: =' Sch-1'!C51 | E37: Printed Name : | F37: =' Sch-1'!G51
A38: Place : | B38: =' Sch-1'!C52 | E38: Designation : | F38: =' Sch-1'!G52
A40: Please provide additional information of the Bidder
A41: Business Address :
A44: Country of Incorporation :
A45: State/Province to be indicated :
A46: Name of Principal Officer :
...

Sheet N-W
A1: =ROUND('Sch-5 After Discount'!D29,0) -> 0
A2: =ROUNDDOWN(A1/100,0) -> 0
A3: =ROUNDDOWN(A2/10,0) -> 0
A4: =ROUNDDOWN(A3/100,0) -> 0
A5: =ROUNDDOWN(A4/100,0) -> 0
A8: =I15&" "&I14&" "&I13&" "&I12&" "&I11 -> Rupees only
A11: =A1-ROUNDDOWN(A1/100,0)*100 -> 0 | B11: =VLOOKUP(A11,$A$18:$B$117,2,TRUE) -> zero | F11: =IF(A11=0, "", B11) | I11: =F11&" only" -> only
A12: =A2-ROUNDDOWN(A2/10,0)*10 -> 0 | B12: =VLOOKUP(A12,$A$18:$B$117,2,TRUE) -> zero | C12: hundred | F12: =IF(A12=0, "", B12) | G12: =IF(A12=0, "", C12) | I12: =F12&" "&G12
A13: =A3-ROUNDDOWN(A3/100,0)*100 -> 0 | B13: =VLOOKUP(A13,$A$18:$B$117,2,TRUE) -> zero | C13: thousand | F13: =IF(A13=0, "", B13) | G13: =IF(A13=0, "", C13) | I13: =F13&" "&G13
A14: =A4-ROUNDDOWN(A4/100,0)*100 -> 0 | B14: =VLOOKUP(A14,$A$18:$B$117,2,TRUE) -> zero | C14: lakh | F14: =IF(A14=0, "", B14) | G14: =IF(A14=0, "", C14) | I14: =F14&" "&G14
A15: =A5-ROUNDDOWN(A5/100,0)*100 -> 0 | B15: =VLOOKUP(A15,$A$18:$B$117,2,TRUE) -> zero | C15: crore | F15: =IF(A15=0, "", B15) | G15: =IF(A15=0, "", C15) | I15: ="Rupees"&" " &F15&" "&G15 -> Rupees
A18: 0 | B18: zero
A19: 1 | B19: one
A20: 2 | B20: two
A21: 3 | B21: three
A22: 4 | B22: four
A23: 5 | B23: five
A24: 6 | B24: six
A25: 7 | B25: seven
A26: 8 | B26: eight
A27: 9 | B27: nine
A28: 10 | B28: ten
A29: 11 | B29: eleven
... A117: 99 | B117: ninety nine
