Workbook

Sheet Sheet1
A2: RFX. No. 5002005176 , NIT-488
A3: Name of the Package | B3: Construction of Additional 06 nos. Quarters at 765/400 kV New Ranchi Substation

Sheet Basic
A1: =Sheet1!A2 -> RFX. No. 5002005176 , NIT-488
A2: =Sheet1!B3 -> Construction of Additional 06 nos. Quarters at 765/400 kV New Ranchi Substation
A4: General Guidelines for filling up the Price Schedule and other attachments.
A6: 1 | B6: Fill only Green shaded cells in Details and Schedule-I.
A7: 2 | B7: All the cells in Summary will be auto filled, therefore no cell is required to be filled in that sheet.
A8: 3 | B8: Instructions ,if any will be displayed automatically after selecting the cell.
A12: Click here to proceed.
A14: पावर ग्रिड कारपोरेशन ऑफ इण्डिया लिमिटेड
A15: (भारत सरकार का उद्यम)
A16: Power Grid Corporation of India Limited
A17: (A Government of India Enterprises)

Sheet Details
A1: =Sheet1!A2 -> RFX. No. 5002005176 , NIT-488
A2: =Sheet1!B3 -> Construction of Additional 06 nos. Quarters at 765/400 kV New Ranchi Substation
A4: Enter the following details of the bidder
A6: Name of the bidder
A7: Address
A10: Contact No.
A11: E-mail
A12: Alternative E-mail
A13: Printed Name
A14: Designation
A17: Place
A18: Date

Sheet Schedule-I
A1: =Sheet1!A2 -> RFX. No. 5002005176 , NIT-488
A2: =Sheet1!B3 -> Construction of Additional 06 nos. Quarters at 765/400 kV New Ranchi Substation
H3: Schedule-I of Price Bid
A4: Name of the bidder | C4: =Details!E6 -> 0 | G4: To,
A5: Address | C5: =Details!E7 -> 0 | G5: Contracts and Materials Department
C6: =Details!E8 -> 0 | G6: POWER GRID CORPORATION OF INDIA LIMITED
C7: =Details!E9 -> 0 | G7: VIDYUT BOARD COLONY, SHASTRINAGAR, PATNA-23
A10: Sl. No. | B10: Rate Ref. | C10: Description | D10: Unit | E10: QUANTITY | F10: Base Rate Exc GST | G10: Unit rate excl. taxes (Rs.) | H10: Amount (Ex. GST) (Rs.)
A11: SECTION-I: CIVIL WORKS
A12: 1 | B12: 2.6.1 | C12: Earth work in excavation by mechanical means (Hydraulic excavator)/manual means over areas (exceeding 30 cm in depth, 1.5 m in width as well as 10 sqm on plan) including getting out and disposal of excavated earth lead upto 50 m and for all lift, as directed by Engineer-in-charge. All kinds of soil | D12: Cum | E12: 5 | F12: 177.5 | G12: =F12/1.18 -> 150.42373 | H12: =G12*E12 -> 752.11864
A13: 2 | B13: 2.25 | C13: Filling available excavated earth (excluding rock) in trenches, plinth, sides, of the foundation etc. in layers not exceeding 20 cm in depth, consolidating each deposited layer by ramming and watering, lead upto 50 m and lift upto 1.5 m. | D13: Cum | E13: 5 | F13: 196 | G13: =F13/1.18 -> 166.10169 | H13: =G13*E13 -> 830.50847
A14: 3 | B14: 2.27 | C14: Supply and filling in plinth with local sand under floors including watering, ramming, consolidating and dressing complete. | D14: Cum | E14: 2 | F14: 2123.75 | G14: =F14/1.18 -> 1799.7881 | H14: =G14*E14 -> 3599.5763
A15: 4 | C15: Providing and laying in position cement concrete of specified grade excluding the cost of centring and shuttering : All works upto plinth level.
A16: i | B16: 4.1.8 | C16: 1:4:8 (1 cement : 4 coarse sand : 8 graded stone aggregate 40mm nominal size) | D16: Cum | E16: 1 | F16: 6812 | G16: =F16/1.18 -> 5772.8814 | H16: =G16*E16 -> 5772.8814
A17: ii | B17: 4.1.3 | C17: 1:2:4 (1 cement : 2 coarse sand : 4 graded stone aggregate 20mm nominal size) | D17: Cum | E17: 1 | F17: 7878.5 | G17: =F17/1.18 -> 6676.6949 | H17: =G17*E17 -> 6676.6949
A18: iii | B18: 4.1.10 | C18: 1:5:10 ( 1 Cement: 5 coarse sand : 10 graded stone aggregate 40mm nominal size) | D18: Cum | E18: 5.4 | F18: 6518.6 | G18: =F18/1.18 -> 5524.2373 | H18: =G18*E18 -> 29830.881
A19: 5 | B19: 4.2.3 | C19: Providing and laying cement concrete in retaining walls, return walls, walls (any thickness) including attached pilasters, columns, piers, abutments, pillars, posts, struts, buttresses, string or lacing courses, parapets, coping, bed blocks, anchor blocks, plain window sills, fillets, sunken floor,etc., up to floor five level, excluding the cost of centering, shuttering and finishing: 1:2:4 (1 Cement : 2 coarse sand : 4 graded stone aggregate 20 mm nominal size) | D19: Cu.m. | E19: 8.1750265 | F19: 9895.2 | G19: =F19/1.18 -> 8385.7627 | H19: =G19*E19 -> 68553.832
A20: 6 | B20: 5.1.2 | C20: Providing and laying in position specified grade of reinforced cement concrete excluding the cost of centring, shuttering, finishing and reinforcement- All works upto Plinth level. 1:1.5:3 (1 Cement : 1.5 Coarse sand : 3 graded stone aggregate 20 mm nominal size) | D20: Cu.m. | E20: 1 | F20: 9045.75 | G20: =F20/1.18 -> 7665.8898 | H20: =G20*E20 -> 7665.8898
A21: 7 | B21: 5.2.2 | C21: Reinforced cement concrete work in walls ( any thickness), including attached pilasters, buttresses, plinth and string courses, fillets, columns, pillars, piers, abutments, posts and struts, etc. upto floor five level excluding the cost of centring, shuttering, finishing and reinforcement. 1:1.5:3 (1 Cement: 1.5 Coarse sand: 3 Graded stone aggregate 20 mm nominal size) | D21: Cu.m. | E21: 38.46375 | F21: 10852.95 | G21: =F21/1.18 -> 9197.4153 | H21: =G21*E21 -> 353767.08
A22: 8 | B22: 5.3 | C22: Reinforced Cement concrete in beams, suspended floors, roofs having slope upto 15 degree, landings, balconies, shelves, chajjas, lintels, bands, plain window sills, staircases and spiral staircases upto floor five level excluding the cost of centring, shuttering, finishing and reinforcement with 1:1.5:3 (1 cement : 1.5 coarse sand : 3 graded stone aggr. 20 mm nominal size). | D22: Cu.m. | E22: 148.30301 | F22: 11505.5 | G22: =F22/1.18 -> 9750.4237 | H22: =G22*E22 -> 1446017.2
A23: 9 | C23: Centring and shuttering including strutting, propping etc. and removal of form for :
A24: i | B24: 5.9.1 | C24: Foundations, footings, bases of columns etc. for mass concrete. | D24: Sq.m. | E24: 1 | F24: 392.15 | G24: =F24/1.18 -> 332.33051 | H24: =G24*E24 -> 332.33051
A25: ii | B25: 5.9.2 | C25: Walls (any thickness) - Pardie Walls including attached pilasters, buttresses, plinth & string courses etc. | D25: Sq.m. | E25: 288.6665 | F25: 842.5 | G25: =F25/1.18 -> 713.98305 | H25: =G25*E25 -> 206102.99
A26: iii | B26: 5.9.3 | C26: Suspended floors & Slabs, roofs, landings, balconies and access platform | D26: Sq.m. | E26: 575.40865 | F26: 927.25 | G26: =F26/1.18 -> 785.80508 | H26: =G26*E26 -> 452159.04
A27: iv | B27: 5.9.5 | C27: Lintels, beams, plinth beams, girders, bressumers & cantilevers | D27: Sq.m. | E27: 718.48041 | F27: 736.4 | G27: =F27/1.18 -> 624.0678 | H27: =G27*E27 -> 448380.49
A28: v | B28: 5.9.6 | C28: Columns, pillars, piers abutments posts & struts | D28: Sq.m. | E28: 504.13 | F28: 961.3 | G28: =F28/1.18 -> 814.66102 | H28: =G28*E28 -> 410695.06
A29: vi | B29: 5.9.7 | C29: Stairs (excluding landings) except spiral staircases. | D29: Sq.m. | E29: 19.89 | F29: 764.95 | G29: =F29/1.18 -> 648.26271 | H29: =G29*E29 -> 12893.945
A30: x | B30: 5.9.19 | C30: Weather shade, chajjas, corbels etc. including edges. | D30: Sq.m. | E30: 58.64875 | F30: 951.1 | G30: =F30/1.18 -> 806.01695 | H30: =G30*E30 -> 47271.887
A31: 10 | B31: 5.22A.6 | C31: Steel reinforcement for R.C.C. work including straightening, cutting, bending, placing in position and binding all complete above plinth level. Thermo-Mechanically Treated bars of grade Fe-500D or more. | D31: Kg. | E31: 21593.177 | F31: 107.85 | G31: =F31/1.18 -> 91.398305 | H31: =G31*E31 -> 1973579.8
A32: 11 | B32: 5.30 | C32: Add / Deduct for plaster drip course/groove in plastered surface or moulding to RCC projections. | D32: Mtr. | E32: 122.87 | F32: 78.4 | G32: =F32/1.18 -> 66.440678 | H32: =G32*E32 -> 8163.5661
A33: 12 | B33: 6.1.2 | C33: Brick work with common burnt clay FPS (non modular) bricks of class designation 7.5 in foundations and plinth in : Cement mortar 1:6 (1 cement : 6 coarse sand). | D33: Cu.m. | E33: 1 | F33: 7132.25 | G33: =F33/1.18 -> 6044.2797 | H33: =G33*E33 -> 6044.2797
A34: 13 | B34: 6.4.2 | C34: Brick work with common burnt clay FPS (non modular) bricks of class designation 7.5 in superstructure above plinth level up to floor v level in all shapes and sizes in cement mortar 1:6 (1 cement : 6 coarse sand). | D34: Cu.m. | E34: 159.57912 | F34: 9105.95 | G34: =F34/1.18 -> 7716.9068 | H34: =G34*E34 -> 1231457.2
A35: 14 | B35: 6.12.2 | C35: Half brick masonary with common burnt clay FPS (non modular) bricks of class designation 7.5 in superstructure above plinth level up to floor v level.Cement mortar 1:4 (1cement:4 coarse sand). | D35: Sq.m. | E35: 427.8407 | F35: 905.05 | G35: =F35/1.18 -> 766.99153 | H35: =G35*E35 -> 328150.19
... A37: 16 | B37: 9.1.1 | C37: Providing wood work in frames of doors, windows, clerestory windows and other frames, wrought framed and fixed in position with hold fast lugs or with dash fasteners of required dia & length (hold fast lugs or dash fastener shall be paid for separately). Second class teak wood | D37: Cum | E37: 2.77414 | F37: 142949.7 | G37: =F37/1.18 -> 121143.81 | H37: =G37*E37 -> 336069.9
A38: 17 | B38: Existing LOA Rate | C38: Providing and fixing wardrobe made out of 19mm thick ply for sides, shelf, shutters, top & bottom and 8mm thick marine ply back and 6" drawer 02 to 04 nos as applicable shall be provided with 19mm thick ply including sliding channels, handle & lock.75 mm thick skirting shall be provided at top bottom and both sides with 19mm ply. Shutters & exposed sides shall be finished with 1.5mm thick laminates. 1"x1.5" teak wood moulding on edges shall be provided. All internal surfaces finished with 1.5mm thick laminates. SS hanger rod 25mm dia shall be provided at top including L-hinges, handles, ball catchers, tower bolt, locks and all necessary fittings complete. All necessary supports for rack shall be provided with 19mm thick ply. (All works shall be carried out as per direction of Engineer-in-charge). NOte: Shutter area to be measured for payment. | D38: Sq.m. | E38: 48 | F38: =22057*1.18 -> 26027.26 | G38: =F38/1.18 -> 22057 | H38: =G38*E38 -> 1058736
A39: 18 | B39: 9.20.2 | C39: Providing and fixing ISI marked flush door shutters conforming to IS :2202 (Part I) decorative type, core of block board construction with frame of 1st class hard wood and well matched teak 3 ply veneering with vertical grains or cross bands and face veneers on both faces of shutters. 30 mm thick including ISI marked Stainless Steel butt hinges with necessary screws | D39: Sqm | E39: 92.356083 | F39: 3167.95 | G39: =F39/1.18 -> 2684.7034 | H39: =G39*E39 -> 247948.69
A40: 19 | B40: 13.68.1 | C40: French spirit polishing : Two or more coats on new works including a coat of wood filler | D40: Sqm | E40: 184.71217 | F40: 446.25 | G40: =F40/1.18 -> 378.17797 | H40: =G40*E40 -> 69854.072
A41: 20 | B41: 26.86.2 | C41: Providing and fixing factory made single extruded WPC (Wood Polymer Composite) solid door/window/Clerestory windows & other Frames/Chowkhat comprising of virgin PVC polymer of K value 58-60 (SuspensionGrade), calcium carbonate and natural fibers (wood powder/ rice husk/wheat husk) and non toxic additives (maximum toxicity index of 12 for 100gms) fabricated with miter joints after applying PVC solvent cement and screwed with full body threaded star headed SS screws having minimum frame density of 750 kg/cum, screw withdrawal strength of 2200 N (Face) & 1100 N (Edge), minimum compressive strength of 58 N/mm2, modulus of elasticity 900 N/mm2 and resistance to spread of flame of Class A category with property of being termite/borer proof, water/moisture proof and fire retardant and fixed in position with M.S hold fast/lugs/SS dash fasteners of required dia and length complete as per direction of Engineer-In- Charge. (M.S hold fast/lugs or SS dash fasteners shall be paid for separately). Note: For WPC solid door/window frames, minus 5 mm tolerance in dimensions i.e depth and width of profile shall be acceptable. Variation in profile dimensions on plus side shall be acceptable but no extra payment on this account shall be made. Frame size 50 x 100 mm | D41: Mtr. | E41: 25 | F41: 947.7 | G41: =F41/1.18 -> 803.13559 | H41: =G41*E41 -> 20078.39
A42: 21 | B42: 26.87.1 | C42: Providing and fixing factory made single extruded WPC (Wood Polymer Composite) solid plain flush door shutter of required size comprising of virgin polymer of K value 58-60 (Suspension Grade), calcium carbonate and natural fibers (wood powder/ rice husk/wheat husk) and non toxic additives (maximum toxicity index of 12 for 100 gms) having minimum density of 650 kg/cum and screw withdrawal strength of 1800 N (Face) & 900 N (Edge), minimum compressive strength 50 N/mm2, modulus of elasticity 850 N/mm2 and resistance to spread of flame of Class A category with property of being termite/borer proof, water/moisture proof and fire retardant and fixing with stainless steel butt hinges of required size with necessary full body threaded star headed counter sunk S.S screws, all as per direction of Engineer-In- Charge. (Note: stainless steel butt hinges and necessary S.S screws shall be paid separately): 30 mm thick | D42: Sqm | E42: 15 | F42: 4346.7 | G42: =F42/1.18 -> 3683.6441 | H42: =G42*E42 -> 55254.661
A43: 22 | B43: 9.53 | C43: Providing 40x5 mm flat iron hold fast 400 mm long including fixing to frame with 10 mm diameter bolts, nuts and wooden plugs and embedding in cement concrete block 300x100x150 mm 1:3:6 mix (1 cement : 3 coarse sand : 6 graded stone aggregate 20 mm nominal size). | D43: Each | E43: 60 | F43: 228 | G43: =F43/1.18 -> 193.22034 | H43: =G43*E43 -> 11593.22
...

Sheet Summary
A1: =Sheet1!A2 -> RFX. No. 5002005176 , NIT-488
A2: =Sheet1!B3 -> Construction of Additional 06 nos. Quarters at 765/400 kV New Ranchi Substation
A4: Name of the bidder | C4: =Details!E13 -> 0 | F4: To,
A5: Address | C5: =Details!E7 -> 0 | F5: Contracts and Materials Department
C6: =Details!E8 -> 0 | F6: POWER GRID CORPORATION OF INDIA LIMITED
C7: =Details!E9 -> 0 | F7: VIDYUT BOARD COLONY, SHASTRINAGAR, PATNA-23
A9: We declare that following are our Total Bid Prices in Rupees for the expenditure incurred for the entire scope of work as specified in the specifications and documents. We have indicated Total Estimated Cost as indicated in the "Bill of Quantity(BOQ) & Prices" covering entire scope of works enclosed herewith as Schedule-I.
A14: I | C14: Total for Installation/Services as per Schedule-I | H14: =IF('Schedule-I'!H182=0,"0.00",'Schedule-I'!H182) -> 20777188
A15: II | C15: Total GST on services/Installation as per Schedule-I | H15: =IF('Schedule-I'!H183=0,"0.00",'Schedule-I'!H183) -> 3739893.9
A16: III | C16: Toal BID Price including all taxes | H16: =SUM(H14:H15) -> 24517082
A19: Date | B19: =Details!E2 -> 0 | E19: Printed Name | G19: =Details!E13 -> 0
A20: Place | B20: =Details!E1 -> 0 | E20: Designation | G20: =Details!E14 -> 0

Sheet Bid form 2nd envelope
A1: =Sheet1!A2 -> RFX. No. 5002005176 , NIT-488 | F1: Bid Form 2nd Envelope
A3: BID FORM (Second Envelope)
A5: Bid Proposal Ref. No.
A8: ='[1]Sch-1'!E6 -> To:
A9: ='[1]Sch-1'!E7 -> Contract Services
A10: ='[1]Sch-1'!E8 -> Power Grid Corporation of India Ltd.,
A11: ='[1]Sch-1'!E9 -> Eastern Region Transmission System-I
A12: ='[1]Sch-1'!E10 -> Vidyut Board Colony Shastri Nagar
A13: ='[1]Sch-1'!E11 -> Patna 800023
A15: Name of Contract : | C15: =Sheet1!B3 -> Construction of Additional 06 nos. Quarters at 765/400 kV New Ranchi Substation
A16: Dear Ladies and/or Gentlemen,
B17: =Z17 &AB17 & AC17 & AA17
A18: 1 | B18: The above amounts are in accordance with the price schedules attached herewith and are made part of this bid.
A19: 2 | B19: Price Schedules
A20: 2.1 | B20: In line with the requirements of the Bidding documents, we enclose herewith the following Price Schedules, duly filled - in as per your proforma:
B21: Schedule-I | D21: Service/Installation charges
A27: 2.2 | B27: We are aware that the Price Schedules do not generally give a full description of the Work to be performed under each item and we shall be deemed to have read the Technical Specifications and other sections of the Bidding Documents to ascertain the full scope of Work included in each item while filling-in the rates and prices. We agree that the entered rates and prices shall be deemed to include for the full scope as aforesaid, including overheads and profit.
A29: 2.3 | B29: We understand that in the price schedules, where there are errors between the total of the amounts given under the column for the price Breakdown and the amount given under the Total Price, the former shall prevail and the latter will be corrected accordingly. We further understand that where there are discrepancies between amounts stated in figures and amounts stated in words, the amount stated in words shall prevail. Similarly, any discrepancy in the total bid price and that of the summation of Schedule price (price indicated in a Schedule indicating the total of that schedule), the total bid price shall be corrected to reflect the actual summation of the Schedule prices.
A30: 2.4 | B30: We declare that items left blank in the Schedules will be deemed to have been included in other items. The TOTAL for each Schedule and the TOTAL of Grand Summary shall be deemed to be the total price for executing the Facilities and sections thereof in complete accordance with the Contract, whether or not each individual item has been priced.
A31: 3 | B31: We confirm that except as otherwise specifically provided our Bid Prices in this Second Envelope include all taxes, duties, levies and charges as may be assessed on us, our Sub-Contractor/Sub-Vendor or their employees by all municipal, state or national government authorities in connection with the Facilities, in and outside of India.
A35: 3.1 | B35: We confirm that we shall also get registered with the concerned Goods and Service Tax Authorities, in all the states where the project is located.
A36: 4 | B36: We, hereby, declare that only the persons or firms interested in this proposal as principals are named here and that no other persons or firms other than those mentioned herein have any interest in this proposal or in the Contract to be entered into, if the award is made on us, that this proposal is made without any connection with any other person, firm or party likewise submitting a proposal is in all respects for and in good faith, without collusion or fraud.
B38: Thanking you, we remain,
F39: Yours faithfully,
F40: ="For and on behalf of " & '[1]Sch-1'!B8 -> For and on behalf of
A42: Date : | B42: =Details!E18 -> 0 | E42: Printed Name : | F42: =Details!E13 -> 0
A43: Place : | B43: =Details!E17 -> 0 | E43: Designation : | F43: =Details!E14 -> 0
A45: Please provide additional information of the Bidder
A46: Business Address :
A49: Country of Incorporation :
A50: State/Province to be indicated :
A51: Name of Principal Officer :
A52: Address of Principal Officer :
