Workbook
Name \A: #REF!
Name \A: #REF!
Name \aa: #REF!
Name \aa: #REF!
Name \aa: #REF!
Name \B: #REF!
Name \B: #REF!
Name \C: #REF!
Name \C: #REF!
Name \M: #REF!
Name \M: #REF!
Name \N: #REF!
Name \N: #REF!
Name \P: #REF!
Name \P: #REF!
Name \R: #REF!
Name \R: #REF!
Name \U: #REF!
Name \U: #REF!
Name \V: #REF!
Name \V: #REF!
Name \x: #REF!
Name \x: #REF!
Name \x: #REF!
Name ab: #REF!
Name ab: #REF!
Name bb: '[1]Attach-3 (QR)'!#REF!
Name bbbb: '[1]Attach-3 (QR)'!#REF!
Name biddername: #REF!
Name BL2A: #REF!
Name BL2A2: #REF!
Name BL2AA: #REF!
Name BL2AAA: #REF!
Name BL2B: #REF!
Name BL2BB: #REF!
Name BL2BBB: #REF!
Name BL2C: #REF!
Name BL2CC: #REF!
Name BL2CCC: #REF!
Name BL3A: #REF!
Name BL3AA: #REF!
Name BL3AAA: #REF!
Name BL3B: #REF!
Name BL3BB: #REF!
Name BL3BBB: #REF!
Name BL3C: #REF!
Name BL3CC: #REF!
Name BL3CCC: #REF!
Name BL4A: #REF!
Name BL4AA: #REF!
Name BL4AAA: #REF!
Name BL4Afsdfd: '[1]Attach-3 (QR)'!#REF!
Name BL4B: #REF!
Name BL4BB: #REF!
Name BL4BBB: #REF!
Name BL4C: #REF!
Name BL4CC: #REF!
Name BL4CCC: #REF!
Name BL5A: #REF!
Name BL5AA: #REF!

Sheet Name of Bidder
B1: Diversion of following Lines to facilitate the construction of Railway BG line from Ginigera to Raichur by SWR,Hubli under Raichur TLM in SR-1 (Deposit work On Behalf of SWR): A) 400 kV RTPS-Munirabad S/C Line (Loc No: 147-151) B) 765 kV Raichur-Kurnool Ckt-01 S/C Line (Loc No: 305-308)
B2: SPEC. NO.: SR-I/C&M/WC-4740/2026/Rfx-xxx
B3: Enter the details of the bidder below:
B5: Specify type of Bidder | D5: Sole Bidder
B7: =IF(D5= "Joint Venture Bid", "Total Nos. of Partners in the JV [excluding the Lead Partner]", "") | D7: 2 or more
B9: =IF(G5=3, "Name of the Lead Partner", "Name of the Bidder") -> Name of the Bidder | E9: =ISBLANK(D9) -> TRUE
B10: Address of Registered Office | E10: =ISBLANK(D10) -> TRUE
E11: =ISBLANK(D11) -> TRUE
B14: email id | E14: =ISBLANK(D14) -> TRUE
B15: Mobile no. | E15: =ISBLANK(D15) -> TRUE
B16: Printed Name | E16: =ISBLANK(D16) -> TRUE
B17: Designation | E17: =ISBLANK(D17) -> TRUE
B19: Date | E19: =ISBLANK(D19) -> TRUE
B20: Place | E20: =ISBLANK(D20) -> TRUE | F20: =IF(COUNTIF(E11:E20,"TRUE"),"False","Sheet OK") -> False
D21: =IF(F20="False","ENTER DETAILS","Sheet OK") -> ENTER DETAILS
B23: ="General Instruction to the Bidders for filling up this workbook of Price Schedules for Package " & [5]Cover!C24 -> General Instruction to the Bidders for filling up this workbook of Price Schedules for Package
B25: I | C25: While filling up the worksheets following may please be observed :
C26: (i) | D26: Fill up only green shaded cells.
C27: (ii) | D27: Certain data type entries have been restricted, such as Numeric values or limits of numeric values.
C28: (iii) | D28: Select only the options provided in pull down menus.
C29: (iv) | D29: Do not link any cell of this work book with any other work book.
C30: (v) | D30: Do not use copy & paste or cut & paste options for filling up the data.
C31: (vi) | D31: Do not reformat any of the cell of the work book.
B33: II | C33: This Workbook consists of following worksheets :
C34: Cover :
D35: Opening page of the workbook.
C36: Names of Bidder :
C37: ● | D37: Select Orignal Equipment Manufacturer, or Authorised Dealer of Manufacturer, or Authorised Distributor of Manufacturer orAuthorised Indian Representative of Manufacturer from the pull down menu. Do not leave this cell blank.
C38: ● | D38: Select nos. of the JV Partners other than the Lead Partner from drop down menu.
C39: ● | D39: In case of JV partners more than 2, enter details of 3rd & more partners along with details of 2nd partner.
C40: ● | D40: Fill up names and address of the Bidder and /or Manufacturer
C41: ● | D41: Fill up date in dd-mm-yyyy format from drop down menu.
C42: ● | D42: Click for Sch-1 given at the right top of the worksheet to go to Sch-1.
C43: Sch-1 (Ex-works Prices) :
C44: ● | D44: Fill up unit rates for all the items in numeric values greater than 0 (zero). If unit rate is left blank, the corresponding item shall be deemed to be included in the total price.
C45: ● | D45: Unit rates of the items shall be inclusive of all duties, levies, cess etc. excluding GST. GST shall be applicable on transaction between Employer and Contractor. Employer will not pay any GST on transaction between Contractor and sub-vendors.
C46: ● | D46: Total amount shall get calculated automatically.
C48: Sch-1 (Freight & Insurance Charges) :
C49: ● | D49: Fill up unit rates for all the items in numeric values greater than 0 (zero). If unit rate is left blank, the corresponding item shall be deemed to be included in the total price.
C50: ● | D50: Total amount shall get calculated automatically.
...

Sheet Attach 10
A1: =#REF! -> #REF! | E1: ATTACHMENT-10
A3: =#REF! -> #REF!
A5: Integrity Pact
A8: =#REF! -> #REF! | E8: =#REF! -> #REF!
A9: Name : | B9: =#REF! -> #REF! | E9: =#REF! -> #REF!
A10: Address : | B10: =#REF! -> #REF! | E10: =#REF! -> #REF!
B11: =#REF! -> #REF! | E11: =#REF! -> #REF!
B12: =#REF! -> #REF! | E12: =#REF! -> #REF!
A14: Dear Sir,
A16: Integrity Pact is annexed herewith this Volume.
A24: Date : | B24: ='Name of Bidder'!D19 -> 0 | D24: Printed Name : | E24: ='Name of Bidder'!D16 -> 0
A25: Place : | B25: ='Name of Bidder'!D20 -> 0 | D25: Designation : | E25: ='Name of Bidder'!D17 -> 0

Sheet Attach 10 IP
A1: Instruction for printing & submitting Integrity Pact
A2: 1. | B2: The requisite format of Integrity Pact is getting generated automatically and displayed here below.
A3: 2. | B3: Take print out of first page on a non-judicial stamp paper of Rs. 100/- and other seven pages on plain A4 size paper. Such two sets shall be prepared by the bidder.
A4: 3. | B4: All the pages of both the copies of the Integrity Pact shall be signed by the authorised representative of the bidder and duly stamped.
A5: 4. | B5: Both the original copies shall be submitted by the bidder in the form of Hard Copy as part of the first envelope before due date & time of submission of the bid.
A6: 5. | B6: For further details bidders may please refer ITB Clause 9.3 (n).
K30: ='Name of Bidder'!D9 -> 0
K31: ='Name of Bidder'!D10 -> 0
K32: ='Name of Bidder'!D11 -> 0
K33: ='Name of Bidder'!D12 -> 0
A35: INTEGRITY PACT
A36: Between | K36: ='Name of Bidder'!#REF! -> #REF! | O36: ='Name of Bidder'!#REF! -> #REF!
A37: Power Grid Corporation of India Limited | K37: ='Name of Bidder'!#REF! -> #REF! | O37: ='Name of Bidder'!#REF! -> #REF!
A38: having its Registered Office at B-9, Qutab Institutional Area, Katwaria Sarai, New Delhi – 110016 hereinafter referred to as | K38: ='Name of Bidder'!#REF! -> #REF! | O38: ='Name of Bidder'!#REF! -> #REF!
A39: "POWERGRID", | K39: ='Name of Bidder'!#REF! -> #REF! | O39: ='Name of Bidder'!#REF! -> #REF!
A40: and
A41: ='Name of Bidder'!D9 -> 0 | K41: ='Name of Bidder'!#REF! -> #REF! | M41: having its Registered Office at | P41: ,
A42: =IF(#REF! = "Individual Firm", " ", " and ") -> #REF!
A43: =IF(#REF!= "Individual Firm", "",#REF!) -> #REF!
A44: =IF(#REF!= "Sole Bidder", "", "having its Registered Office at "&IF(#REF!=1,#REF!&" "&#REF!&" "&#REF!,IF(#REF!=2,#REF!&" & "&#REF!&" "&#REF!&" and " &#REF!&" & "&#REF!&" "&#REF! &IF(#REF!=2," respectively","")))) -> #REF!
A45: hereinafter referred to as
A46: "The Bidder/Contractor"
A47: Preamble
A48: ="POWERGRID intends to award, under laid-down organisational procedures, contract(s) for " &#REF! -> #REF!
A51: (Signature) | E51: (Signature)
A52: (For & On behalf of POWERGRID) | E52: (For & On behalf of Bidder/ Contractor)
A53: Integrity Pact | I53: Page 1 of 8
A54: =#REF! & " Package and Specification Number " &#REF! & " POWERGRID values full compliance with all relevant laws and regulations, and the principles of economical use of resources, and of fairness and transparency in its relations with its Bidders/ Contractors." -> #REF!
A56: In order to achieve these goals, POWERGRID and the above named Bidder/Contractor enter into this agreement called 'Integrity Pact' which will form a part of the bid.
A58: It is hereby agreed by and between the parties as under:
A60: Section I - Commitments of POWERGRID
A62: (1) | B62: POWERGRID commits itself to take all measures necessary to prevent corruption and to observe the following principles :
B64: a) | C64: No employee of POWERGRID, personally or through family members, will in connection with the tender, or the execution of the contract, demand, take a promise for or accept, for him/herself or third person, any material or other benefit which he/she is not legally entitled to.
B66: b) | C66: POWERGRID will, during the tender process treat all Bidder(s) with equity and fairness. POWERGRID will in particular, before and during the tender process, provide to all Bidder(s) the same information and will not provide to any Bidder(s) confidential/ additional information through which the Bidder(s) could obtain an advantage in relation to the tender process or the contract execution.
B68: c) | C68: POWERGRID will exclude from evaluation of Bids its such employee(s) who has any personnel interest in the Companies/Agencies participating in the Bidding/Tendering process.
A70: (2) | B70: If Chairman and Managing Director obtains information on the conduct of any employee of POWERGRID which is a criminal offence under the relevant Anti-Corruption Laws of India, or if there be a substantive suspicion in this regard, he will inform its Chief Vigilance Officer and in addition can initiate disciplinary actions under its Rules.
A72: Section II - Commitments of the Bidder/Contractor
A74: (1) | B74: The Bidder/Contractor commits himself to take all measures necessary to prevent corruption. He commits himself to observe the following principles
A76: (Signature) | E76: (Signature)
A77: (For & On behalf of POWERGRID) | E77: (For & On behalf of Bidder/ Contractor)
...

Sheet N-W (Cr.)
U2: USD
A3: 155885 | F3: 4960 | K3: 10352 | P3: 691647 | U3: EURO
U4: RMB
U5: INR
A6: =IF(OR((A3>9999999999),(A3<0)),"Invalid Entry - More than 1000 crore OR -ve value",IF(A3=0, "",+CONCATENATE(U2,B13,D13,B12,D12,B11,D11,B10,D10,B9,D9,B8," Only"))) -> USD One Lac Fifty Five Thousand Eight Hundred Eighty Five Only | F6: =IF(OR((F3>9999999999),(F3<0)),"Invalid Entry - More than 1000 crore OR -ve value",IF(F3=0, "",+CONCATENATE(U3, G13,I13,G12,I12,G11,I11,G10,I10,G9,I9,G8," Only"))) -> EURO Four Thousand Nine Hundred Sixty Only | K6: =IF(OR((K3>9999999999),(K3<0)),"Invalid Entry - More than 1000 crore OR -ve value",IF(K3=0, "",+CONCATENATE(U4, L13,N13,L12,N12,L11,N11,L10,N10,L9,N9,L8," Only"))) -> RMB Ten Thousand Three Hundred Fifty Two Only | P6: =IF(OR((P3>9999999999),(P3<0)),"Invalid Entry - More than 1000 crore OR -ve value",IF(P3=0, "",+CONCATENATE(U5, Q13,S13,Q12,S12,Q11,S11,Q10,S10,Q9,S9,Q8," Only"))) -> INR Six Lac Ninety One Thousand Six Hundred Forty Seven Only | U6: =VLOOKUP(1,T30:Y45,6,FALSE) -> USD 155885/- + EURO 4960/- + RMB 10352/- + INR 691647/-
U7: =VLOOKUP(1,T10:Y25,6,FALSE) -> USD One Lac Fifty Five Thousand Eight Hundred Eighty Five Only plus EURO Four Thousand Nine Hundred Sixty Only plus RMB Ten Thousand Three Hundred Fifty Two Only plus INR Six Lac Ninety One Thousand Six Hundred Forty Seven Only
A8: =-INT(A3/100)*100+ROUND(A3,0) -> 85 | B8: =IF(A8=0,"",LOOKUP(A8,$A$15:$A$114,$B$15:$B$114)) -> Eighty Five | F8: =-INT(F3/100)*100+ROUND(F3,0) -> 60 | G8: =IF(F8=0,"",LOOKUP(F8,$A$15:$A$114,$B$15:$B$114)) -> Sixty | K8: =-INT(K3/100)*100+ROUND(K3,0) -> 52 | L8: =IF(K8=0,"",LOOKUP(K8,$A$15:$A$114,$B$15:$B$114)) -> Fifty Two | P8: =-INT(P3/100)*100+ROUND(P3,0) -> 47 | Q8: =IF(P8=0,"",LOOKUP(P8,$A$15:$A$114,$B$15:$B$114)) -> Forty Seven
A9: =-INT(A3/1000)*10+INT(A3/100) -> 8 | B9: =IF(A9=0,"",LOOKUP(A9,$A$15:$A$114,$B$15:$B$114)) -> Eight | D9: =+IF(B9="",""," Hundred ") -> Hundred | F9: =-INT(F3/1000)*10+INT(F3/100) -> 9 | G9: =IF(F9=0,"",LOOKUP(F9,$A$15:$A$114,$B$15:$B$114)) -> Nine | I9: =+IF(G9="",""," Hundred ") -> Hundred | K9: =-INT(K3/1000)*10+INT(K3/100) -> 3 | L9: =IF(K9=0,"",LOOKUP(K9,$A$15:$A$114,$B$15:$B$114)) -> Three | N9: =+IF(L9="",""," Hundred ") -> Hundred | P9: =-INT(P3/1000)*10+INT(P3/100) -> 6 | Q9: =IF(P9=0,"",LOOKUP(P9,$A$15:$A$114,$B$15:$B$114)) -> Six | S9: =+IF(Q9="",""," Hundred ") -> Hundred
A10: =-INT(A3/100000)*100+INT(A3/1000) -> 55 | B10: =IF(A10=0,"",LOOKUP(A10,$A$15:$A$114,$B$15:$B$114)) -> Fifty Five | D10: =IF((B10=""),IF(C10="",""," Thousand ")," Thousand ") -> Thousand | F10: =-INT(F3/100000)*100+INT(F3/1000) -> 4 | G10: =IF(F10=0,"",LOOKUP(F10,$A$15:$A$114,$B$15:$B$114)) -> Four | I10: =IF((G10=""),IF(H10="",""," Thousand ")," Thousand ") -> Thousand | K10: =-INT(K3/100000)*100+INT(K3/1000) -> 10 | L10: =IF(K10=0,"",LOOKUP(K10,$A$15:$A$114,$B$15:$B$114)) -> Ten | N10: =IF((L10=""),IF(M10="",""," Thousand ")," Thousand ") -> Thousand | P10: =-INT(P3/100000)*100+INT(P3/1000) -> 91 | Q10: =IF(P10=0,"",LOOKUP(P10,$A$15:$A$114,$B$15:$B$114)) -> Ninety One | S10: =IF((Q10=""),IF(R10="",""," Thousand ")," Thousand ") -> Thousand | T10: =IF(Y10="",0, 1) -> 0 | U10: 0 | V10: 0 | W10: 0 | X10: 0 | Y10: =IF(AND($A$3=0,$F$3=0,$K$3=0,$P$3=0)," Zero only", "") | AA10: plus
A11: =-INT(A3/10000000)*100+INT(A3/100000) -> 1 | B11: =IF(A11=0,"",LOOKUP(A11,$A$15:$A$114,$B$15:$B$114)) -> One | D11: =IF((B11=""),IF(C11="",""," Lac ")," Lac ") -> Lac | F11: =-INT(F3/10000000)*100+INT(F3/100000) -> 0 | G11: =IF(F11=0,"",LOOKUP(F11,$A$15:$A$114,$B$15:$B$114)) | I11: =IF((G11=""),IF(H11="",""," Lac ")," Lac ") | K11: =-INT(K3/10000000)*100+INT(K3/100000) -> 0 | L11: =IF(K11=0,"",LOOKUP(K11,$A$15:$A$114,$B$15:$B$114)) | N11: =IF((L11=""),IF(M11="",""," Lac ")," Lac ") | P11: =-INT(P3/10000000)*100+INT(P3/100000) -> 6 | Q11: =IF(P11=0,"",LOOKUP(P11,$A$15:$A$114,$B$15:$B$114)) -> Six | S11: =IF((Q11=""),IF(R11="",""," Lac ")," Lac ") -> Lac | T11: =IF(Y11="",0, 1) -> 0 | U11: 0 | V11: 0 | W11: 0 | X11: 1 | Y11: =IF(AND($A$3=0,$F$3=0,$K$3=0,$P$3>0),$P$6, "")
A12: =-INT(A3/1000000000)*100+INT(A3/10000000) -> 0 | B12: =IF(A12=0,"",LOOKUP(A12,$A$15:$A$114,$B$15:$B$114)) | D12: =IF((B12=""),IF(C12="",""," Crore ")," Crore ") | F12: =-INT(F3/1000000000)*100+INT(F3/10000000) -> 0 | G12: =IF(F12=0,"",LOOKUP(F12,$A$15:$A$114,$B$15:$B$114)) | I12: =IF((G12=""),IF(H12="",""," Crore ")," Crore ") | K12: =-INT(K3/1000000000)*100+INT(K3/10000000) -> 0 | L12: =IF(K12=0,"",LOOKUP(K12,$A$15:$A$114,$B$15:$B$114)) | N12: =IF((L12=""),IF(M12="",""," Crore ")," Crore ") | P12: =-INT(P3/1000000000)*100+INT(P3/10000000) -> 0 | Q12: =IF(P12=0,"",LOOKUP(P12,$A$15:$A$114,$B$15:$B$114)) | S12: =IF((Q12=""),IF(R12="",""," Crore ")," Crore ") | T12: =IF(Y12="",0, 1) -> 0 | U12: 0 | V12: 0 | W12: 1 | X12: 0 | Y12: =IF(AND($A$3=0,$F$3=0,$K$3>0,$P$3=0),$K$6, "")
A13: =-INT(A3/10000000000)*1000+INT(A3/1000000000) -> 0 | B13: =IF(A13=0,"",LOOKUP(A13,$A$15:$A$114,$B$15:$B$114)) | D13: =IF((B13=""),IF(C13="",""," Hundred ")," Hundred ") | F13: =-INT(F3/10000000000)*1000+INT(F3/1000000000) -> 0 | G13: =IF(F13=0,"",LOOKUP(F13,$A$15:$A$114,$B$15:$B$114)) | I13: =IF((G13=""),IF(H13="",""," Hundred ")," Hundred ") | K13: =-INT(K3/10000000000)*1000+INT(K3/1000000000) -> 0 | L13: =IF(K13=0,"",LOOKUP(K13,$A$15:$A$114,$B$15:$B$114)) | N13: =IF((L13=""),IF(M13="",""," Hundred ")," Hundred ") | P13: =-INT(P3/10000000000)*1000+INT(P3/1000000000) -> 0 | Q13: =IF(P13=0,"",LOOKUP(P13,$A$15:$A$114,$B$15:$B$114)) | S13: =IF((Q13=""),IF(R13="",""," Hundred ")," Hundred ") | T13: =IF(Y13="",0, 1) -> 0 | U13: 0 | V13: 0 | W13: 1 | X13: 1 | Y13: =IF(AND($A$3=0,$F$3=0,$K$3>0,$P$3>0),$K$6&$AA$10&$P$6, "")
T14: =IF(Y14="",0, 1) -> 0 | U14: 0 | V14: 1 | W14: 0 | X14: 0 | Y14: =IF(AND($A$3=0,$F$3>0,$K$3=0,$P$3=0),$F$6, "")
A15: 1 | B15: One | F15: 1 | G15: One | K15: 1 | L15: One | P15: 1 | Q15: One | T15: =IF(Y15="",0, 1) -> 0 | U15: 0 | V15: 1 | W15: 0 | X15: 1 | Y15: =IF(AND($A$3=0,$F$3>0,$K$3=0,$P$3>0),$F$6&$AA$10&$P$6, "")
A16: 2 | B16: Two | F16: 2 | G16: Two | K16: 2 | L16: Two | P16: 2 | Q16: Two | T16: =IF(Y16="",0, 1) -> 0 | U16: 0 | V16: 1 | W16: 1 | X16: 0 | Y16: =IF(AND($A$3=0,$F$3>0,$K$3>0,$P$3=0),$F$6&$AA$10&$K$6, "")
A17: 3 | B17: Three | F17: 3 | G17: Three | K17: 3 | L17: Three | P17: 3 | Q17: Three | T17: =IF(Y17="",0, 1) -> 0 | U17: 0 | V17: 1 | W17: 1 | X17: 1 | Y17: =IF(AND($A$3=0,$F$3>0,$K$3>0,$P$3>0),$F$6&$AA$10&$K$6&$AA$10&$P$6, "")
A18: 4 | B18: Four | F18: 4 | G18: Four | K18: 4 | L18: Four | P18: 4 | Q18: Four | T18: =IF(Y18="",0, 1) -> 0 | U18: 1 | V18: 0 | W18: 0 | X18: 0 | Y18: =IF(AND($A$3>0,$F$3=0,$K$3=0,$P$3=0), $A$6, "")
A19: 5 | B19: Five | F19: 5 | G19: Five | K19: 5 | L19: Five | P19: 5 | Q19: Five | T19: =IF(Y19="",0, 1) -> 0 | U19: 1 | V19: 0 | W19: 0 | X19: 1 | Y19: =IF(AND($A$3>0,$F$3=0,$K$3=0,$P$3>0),$A$6&$AA$10&$P$6, "")
A20: 6 | B20: Six | F20: 6 | G20: Six | K20: 6 | L20: Six | P20: 6 | Q20: Six | T20: =IF(Y20="",0, 1) -> 0 | U20: 1 | V20: 0 | W20: 1 | X20: 0 | Y20: =IF(AND($A$3>0,$F$3=0,$K$3>0,$P$3=0),$A$6&$AA$10&$K$6, "")
A21: 7 | B21: Seven | F21: 7 | G21: Seven | K21: 7 | L21: Seven | P21: 7 | Q21: Seven | T21: =IF(Y21="",0, 1) -> 0 | U21: 1 | V21: 0 | W21: 1 | X21: 1 | Y21: =IF(AND($A$3>0,$F$3=0,$K$3>0,$P$3>0),$A$6&$AA$10&$K$6&$AA$10&$P$6, "")
A22: 8 | B22: Eight | F22: 8 | G22: Eight | K22: 8 | L22: Eight | P22: 8 | Q22: Eight | T22: =IF(Y22="",0, 1) -> 0 | U22: 1 | V22: 1 | W22: 0 | X22: 0 | Y22: =IF(AND($A$3>0,$F$3>0,$K$3=0,$P$3=0),$A$6&$AA$10&$F$6, "")
A23: 9 | B23: Nine | F23: 9 | G23: Nine | K23: 9 | L23: Nine | P23: 9 | Q23: Nine | T23: =IF(Y23="",0, 1) -> 0 | U23: 1 | V23: 1 | W23: 0 | X23: 1 | Y23: =IF(AND($A$3>0,$F$3>0,$K$3=0,$P$3>0),$A$6&$AA$10&$F$6&$AA$10&$P$6, "")
A24: 10 | B24: Ten | F24: 10 | G24: Ten | K24: 10 | L24: Ten | P24: 10 | Q24: Ten | T24: =IF(Y24="",0, 1) -> 0 | U24: 1 | V24: 1 | W24: 1 | X24: 0 | Y24: =IF(AND($A$3>0,$F$3>0,$K$3>0,$P$3=0),$A$6&$AA$10&$F$6&$AA$10&$K$6, "")
A25: 11 | B25: Eleven | F25: 11 | G25: Eleven | K25: 11 | L25: Eleven | P25: 11 | Q25: Eleven | T25: =IF(Y25="",0, 1) -> 1 | U25: 1 | V25: 1 | W25: 1 | X25: 1 | Y25: =IF(AND($A$3>0,$F$3>0,$K$3>0,$P$3>0),$A$6&$AA$10&$F$6&$AA$10&$K$6&$AA$10&$P$6, "") -> USD One Lac Fifty Five Thousand Eight Hundred Eighty Five Only plus EURO Four Thousand Nine Hundred Sixty Only plus RMB Ten Thousand Three Hundred Fifty Two Only plus INR Six Lac Ninety One Thousand Six Hundred Forty Seven Only
A26: 12 | B26: Twelve | F26: 12 | G26: Twelve | K26: 12 | L26: Twelve | P26: 12 | Q26: Twelve
A27: 13 | B27: Thirteen | F27: 13 | G27: Thirteen | K27: 13 | L27: Thirteen | P27: 13 | Q27: Thirteen
A28: 14 | B28: Fourteen | F28: 14 | G28: Fourteen | K28: 14 | L28: Fourteen | P28: 14 | Q28: Fourteen
A29: 15 | B29: Fifteen | F29: 15 | G29: Fifteen | K29: 15 | L29: Fifteen | P29: 15 | Q29: Fifteen
A30: 16 | B30: Sixteen | F30: 16 | G30: Sixteen | K30: 16 | L30: Sixteen | P30: 16 | Q30: Sixteen | T30: =IF(Y30="",0, 1) -> 0 | U30: 0 | V30: 0 | W30: 0 | X30: 0 | Y30: =IF(AND($A$3=0,$F$3=0,$K$3=0,$P$3=0)," 0/-", "") | AA30: +
A31: 17 | B31: Seventeen | F31: 17 | G31: Seventeen | K31: 17 | L31: Seventeen | P31: 17 | Q31: Seventeen | T31: =IF(Y31="",0, 1) -> 0 | U31: 0 | V31: 0 | W31: 0 | X31: 1 | Y31: =IF(AND($A$3=0,$F$3=0,$K$3=0,$P$3>0),$U$5&$P$3&$AA$32, "") | AA31: /- +
A32: 18 | B32: Eighteen | F32: 18 | G32: Eighteen | K32: 18 | L32: Eighteen | P32: 18 | Q32: Eighteen | T32: =IF(Y32="",0, 1) -> 0 | U32: 0 | V32: 0 | W32: 1 | X32: 0 | Y32: =IF(AND($A$3=0,$F$3=0,$K$3>0,$P$3=0),$U$4&$K$3&$AA$32, "") | AA32: /-
A33: 19 | B33: Nineteen | F33: 19 | G33: Nineteen | K33: 19 | L33: Nineteen | P33: 19 | Q33: Nineteen | T33: =IF(Y33="",0, 1) -> 0 | U33: 0 | V33: 0 | W33: 1 | X33: 1 | Y33: =IF(AND($A$3=0,$F$3=0,$K$3>0,$P$3>0),$U$4&$K$3&$AA$31&$U$5&$P$3&$AA$32, "")
A34: 20 | B34: Twenty | F34: 20 | G34: Twenty | K34: 20 | L34: Twenty | P34: 20 | Q34: Twenty | T34: =IF(Y34="",0, 1) -> 0 | U34: 0 | V34: 1 | W34: 0 | X34: 0 | Y34: =IF(AND($A$3=0,$F$3>0,$K$3=0,$P$3=0),$U$3&$F$3&$AA$32, "")
A35: 21 | B35: Twenty One | F35: 21 | G35: Twenty One | K35: 21 | L35: Twenty One | P35: 21 | Q35: Twenty One | T35: =IF(Y35="",0, 1) -> 0 | U35: 0 | V35: 1 | W35: 0 | X35: 1 | Y35: =IF(AND($A$3=0,$F$3>0,$K$3=0,$P$3>0),$U$3&$F$3&$AA$31&$U$5&$P$3&$AA$32, "")
A36: 22 | B36: Twenty Two | F36: 22 | G36: Twenty Two | K36: 22 | L36: Twenty Two | P36: 22 | Q36: Twenty Two | T36: =IF(Y36="",0, 1) -> 0 | U36: 0 | V36: 1 | W36: 1 | X36: 0 | Y36: =IF(AND($A$3=0,$F$3>0,$K$3>0,$P$3=0),$U$3&$F$3&$AA$31&$U$4&$K$3, "")
A37: 23 | B37: Twenty Three | F37: 23 | G37: Twenty Three | K37: 23 | L37: Twenty Three | P37: 23 | Q37: Twenty Three | T37: =IF(Y37="",0, 1) -> 0 | U37: 0 | V37: 1 | W37: 1 | X37: 1 | Y37: =IF(AND($A$3=0,$F$3>0,$K$3>0,$P$3>0),$U$3&$F$3&$AA$31&$U$4&$K$3&$AA$31&$U$5&$P$3&$AA$32, "")
A38: 24 | B38: Twenty Four | F38: 24 | G38: Twenty Four | K38: 24 | L38: Twenty Four | P38: 24 | Q38: Twenty Four | T38: =IF(Y38="",0, 1) -> 0 | U38: 1 | V38: 0 | W38: 0 | X38: 0 | Y38: =IF(AND($A$3>0,$F$3=0,$K$3=0,$P$3=0), $U$2&$A$3&$AA$32, "")
A39: 25 | B39: Twenty Five | F39: 25 | G39: Twenty Five | K39: 25 | L39: Twenty Five | P39: 25 | Q39: Twenty Five | T39: =IF(Y39="",0, 1) -> 0 | U39: 1 | V39: 0 | W39: 0 | X39: 1 | Y39: =IF(AND($A$3>0,$F$3=0,$K$3=0,$P$3>0),$U$2&$A$3&$AA$31&$U$5&$P$3&$AA$32, "")
A40: 26 | B40: Twenty Six | F40: 26 | G40: Twenty Six | K40: 26 | L40: Twenty Six | P40: 26 | Q40: Twenty Six | T40: =IF(Y40="",0, 1) -> 0 | U40: 1 | V40: 0 | W40: 1 | X40: 0 | Y40: =IF(AND($A$3>0,$F$3=0,$K$3>0,$P$3=0),$U$2&$A$3&$AA$31&$U$4&$K$3, "")
A41: 27 | B41: Twenty Seven | F41: 27 | G41: Twenty Seven | K41: 27 | L41: Twenty Seven | P41: 27 | Q41: Twenty Seven | T41: =IF(Y41="",0, 1) -> 0 | U41: 1 | V41: 0 | W41: 1 | X41: 1 | Y41: =IF(AND($A$3>0,$F$3=0,$K$3>0,$P$3>0),$U$2&$A$3&$AA$31&$U$4&$K$3&$AA$31&$U$5&$P$3&$AA$32, "")
...

Sheet Schedule-I
A1: ='Name of Bidder'!B1 -> Diversion of following Lines to facilitate the construction of Railway BG line from Ginigera to Raichur by SWR,Hubli under Raichur TLM in SR-1 (Deposit work On Behalf of SWR): A) 400 kV RTPS-Munirabad S/C Line (Loc No: 147-151) B) 765 kV Raichur-Kurnool Ckt-01 S/C Line (Loc No: 305-308)
A2: Schedule-I: Ex-Works Supply of Plant and Machinery including Freight and Insurance from within India
A3: Bidder’s Name | D3: ='Name of Bidder'!D9 -> 0 | J3: To:
A4: Address : | D4: ='Name of Bidder'!D10 -> 0 | J4: Contract Services
D5: ='Name of Bidder'!D11 -> 0 | J5: Power Grid Corporation of India Ltd.,
D6: ='Name of Bidder'!D12 -> 0 | J6: Southern Region Transmission system -I
J7: Kavadiguda Main Raod, Secunderabad - 500080
A8: Sl. No. | B8: Service Number | C8: SAC Code | D8: Whether SAC in column ‘2’ is confirmed. If not indicate applicable the SAC # | E8: Rate of GST applicable ( in %) | F8: Whether rate of GST in column ‘4’ is confirmed. If not indicate applicable rate of GST # | G8: Description (Supply of Items) | H8: Unit | I8: Quantity | J8: Unit Ex-works Price (excl GST) | K8: Unit F&I charges (incl GST) | L8: Total Ex-works Price (excl GST) | M8: Total F&I charges (incl GST) | N8: GST on EX-works Price | O8: Remarks
A9: 1 | C9: 2 | D9: 3 | E9: 2 | F9: 3 | G9: 4 | H9: 5 | I9: 6 | J9: 7 | K9: 8 | L9: 9 = 6 * 7 | M9: 10 = 6 * 8 | N9: 11 = Appl GST% on sl. No. 9
A10: A | G10: Part-A: 400kV RTPS-Munirabad S/C Line (A)
D11: NORMAL TOWERS | G11: NORMAL TOWERS
G12: Fabrication, galvanising & supply of various types of towers & tower parts, tower/leg extensions (complete) excluding stubs and bolts & nuts but including hangers, D-Shackles, pack washers etc.
A13: 1 | D13: HT Steel | E13: 0.18 | G13: HT Steel | H13: MT | I13: 14.064 | L13: =ROUND(J13*I13,2) -> 0 | M13: =ROUND(K13*I13,2) -> 0 | N13: =ROUND(IF(F13="",L13*E13,L13*F13),2) -> 0 | O13: =IF(#REF!<>#REF!,IF(OR(J13="",J13=0),"Included in other item",""),"") -> #REF!
A14: 2 | D14: MS Steel | E14: 0.18 | G14: MS Steel | H14: MT | I14: 49.703 | L14: =ROUND(J14*I14,2) -> 0 | M14: =ROUND(K14*I14,2) -> 0 | N14: =ROUND(IF(F14="",L14*E14,L14*F14),2) -> 0 | O14: =IF(#REF!<>#REF!,IF(OR(J14="",J14=0),"Included in other item",""),"") -> #REF!
G15: Fabrication, galvanising & supply of stubs with cleats for various types of towers and tower extensions (complete) with pack washers excluding supply of bolts & nuts
A16: 3 | D16: HT Steel | E16: 0.18 | G16: HT Steel | H16: MT | I16: 1.622 | L16: =ROUND(J16*I16,2) -> 0 | M16: =ROUND(K16*I16,2) -> 0 | N16: =ROUND(IF(F16="",L16*E16,L16*F16),2) -> 0
A17: 4 | D17: MS Steel | E17: 0.18 | G17: MS Steel | H17: MT | I17: 0.016 | L17: =ROUND(J17*I17,2) -> 0 | M17: =ROUND(K17*I17,2) -> 0 | N17: =ROUND(IF(F17="",L17*E17,L17*F17),2) -> 0 | O17: =IF(#REF!<>#REF!,IF(OR(J17="",J17=0),"Included in other item",""),"") -> #REF!
G18: Supply of Bolts & Nuts for towers and tower extensions including Step Bolts, Spring Washers etc. | O18: =IF(#REF!<>#REF!,IF(OR(J18="",J18=0),"Included in other item",""),"") -> #REF!
A19: 5 | D19: Hexagonal Bolts and Nuts including step bolts and spring washers for tower & tower extensions | E19: 0.18 | G19: Hexagonal Bolts and Nuts including step bolts and spring washers for tower & tower extensions | H19: MT | I19: 2.099 | L19: =ROUND(J19*I19,2) -> 0 | M19: =ROUND(K19*I19,2) -> 0 | N19: =ROUND(IF(F19="",L19*E19,L19*F19),2) -> 0 | O19: =IF(#REF!<>#REF!,IF(OR(J19="",J19=0),"Included in other item",""),"") -> #REF!
A20: 6 | E20: 0.18 | G20: Hexagonal Bolts and nuts including washers for Stubs | H20: MT | I20: 0.024 | L20: =ROUND(J20*I20,2) -> 0 | M20: =ROUND(K20*I20,2) -> 0 | N20: =ROUND(IF(F20="",L20*E20,L20*F20),2) -> 0 | O20: =IF(#REF!<>#REF!,IF(OR(J20="",J20=0),"Included in other item",""),"") -> #REF!
G21: EARTHING OF TOWERS
G22: Supply of earthing of towers
A23: 7 | D23: PIPE Type | E23: 0.18 | G23: PIPE Type | H23: NOS. | I23: 2 | L23: =ROUND(J23*I23,2) -> 0 | M23: =ROUND(K23*I23,2) -> 0 | N23: =ROUND(IF(F23="",L23*E23,L23*F23),2) -> 0 | O23: =IF(#REF!<>#REF!,IF(OR(J23="",J23=0),"Included in other item",""),"") -> #REF!
A24: 8 | D24: CP Type | E24: 0.18 | G24: CP Type | H24: NOS. | I24: 2 | L24: =ROUND(J24*I24,2) -> 0 | M24: =ROUND(K24*I24,2) -> 0 | N24: =ROUND(IF(F24="",L24*E24,L24*F24),2) -> 0 | O24: =IF(#REF!<>#REF!,IF(OR(J24="",J24=0),"Included in other item",""),"") -> #REF!
G25: TOWER ACCESSORIES
G26: Supply of following tower accessories
A27: 9 | D27: Danger Plate | E27: 0.18 | G27: Danger Plate | H27: NOS. | I27: 4 | L27: =ROUND(J27*I27,2) -> 0 | M27: =ROUND(K27*I27,2) -> 0 | N27: =ROUND(IF(F27="",L27*E27,L27*F27),2) -> 0 | O27: =IF(#REF!<>#REF!,IF(OR(J27="",J27=0),"Included in other item",""),"") -> #REF!
A28: 10 | D28: Number Plate | E28: 0.18 | G28: Number Plate | H28: NOS. | I28: 4 | L28: =ROUND(J28*I28,2) -> 0 | M28: =ROUND(K28*I28,2) -> 0 | N28: =ROUND(IF(F28="",L28*E28,L28*F28),2) -> 0 | O28: =IF(#REF!<>#REF!,IF(OR(J28="",J28=0),"Included in other item",""),"") -> #REF!
A29: 11 | D29: Phase Plate (Set of Three) | E29: 0.18 | G29: Phase Plate (Set of Three) | H29: Sets | I29: 4 | L29: =ROUND(J29*I29,2) -> 0 | M29: =ROUND(K29*I29,2) -> 0 | N29: =ROUND(IF(F29="",L29*E29,L29*F29),2) -> 0 | O29: =IF(#REF!<>#REF!,IF(OR(J29="",J29=0),"Included in other item",""),"") -> #REF!
A30: 12 | D30: Anti-Climbing Devices | E30: 0.18 | G30: Anti-Climbing Devices | H30: NOS. | I30: 4 | L30: =ROUND(J30*I30,2) -> 0 | M30: =ROUND(K30*I30,2) -> 0 | N30: =ROUND(IF(F30="",L30*E30,L30*F30),2) -> 0 | O30: =IF(#REF!<>#REF!,IF(OR(J30="",J30=0),"Included in other item",""),"") -> #REF!
G31: SUPPLY OF HARDWAR FITTINGS
G32: Hardware Fittings for 400kV AC with ACSR Twin Moose Conductor
A33: 13 | D33: Single "I" suspension fitting for PILOTstring including Counter weight (Suitable for 1x23, 120 kN standard disc insulators or 1x1, 120 kN Polymer Composite Long Rod Insultors) | E33: 0.18 | G33: Single "I" suspension fitting for PILOTstring including Counter weight (Suitable for 1x23, 120 kN standard disc insulators or 1x1, 120 kN Polymer Composite Long Rod Insultors) | H33: Sets | I33: 8 | L33: =ROUND(J33*I33,2) -> 0 | M33: =ROUND(K33*I33,2) -> 0 | N33: =ROUND(IF(F33="",L33*E33,L33*F33),2) -> 0 | O33: =IF(#REF!<>#REF!,IF(OR(J33="",J33=0),"Included in other item",""),"") -> #REF!
A34: 14 | D34: Double Tension insulator fitting (Suitable for 2x23, 160 kN standard disc insulators or 4X1 160 kN Polymer Composite Long Rod insulators) | E34: 0.18 | G34: Double Tension insulator fitting (Suitable for 2x23, 160 kN standard disc insulators or 4X1 160 kN Polymer Composite Long Rod insulators) | H34: Sets | I34: 27 | L34: =ROUND(J34*I34,2) -> 0 | M34: =ROUND(K34*I34,2) -> 0 | N34: =ROUND(IF(F34="",L34*E34,L34*F34),2) -> 0 | O34: =IF(#REF!<>#REF!,IF(OR(J34="",J34=0),"Included in other item",""),"") -> #REF!
A35: 15 | D35: Single "I" suspension fitting for suspension string (Suitable for 1x23, 120 kN standard disc insulators or 1x1, 120 kN Polymer Composite Long Rod Insultors) | E35: 0.18 | G35: Single "I" suspension fitting for suspension string (Suitable for 1x23, 120 kN standard disc insulators or 1x1, 120 kN Polymer Composite Long Rod Insultors) | H35: Sets | I35: 3 | L35: =ROUND(J35*I35,2) -> 0 | M35: =ROUND(K35*I35,2) -> 0 | N35: =ROUND(IF(F35="",L35*E35,L35*F35),2) -> 0 | O35: =IF(#REF!<>#REF!,IF(OR(J35="",J35=0),"Included in other item",""),"") -> #REF!
G36: Conductor Accessories for ACSR Moose | O36: =IF(#REF!<>#REF!,IF(OR(J36="",J36=0),"Included in other item",""),"") -> #REF!
A37: 16 | D37: Twin Moose Bundle Spacer for ACSR Moose Conductor | E37: 0.18 | G37: Twin Moose Bundle Spacer for ACSR Moose Conductor | H37: NOS. | I37: 105 | L37: =ROUND(J37*I37,2) -> 0 | M37: =ROUND(K37*I37,2) -> 0 | N37: =ROUND(IF(F37="",L37*E37,L37*F37),2) -> 0
A38: 17 | D38: Twin Rigid Spacer for jumper ( for ACSR Moose Conductor) | E38: 0.18 | G38: Twin Rigid Spacer for jumper ( for ACSR Moose Conductor) | H38: NOS. | I38: 60 | L38: =ROUND(J38*I38,2) -> 0 | M38: =ROUND(K38*I38,2) -> 0 | N38: =ROUND(IF(F38="",L38*E38,L38*F38),2) -> 0 | O38: =IF(#REF!<>#REF!,IF(OR(J38="",J38=0),"Included in other item",""),"") -> #REF!
G39: Earthwire Accessories for 7/3.66mm Earthwire | O39: =IF(#REF!<>#REF!,IF(OR(J39="",J39=0),"Included in other item",""),"") -> #REF!
A40: 18 | D40: Flexible Copper Bond | E40: 0.18 | G40: Flexible Copper Bond | H40: NOS. | I40: 8 | L40: =ROUND(J40*I40,2) -> 0 | M40: =ROUND(K40*I40,2) -> 0 | N40: =ROUND(IF(F40="",L40*E40,L40*F40),2) -> 0
...

Sheet Schedule-II
A1: ='Name of Bidder'!B1 -> Diversion of following Lines to facilitate the construction of Railway BG line from Ginigera to Raichur by SWR,Hubli under Raichur TLM in SR-1 (Deposit work On Behalf of SWR): A) 400 kV RTPS-Munirabad S/C Line (Loc No: 147-151) B) 765 kV Raichur-Kurnool Ckt-01 S/C Line (Loc No: 305-308)
A2: Schedule-II : Installataion Charges
A3: Bidder’s Name | D3: ='Name of Bidder'!D9 -> 0 | J3: To:
A4: Address : | D4: ='Name of Bidder'!D10 -> 0 | J4: Contract Services
D5: ='Name of Bidder'!D11 -> 0 | J5: Power Grid Corporation of India Ltd.,
D6: ='Name of Bidder'!D12 -> 0 | J6: Southern Region Transmission system -I
J7: Kavadiguda Main Raod, Secunderabad - 500080
A8: Sl. No. | B8: Service Number | C8: SAC Code | D8: Whether SAC in column ‘2’ is confirmed. If not indicate applicable the SAC # | E8: Rate of GST applicable ( in %) | F8: Whether rate of GST in column ‘4’ is confirmed. If not indicate applicable rate of GST # | G8: Description | H8: Unit | I8: Quantity | J8: Unit installation charges(excl GST) | K8: Total installation charges(excl GST) | L8: GST | M8: Remarks | P8: =COUNTIF(J12:J72,"") -> 61
A9: 1 | C9: 2 | D9: 3 | E9: 2 | F9: 3 | G9: 4 | H9: 5 | I9: 6 | J9: 7 | K9: 8= 6 * 7 | L9: 9 = Appl GST% on sl. No. 8 | P9: =COUNTIF(I12:I72,">0") -> 38
A10: A | G10: Part-A: 400kV RTPS-Munirabad S/C Line
G11: SURVEY
A12: 1 | B12: 120000349 | C12: 995419 | E12: 0.18 | G12: Detailed survey including route alignment, profiling and tower spotting using modern survey techniques | H12: km. | I12: 1.39 | K12: =ROUND(J12*I12,2) -> 0 | L12: =ROUND(IF(F12="",K12*E12,K12*F12),2) -> 0 | M12: =IF($P$9<>$P$8,IF(OR(J12="",J12=0),"Included in other item",""),"") -> Included in other item
A13: 2 | E13: 0.18 | G13: Check Survey | H13: km. | I13: 1.39 | K13: =ROUND(J13*I13,2) -> 0 | L13: =ROUND(IF(F13="",K13*E13,K13*F13),2) -> 0 | M13: =IF($P$9<>$P$8,IF(OR(J13="",J13=0),"Included in other item",""),"") -> Included in other item
G14: ERECTION OF VARIOUS TYPES OF TOWERS & TOWER PARTS,TOWER EXTENSIONS (COMPLETE) INCLUDING BOLTS & NUTS, HANGERS, D-SHACKLES, STEP BOLTS, PACK WASHERS ETC., INCLUDING TACK WELDING & SUPPLY & APPLICATION OF ZINC RICH PRIMER & TWO COATS OF ENAMEL PAINT
A15: 3 | E15: 0.18 | G15: 400 kV Single Circuit Horizontal Tower | H15: MT | I15: 65.866 | K15: =ROUND(J15*I15,2) -> 0 | L15: =ROUND(IF(F15="",K15*E15,K15*F15),2) -> 0 | M15: =IF($P$9<>$P$8,IF(OR(J15="",J15=0),"Included in other item",""),"") -> Included in other item
G16: BENCHING
A17: =+A15+1 -> 4 | E17: 0.18 | G17: All kinds of soils except fissured rock,hard rock and sandy soil | H17: Cu.m. | I17: 20 | K17: =ROUND(J17*I17,2) -> 0 | L17: =ROUND(IF(F17="",K17*E17,K17*F17),2) -> 0
G18: Work associated with tower foundations for various type of towers
G19: Excavation in various types of soils
A20: 5 | E20: 0.18 | G20: Normal soil | H20: Cu.m. | I20: 165.112 | K20: =ROUND(J20*I20,2) -> 0 | L20: =ROUND(IF(F20="",K20*E20,K20*F20),2) -> 0
A21: 6 | E21: 0.18 | G21: wet soil | H21: Cu.m. | I21: 1486.004 | K21: =ROUND(J21*I21,2) -> 0 | L21: =ROUND(IF(F21="",K21*E21,K21*F21),2) -> 0 | M21: =IF($P$9<>$P$8,IF(OR(J21="",J21=0),"Included in other item",""),"") -> Included in other item
G22: CONCRETING (INCLUDING ALL ASSOCIATED WORKS RELATED TO FOUNDATION NOT COVERED IN 5.1 & 5.3) | M22: =IF($P$9<>$P$8,IF(OR(J22="",J22=0),"Included in other item",""),"") -> Included in other item
A23: 7 | E23: 0.18 | G23: Concreting (1:1.5:3) | H23: Cu.m. | I23: 81.808 | K23: =ROUND(J23*I23,2) -> 0 | L23: =ROUND(IF(F23="",K23*E23,K23*F23),2) -> 0
A24: 8 | E24: 0.18 | G24: Lean Concrete (1:3:6) | H24: Cu.m. | I24: 24.776 | K24: =ROUND(J24*I24,2) -> 0 | L24: =ROUND(IF(F24="",K24*E24,K24*F24),2) -> 0
A25: 9 | E25: 0.18 | G25: Reinforcement Cement Concrete (RCC-M25) | H25: Cu.m. | I25: 81.808 | K25: =ROUND(J25*I25,2) -> 0 | L25: =ROUND(IF(F25="",K25*E25,K25*F25),2) -> 0 | M25: =IF($P$9<>$P$8,IF(OR(J25="",J25=0),"Included in other item",""),"") -> Included in other item
G26: REINFORCEMENT STEEL
A27: 10 | E27: 0.18 | G27: Supply, transportation and placement | H27: MT | I27: 8.989 | K27: =ROUND(J27*I27,2) -> 0 | L27: =ROUND(IF(F27="",K27*E27,K27*F27),2) -> 0
A28: 11 | E28: 0.18 | G28: Installation of 400 kV S/C Stub including bolts, nuts, washers etc. | H28: MT | I28: 1.661 | K28: =ROUND(J28*I28,2) -> 0 | L28: =ROUND(IF(F28="",K28*E28,K28*F28),2) -> 0
G29: Installation of earthing of towers
A30: 12 | E30: 0.18 | G30: Pipe Type | H30: No. | I30: 2 | K30: =ROUND(J30*I30,2) -> 0 | L30: =ROUND(IF(F30="",K30*E30,K30*F30),2) -> 0
A31: 13 | E31: 0.18 | G31: CP Type | H31: No. | I31: 2 | K31: =ROUND(J31*I31,2) -> 0 | L31: =ROUND(IF(F31="",K31*E31,K31*F31),2) -> 0
G32: Installation of tower accessories
A33: 14 | E33: 0.18 | G33: Danger Plate | H33: No. | I33: 4 | K33: =ROUND(J33*I33,2) -> 0 | L33: =ROUND(IF(F33="",K33*E33,K33*F33),2) -> 0
A34: =A33+1 -> 15 | E34: 0.18 | G34: Number Plate | H34: No. | I34: 4 | K34: =ROUND(J34*I34,2) -> 0 | L34: =ROUND(IF(F34="",K34*E34,K34*F34),2) -> 0
A35: =A34+1 -> 16 | E35: 0.18 | G35: Phase Plate (Set of three) | H35: Set | I35: 4 | K35: =ROUND(J35*I35,2) -> 0 | L35: =ROUND(IF(F35="",K35*E35,K35*F35),2) -> 0
A36: =A35+1 -> 17 | E36: 0.18 | G36: Anti-Climbing Devices | H36: No. | I36: 4 | K36: =ROUND(J36*I36,2) -> 0 | L36: =ROUND(IF(F36="",K36*E36,K36*F36),2) -> 0
G37: Installation of insulator strings complete with arcing horns & necessary hardware, installing and stringing of conductor including fixing of conductor accessories, installing & stringing of earth wire &OPGW including fixing of earth wire/OPGW accessories.
A38: 18 | E38: 0.18 | G38: 400KV S/C transmission line | H38: km. | I38: 1.39 | K38: =ROUND(J38*I38,2) -> 0 | L38: =ROUND(IF(F38="",K38*E38,K38*F38),2) -> 0
G39: Installation of OPGW
A40: 19 | E40: 0.18 | G40: Installation of Joint Box for 24F OPGW. | H40: No. | I40: 2 | K40: =ROUND(J40*I40,2) -> 0 | L40: =ROUND(IF(F40="",K40*E40,K40*F40),2) -> 0
...

Sheet Schedule-III-Summary
A1: ='Name of Bidder'!B1 -> Diversion of following Lines to facilitate the construction of Railway BG line from Ginigera to Raichur by SWR,Hubli under Raichur TLM in SR-1 (Deposit work On Behalf of SWR): A) 400 kV RTPS-Munirabad S/C Line (Loc No: 147-151) B) 765 kV Raichur-Kurnool Ckt-01 S/C Line (Loc No: 305-308)
A2: ='Name of Bidder'!B2 -> SPEC. NO.: SR-I/C&M/WC-4740/2026/Rfx-xxx
A3: (GRAND SUMMARY)
A4: Bidder’s Name and Address (Sole Bidder) : | C4: To:
A5: Name : | B5: ='Schedule-I'!D4 -> 0 | C5: Contract Services
A6: Address : | B6: ='Schedule-I'!D6 -> 0 | C6: Power Grid Corporation of India Ltd.,
B7: ='Schedule-I'!D7 -> 0 | C7: Southern Region Transmission system -I
B8: ='Schedule-I'!D8 -> Whether SAC in column ‘2’ is confirmed. If not indicate applicable the SAC # | C8: Kavadiguda Main Raod, Secunderabad - 500080
A9: Sl. No. | B9: Description | D9: Total Price (INR)
A10: 1.1 | B10: TOTAL SCHEDULE NO. I
B11: ='Schedule-I'!A2 -> Schedule-I: Ex-Works Supply of Plant and Machinery including Freight and Insurance from within India | D11: =IF('Schedule-I'!L99=0,"Not Quoted",'Schedule-I'!L99+'Schedule-I'!M99) -> Not Quoted
A12: 1.2 | B12: TOTAL SCHEDULE NO. II
B13: ='Schedule-II'!A2 -> Schedule-II : Installataion Charges | D13: =IF('Schedule-II'!K73=0,"Not Quoted",'Schedule-II'!K73) -> Not Quoted
A14: 1.3 | B14: GST
B15: GST on Schedulre-I | D15: =IF('Schedule-I'!N99=0,"Not quoted",'Schedule-I'!N99) -> Not quoted
B16: GST on Schedule-II | D16: =IF('Schedule-II'!K73=0,"Not Quoted",'Schedule-II'!L73) -> Not Quoted
A18: 1 | B18: Total Bid Price excluding GST | D18: =IF(OR(D11="Not Quoted",D13="Not Quoted"),"Non Responsive",D11+D13) -> Non Responsive
A21: 2 | B21: Total GST | D21: =IF(D18="Non Responsive","Non Responsive", SUM(D15:D16)) -> Non Responsive
A23: 3 | B23: GRAND TOTAL including GST | D23: =IF(D18="Non Responsive","Non Responsive", SUM(D18:D21)) -> Non Responsive
A26: Date : | B26: ='Name of Bidder'!D19 -> 0 | C26: Printed Name : | D26: ='Name of Bidder'!D16 -> 0
A27: Place : | B27: ='Name of Bidder'!D20 -> 0 | C27: Designation : | D27: ='Name of Bidder'!D17 -> 0

Sheet Bid Form
A1: ='Schedule-III-Summary'!A2:D2 -> SPEC. NO.: SR-I/C&M/WC-4740/2026/Rfx-xxx | F1: Bid Form 2nd Envelope
A3: BID FORM (Second Envelope)
A5: Bid Proposal Ref. No.
A6: Date : | B6: ='Name of Bidder'!D19 -> 0
A8: To:
A9: Contract Services
A10: Power Grid Corporation of India Ltd.,
A11: Southern Region Transmission System-I
A15: Name of Contract : | C15: ='Name of Bidder'!B1 -> Diversion of following Lines to facilitate the construction of Railway BG line from Ginigera to Raichur by SWR,Hubli under Raichur TLM in SR-1 (Deposit work On Behalf of SWR): A) 400 kV RTPS-Munirabad S/C Line (Loc No: 147-151) B) 765 kV Raichur-Kurnool Ckt-01 S/C Line (Loc No: 305-308)
A16: Dear Ladies and/or Gentlemen,
A17: 1 | B17: =V17 &X17 & Y17 & W17 -> In continuation of First Envelope of our Bid, we hereby submit the Second Envelope of the Bid, both of which shall be read together and in conjunction with each other, and shall be construed as an integral part of our Bid. Accordingly, we the undersigned, offer to undertake the above-named package in full conformity with the said Bidding Documents for the sum of Rs. Non Responsive /- only or such other sums as may be determined in accordance with the terms and conditions of the Bidding Documents. | V17: In continuation of First Envelope of our Bid, we hereby submit the Second Envelope of the Bid, both of which shall be read together and in conjunction with each other, and shall be construed as an integral part of our Bid. Accordingly, we the undersigned, offer to undertake the above-named package in full conformity with the said Bidding Documents for the sum of Rs. | W17: /- only or such other sums as may be determined in accordance with the terms and conditions of the Bidding Documents. | X17: ='Schedule-III-Summary'!D23 -> Non Responsive
B18: The above amounts are in accordance with the price schedules attached herewith and are made part of this bid.
A19: 2 | B19: Price Schedules
A20: 2.1 | B20: In line with the requirements of the Bidding documents, we enclose herewith the following Price Schedules, duly filled - in as per your proforma:
B21: Sch-1 | C21: Ex-Works Supply of Plant and Machinery including Freight and Insurance from within India
B22: Sch-2 | C22: Installataion Charges
B23: Sch-3 | C23: Grand Summary
A25: 2.2 | B25: We are aware that the Price Schedules do not generally give a full description of the Work to be performed under each item and we shall be deemed to have read the Technical Specifications and other sections of the Bidding Documents and Drawings to ascertain the full scope of Work included in each item while filling-in the rates and prices. We agree that the entered rates and prices shall be deemed to include for the full scope as aforesaid, including overheads and profit.
A26: 2.3 | B26: We declare that as specified in Clause 4.6, ITB, Vol.-IA of the Bidding Documents, the prices of all the Services to be supplied under this contract shall be FIRM and doesnot subject to any price adjustment as per relevant clauses in bidding document.
A27: 2.4 | B27: We understand that in the price schedules, where there are errors between the total of the amounts given under the column for the price Breakdown and the amount given under the Total Price, the former shall prevail and the latter will be corrected accordingly. We further understand that where there are discrepancies between amounts stated in figures and amounts stated in words, the amount stated in words shall prevail. Similarly, any discrepancy in the total bid price and that of the summation of Schedule price (price indicated in a Schedule indicating the total of that schedule), the total bid price shall be corrected to reflect the actual summation of the Schedule prices.
A28: 3 | B28: We confirm that except as otherwise specifically provided our Bid Prices in this Second Envelope include all taxes, duties, levies and charges as may be assessed on us/our Associate (applicable for Foreign Bidder), our Sub-Contractor/Sub-Vendor or their employees by all municipal, state or national government authorities in connection with the Facilities, in and outside of India.
A29: 3.1 | B29: 100% of applicable Taxes and Duties i.e GST , which are payable by the Employer under the Contract, shall be reimbursed by the Employer on production of satisfactory documentary evidence by the Contractor in accordance with the provisions of the Bidding Documents.
A30: 3.2 | B30: We further understand that notwithstanding 3.0 above, in case of award on us, you shall also bear and pay/reimburse to us, GST applicable on Installation Services specified in Schedule No. I & II of the Price Schedule in this Second Envelope, by the Indian Laws.
A31: 3.3 | B31: We confirm that we have also registered/we shall also get registered in the GST Network with a GSTIN, in all the states where the project is located and the states from which we shall make our supply of goods.
A32: 4 | B32: # (For Joint Venture only) We, the partners of Joint Venture submitting this bid, do agree and confirm that in case of Award of Contract on the Joint Venture, we shall be jointly and severally liable and responsible for the execution of the Contract in accordance with Contract terms and conditions.
A33: 5 | B33: We, hereby, declare that only the persons or firms interested in this proposal as principals are named here and that no other persons or firms other than those mentioned herein have any interest in this proposal or in the Contract to be entered into, if the award is made on us, that this proposal is made without any connection with any other person, firm or party likewise submitting a proposal is in all respects for and in good faith, without collusion or fraud.
B34: =IF(ISERROR("Dated this " & AC6 & LOOKUP(AC6,AA1:AA27,AB1:AB27) & " day of " & AC8 & " " &AC9), "", "Dated this " & AC6 & LOOKUP(AC6,AA1:AA27,AB1:AB27) & " day of " & AC8 & " " &AC9)
B35: Thanking you, we remain,
F36: Yours faithfully,
F37: ="For and on behalf of " & 'Schedule-I'!D4 -> For and on behalf of 0
A39: Date : | B39: ='Name of Bidder'!D19 -> 0 | E39: Printed Name : | F39: ='Name of Bidder'!D16 -> 0
A40: Place : | B40: ='Name of Bidder'!D20 -> 0 | E40: Designation : | F40: ='Name of Bidder'!D17 -> 0
A42: Please provide additional information of the Bidder
A43: Business Address :
A46: Country of Incorporation :
A47: State/Province to be indicated :
A48: Name of Principal Officer :
A49: Address of Principal Officer :
A52: ="Note: Bidders may note that no prescribed proforma has been enclosed for Attachment 2 : Power of Attorney. Bidders may use their own proforma for furnishing the required information with the bid." -> Note: Bidders may note that no prescribed proforma has been enclosed for Attachment 2 : Power of Attorney. Bidders may use their own proforma for furnishing the required information with the bid.
A53: * * *
